Back to Multiple platform build/check report for BioC 3.17: simplified long |
|
This page was generated on 2023-10-16 11:35:39 -0400 (Mon, 16 Oct 2023).
Hostname | OS | Arch (*) | R version | Installed pkgs |
---|---|---|---|---|
nebbiolo1 | Linux (Ubuntu 22.04.2 LTS) | x86_64 | 4.3.1 (2023-06-16) -- "Beagle Scouts" | 4626 |
palomino3 | Windows Server 2022 Datacenter | x64 | 4.3.1 (2023-06-16 ucrt) -- "Beagle Scouts" | 4379 |
merida1 | macOS 12.6.4 Monterey | x86_64 | 4.3.1 (2023-06-16) -- "Beagle Scouts" | 4395 |
Click on any hostname to see more info about the system (e.g. compilers) (*) as reported by 'uname -p', except on Windows and Mac OS X |
Package 1599/2230 | Hostname | OS / Arch | INSTALL | BUILD | CHECK | BUILD BIN | ||||||||
qpgraph 2.34.2 (landing page) Robert Castelo
| nebbiolo1 | Linux (Ubuntu 22.04.2 LTS) / x86_64 | OK | OK | OK | ![]() | ||||||||
palomino3 | Windows Server 2022 Datacenter / x64 | OK | OK | OK | OK | ![]() | ||||||||
merida1 | macOS 12.6.4 Monterey / x86_64 | OK | OK | OK | OK | ![]() | ||||||||
kjohnson2 | macOS 12.6.1 Monterey / arm64 | see weekly results here | ||||||||||||
To the developers/maintainers of the qpgraph package: - Allow up to 24 hours (and sometimes 48 hours) for your latest push to git@git.bioconductor.org:packages/qpgraph.git to reflect on this report. See Troubleshooting Build Report for more information. - Use the following Renviron settings to reproduce errors and warnings. - If 'R CMD check' started to fail recently on the Linux builder(s) over a missing dependency, add the missing dependency to 'Suggests:' in your DESCRIPTION file. See Renviron.bioc for more information. |
Package: qpgraph |
Version: 2.34.2 |
Command: /home/biocbuild/bbs-3.17-bioc/R/bin/R CMD check --install=check:qpgraph.install-out.txt --library=/home/biocbuild/bbs-3.17-bioc/R/site-library --timings qpgraph_2.34.2.tar.gz |
StartedAt: 2023-10-16 00:07:48 -0400 (Mon, 16 Oct 2023) |
EndedAt: 2023-10-16 00:15:19 -0400 (Mon, 16 Oct 2023) |
EllapsedTime: 451.5 seconds |
RetCode: 0 |
Status: OK |
CheckDir: qpgraph.Rcheck |
Warnings: 0 |
############################################################################## ############################################################################## ### ### Running command: ### ### /home/biocbuild/bbs-3.17-bioc/R/bin/R CMD check --install=check:qpgraph.install-out.txt --library=/home/biocbuild/bbs-3.17-bioc/R/site-library --timings qpgraph_2.34.2.tar.gz ### ############################################################################## ############################################################################## * using log directory ‘/home/biocbuild/bbs-3.17-bioc/meat/qpgraph.Rcheck’ * using R version 4.3.1 (2023-06-16) * using platform: x86_64-pc-linux-gnu (64-bit) * R was compiled by gcc (Ubuntu 11.3.0-1ubuntu1~22.04.1) 11.3.0 GNU Fortran (Ubuntu 11.3.0-1ubuntu1~22.04.1) 11.3.0 * running under: Ubuntu 22.04.3 LTS * using session charset: UTF-8 * checking for file ‘qpgraph/DESCRIPTION’ ... OK * this is package ‘qpgraph’ version ‘2.34.2’ * checking package namespace information ... OK * checking package dependencies ... OK * checking if this is a source package ... OK * checking if there is a namespace ... OK * checking for hidden files and directories ... OK * checking for portable file names ... OK * checking for sufficient/correct file permissions ... OK * checking whether package ‘qpgraph’ can be installed ... OK * used C compiler: ‘gcc (Ubuntu 11.4.0-1ubuntu1~22.04) 11.4.0’ * checking installed package size ... OK * checking package directory ... OK * checking ‘build’ directory ... OK * checking DESCRIPTION meta-information ... OK * checking top-level files ... OK * checking for left-over files ... OK * checking index information ... OK * checking package subdirectories ... OK * checking R files for non-ASCII characters ... OK * checking R files for syntax errors ... OK * checking whether the package can be loaded ... OK * checking whether the package can be loaded with stated dependencies ... OK * checking whether the package can be unloaded cleanly ... OK * checking whether the namespace can be loaded with stated dependencies ... OK * checking whether the namespace can be unloaded cleanly ... OK * checking loading without being on the library search path ... OK * checking startup messages can be suppressed ... OK * checking dependencies in R code ... OK * checking S3 generic/method consistency ... OK * checking replacement functions ... OK * checking foreign function calls ... OK * checking R code for possible problems ... OK * checking Rd files ... OK * checking Rd metadata ... OK * checking Rd cross-references ... OK * checking for missing documentation entries ... OK * checking for code/documentation mismatches ... OK * checking Rd \usage sections ... OK * checking Rd contents ... OK * checking for unstated dependencies in examples ... OK * checking contents of ‘data’ directory ... OK * checking data for non-ASCII characters ... OK * checking LazyData ... OK * checking data for ASCII and uncompressed saves ... OK * checking line endings in shell scripts ... OK * checking line endings in C/C++/Fortran sources/headers ... OK * checking line endings in Makefiles ... OK * checking compilation flags in Makevars ... OK * checking for GNU extensions in Makefiles ... OK * checking for portable use of $(BLAS_LIBS) and $(LAPACK_LIBS) ... OK * checking use of PKG_*FLAGS in Makefiles ... OK * checking compiled code ... NOTE Note: information on .o files is not available * checking installed files from ‘inst/doc’ ... OK * checking files in ‘vignettes’ ... OK * checking examples ... OK * checking for unstated dependencies in ‘tests’ ... OK * checking tests ... Running ‘runTests.R’ OK * checking for unstated dependencies in vignettes ... OK * checking package vignettes in ‘inst/doc’ ... OK * checking running R code from vignettes ... ‘eQTLnetworks.Rnw’... OK ‘qpTxRegNet.Rnw’... OK ‘qpgraphSimulate.Rnw’... OK OK * checking re-building of vignette outputs ... OK * checking PDF version of manual ... OK * DONE Status: 1 NOTE See ‘/home/biocbuild/bbs-3.17-bioc/meat/qpgraph.Rcheck/00check.log’ for details.
qpgraph.Rcheck/00install.out
############################################################################## ############################################################################## ### ### Running command: ### ### /home/biocbuild/bbs-3.17-bioc/R/bin/R CMD INSTALL qpgraph ### ############################################################################## ############################################################################## * installing to library ‘/home/biocbuild/bbs-3.17-bioc/R/site-library’ * installing *source* package ‘qpgraph’ ... ** using staged installation checking for gcc... gcc checking for C compiler default output file name... a.out checking whether the C compiler works... yes checking whether we are cross compiling... no checking for suffix of executables... checking for suffix of object files... o checking whether we are using the GNU C compiler... yes checking whether gcc accepts -g... yes checking for gcc option to accept ANSI C... none needed checking build system type... x86_64-pc-linux-gnu checking host system type... x86_64-pc-linux-gnu configure: creating ./config.status config.status: creating src/Makevars ** libs using C compiler: ‘gcc (Ubuntu 11.4.0-1ubuntu1~22.04) 11.4.0’ gcc -I"/home/biocbuild/bbs-3.17-bioc/R/include" -DNDEBUG -I/usr/local/include -DUSE_FC_LEN_T -I/usr/local/include -g -O2 -Wall -Wall -pedantic -fpic -g -O2 -Wall -c cliquer.c -o cliquer.o gcc -I"/home/biocbuild/bbs-3.17-bioc/R/include" -DNDEBUG -I/usr/local/include -DUSE_FC_LEN_T -I/usr/local/include -g -O2 -Wall -Wall -pedantic -fpic -g -O2 -Wall -c graph.c -o graph.o gcc -I"/home/biocbuild/bbs-3.17-bioc/R/include" -DNDEBUG -I/usr/local/include -DUSE_FC_LEN_T -I/usr/local/include -g -O2 -Wall -Wall -pedantic -fpic -g -O2 -Wall -c qpgraph.c -o qpgraph.o qpgraph.c:24: warning: "USE_FC_LEN_T" redefined 24 | #define USE_FC_LEN_T | <command-line>: note: this is the location of the previous definition gcc -I"/home/biocbuild/bbs-3.17-bioc/R/include" -DNDEBUG -I/usr/local/include -DUSE_FC_LEN_T -I/usr/local/include -g -O2 -Wall -Wall -pedantic -fpic -g -O2 -Wall -c reorder.c -o reorder.o gcc -shared -L/home/biocbuild/bbs-3.17-bioc/R/lib -L/usr/local/lib -o qpgraph.so cliquer.o graph.o qpgraph.o reorder.o -llapack -L/home/biocbuild/bbs-3.17-bioc/R/lib -lRblas -lgfortran -lm -lquadmath -L/home/biocbuild/bbs-3.17-bioc/R/lib -lR installing to /home/biocbuild/bbs-3.17-bioc/R/site-library/00LOCK-qpgraph/00new/qpgraph/libs ** R ** data *** moving datasets to lazyload DB ** inst ** byte-compile and prepare package for lazy loading Creating a generic function for ‘det’ from package ‘Matrix’ in package ‘qpgraph’ ** help *** installing help indices ** building package indices ** installing vignettes ** testing if installed package can be loaded from temporary location ** checking absolute paths in shared objects and dynamic libraries ** testing if installed package can be loaded from final location ** testing if installed package keeps a record of temporary installation path * DONE (qpgraph)
qpgraph.Rcheck/tests/runTests.Rout
R version 4.3.1 (2023-06-16) -- "Beagle Scouts" Copyright (C) 2023 The R Foundation for Statistical Computing Platform: x86_64-pc-linux-gnu (64-bit) R is free software and comes with ABSOLUTELY NO WARRANTY. You are welcome to redistribute it under certain conditions. Type 'license()' or 'licence()' for distribution details. R is a collaborative project with many contributors. Type 'contributors()' for more information and 'citation()' on how to cite R or R packages in publications. Type 'demo()' for some demos, 'help()' for on-line help, or 'help.start()' for an HTML browser interface to help. Type 'q()' to quit R. > BiocGenerics:::testPackage("qpgraph") Using t tests for zero partial regression coefficients. Using exact likelihood ratio tests. RUNIT TEST PROTOCOL -- Mon Oct 16 00:12:36 2023 *********************************************** Number of test functions: 3 Number of errors: 0 Number of failures: 0 1 Test Suite : qpgraph RUnit Tests - 3 test functions, 0 errors, 0 failures Number of test functions: 3 Number of errors: 0 Number of failures: 0 > > proc.time() user system elapsed 14.344 1.136 15.468
qpgraph.Rcheck/qpgraph-Ex.timings
name | user | system | elapsed | |
EcoliOxygen | 0.002 | 0.000 | 0.003 | |
filterCollinearities | 0.051 | 0.016 | 0.068 | |
qpAllCItests | 0.196 | 0.000 | 0.196 | |
qpAnyGraph | 0.072 | 0.004 | 0.077 | |
qpAvgNrr | 1.281 | 0.003 | 1.284 | |
qpBoundary | 0.236 | 0.016 | 0.252 | |
qpCItest | 0.085 | 0.008 | 0.093 | |
qpClique | 0.235 | 0.006 | 0.240 | |
qpCliqueNumber | 1.005 | 0.081 | 1.087 | |
qpCov | 0.047 | 0.004 | 0.052 | |
qpEdgeNrr | 0.056 | 0.000 | 0.056 | |
qpFunctionalCoherence | 0.000 | 0.000 | 0.001 | |
qpG2Sigma | 0.005 | 0.000 | 0.005 | |
qpGenNrr | 0.409 | 0.004 | 0.413 | |
qpGetCliques | 0.237 | 0.016 | 0.253 | |
qpGraphDensity | 0.243 | 0.012 | 0.255 | |
qpHTF | 0.054 | 0.000 | 0.054 | |
qpHist | 0.166 | 0.000 | 0.166 | |
qpIPF | 0.091 | 0.000 | 0.090 | |
qpK2ParCor | 0.031 | 0.000 | 0.031 | |
qpNrr | 0.115 | 0.000 | 0.115 | |
qpPAC | 0.230 | 0.000 | 0.231 | |
qpPCC | 0.055 | 0.000 | 0.055 | |
qpPRscoreThreshold | 0.111 | 0.000 | 0.111 | |
qpPathWeight | 0.045 | 0.004 | 0.049 | |
qpPlotMap | 0.022 | 0.000 | 0.023 | |
qpPlotNetwork | 0.000 | 0.000 | 0.001 | |
qpPrecisionRecall | 0.153 | 0.000 | 0.153 | |
qpRndGraph | 0.007 | 0.000 | 0.007 | |
qpRndWishart | 0.007 | 0.000 | 0.008 | |
qpTopPairs | 0.000 | 0.003 | 0.003 | |
qpUnifRndAssociation | 0.003 | 0.000 | 0.004 | |
qpUpdateCliquesRemoving | 0.001 | 0.000 | 0.001 | |