| Back to Multiple platform build/check report for BioC 3.17: simplified long |
|
This page was generated on 2023-05-16 11:06:41 -0400 (Tue, 16 May 2023).
| Hostname | OS | Arch (*) | R version | Installed pkgs |
|---|---|---|---|---|
| nebbiolo1 | Linux (Ubuntu 22.04.2 LTS) | x86_64 | 4.3.0 RC (2023-04-13 r84269) -- "Already Tomorrow" | 4617 |
| palomino3 | Windows Server 2022 Datacenter | x64 | 4.3.0 RC (2023-04-13 r84269 ucrt) -- "Already Tomorrow" | 4365 |
| merida1 | macOS 12.6.4 Monterey | x86_64 | 4.3.0 RC (2023-04-13 r84257) -- "Already Tomorrow" | 4325 |
| Click on any hostname to see more info about the system (e.g. compilers) (*) as reported by 'uname -p', except on Windows and Mac OS X | ||||
|
To the developers/maintainers of the plotGrouper package: - Allow up to 24 hours (and sometimes 48 hours) for your latest push to git@git.bioconductor.org:packages/plotGrouper.git to reflect on this report. See Troubleshooting Build Report for more information. - Use the following Renviron settings to reproduce errors and warnings. Note: If "R CMD check" recently failed on the Linux builder over a missing dependency, add the missing dependency to "Suggests" in your DESCRIPTION file. See the Renviron.bioc for details. |
| Package 1532/2229 | Hostname | OS / Arch | INSTALL | BUILD | CHECK | BUILD BIN | ||||||||
| plotGrouper 1.18.0 (landing page) John D. Gagnon
| nebbiolo1 | Linux (Ubuntu 22.04.2 LTS) / x86_64 | OK | OK | OK | |||||||||
| palomino3 | Windows Server 2022 Datacenter / x64 | OK | OK | WARNINGS | OK | |||||||||
| merida1 | macOS 12.6.4 Monterey / x86_64 | OK | OK | OK | OK | |||||||||
| Package: plotGrouper |
| Version: 1.18.0 |
| Command: rm -rf plotGrouper.buildbin-libdir && mkdir plotGrouper.buildbin-libdir && F:\biocbuild\bbs-3.17-bioc\R\bin\R.exe CMD INSTALL --build --library=plotGrouper.buildbin-libdir plotGrouper_1.18.0.tar.gz |
| StartedAt: 2023-05-16 09:38:30 -0400 (Tue, 16 May 2023) |
| EndedAt: 2023-05-16 09:38:45 -0400 (Tue, 16 May 2023) |
| EllapsedTime: 15.0 seconds |
| RetCode: 0 |
| Status: OK |
| PackageFile: plotGrouper_1.18.0.zip |
| PackageFileSize: 370.2 KiB |
############################################################################## ############################################################################## ### ### Running command: ### ### rm -rf plotGrouper.buildbin-libdir && mkdir plotGrouper.buildbin-libdir && F:\biocbuild\bbs-3.17-bioc\R\bin\R.exe CMD INSTALL --build --library=plotGrouper.buildbin-libdir plotGrouper_1.18.0.tar.gz ### ############################################################################## ############################################################################## * installing *source* package 'plotGrouper' ... ** using staged installation ** R ** inst ** byte-compile and prepare package for lazy loading ** help *** installing help indices ** building package indices ** installing vignettes ** testing if installed package can be loaded from temporary location ** testing if installed package can be loaded from final location ** testing if installed package keeps a record of temporary installation path * MD5 sums packaged installation of 'plotGrouper' as plotGrouper_1.18.0.zip * DONE (plotGrouper)