Back to Multiple platform build/check report for BioC 3.17: simplified long |
|
This page was generated on 2023-10-16 11:36:27 -0400 (Mon, 16 Oct 2023).
Hostname | OS | Arch (*) | R version | Installed pkgs |
---|---|---|---|---|
nebbiolo1 | Linux (Ubuntu 22.04.2 LTS) | x86_64 | 4.3.1 (2023-06-16) -- "Beagle Scouts" | 4626 |
palomino3 | Windows Server 2022 Datacenter | x64 | 4.3.1 (2023-06-16 ucrt) -- "Beagle Scouts" | 4379 |
merida1 | macOS 12.6.4 Monterey | x86_64 | 4.3.1 (2023-06-16) -- "Beagle Scouts" | 4395 |
Click on any hostname to see more info about the system (e.g. compilers) (*) as reported by 'uname -p', except on Windows and Mac OS X |
Package 1491/2230 | Hostname | OS / Arch | INSTALL | BUILD | CHECK | BUILD BIN | ||||||||
peakPantheR 1.14.0 (landing page) Arnaud Wolfer
| nebbiolo1 | Linux (Ubuntu 22.04.2 LTS) / x86_64 | OK | OK | OK | ![]() | ||||||||
palomino3 | Windows Server 2022 Datacenter / x64 | OK | OK | OK | OK | ![]() | ||||||||
merida1 | macOS 12.6.4 Monterey / x86_64 | OK | OK | OK | OK | ![]() | ||||||||
kjohnson2 | macOS 12.6.1 Monterey / arm64 | see weekly results here | ||||||||||||
To the developers/maintainers of the peakPantheR package: - Allow up to 24 hours (and sometimes 48 hours) for your latest push to git@git.bioconductor.org:packages/peakPantheR.git to reflect on this report. See Troubleshooting Build Report for more information. - Use the following Renviron settings to reproduce errors and warnings. - If 'R CMD check' started to fail recently on the Linux builder(s) over a missing dependency, add the missing dependency to 'Suggests:' in your DESCRIPTION file. See Renviron.bioc for more information. |
Package: peakPantheR |
Version: 1.14.0 |
Command: F:\biocbuild\bbs-3.17-bioc\R\bin\R.exe CMD check --no-multiarch --install=check:peakPantheR.install-out.txt --library=F:\biocbuild\bbs-3.17-bioc\R\library --no-vignettes --timings peakPantheR_1.14.0.tar.gz |
StartedAt: 2023-10-16 05:12:18 -0400 (Mon, 16 Oct 2023) |
EndedAt: 2023-10-16 05:28:10 -0400 (Mon, 16 Oct 2023) |
EllapsedTime: 951.6 seconds |
RetCode: 0 |
Status: OK |
CheckDir: peakPantheR.Rcheck |
Warnings: 0 |
############################################################################## ############################################################################## ### ### Running command: ### ### F:\biocbuild\bbs-3.17-bioc\R\bin\R.exe CMD check --no-multiarch --install=check:peakPantheR.install-out.txt --library=F:\biocbuild\bbs-3.17-bioc\R\library --no-vignettes --timings peakPantheR_1.14.0.tar.gz ### ############################################################################## ############################################################################## * using log directory 'F:/biocbuild/bbs-3.17-bioc/meat/peakPantheR.Rcheck' * using R version 4.3.1 (2023-06-16 ucrt) * using platform: x86_64-w64-mingw32 (64-bit) * R was compiled by gcc.exe (GCC) 12.2.0 GNU Fortran (GCC) 12.2.0 * running under: Windows Server 2022 x64 (build 20348) * using session charset: UTF-8 * using option '--no-vignettes' * checking for file 'peakPantheR/DESCRIPTION' ... OK * this is package 'peakPantheR' version '1.14.0' * package encoding: UTF-8 * checking package namespace information ... OK * checking package dependencies ... OK * checking if this is a source package ... OK * checking if there is a namespace ... OK * checking for hidden files and directories ... OK * checking for portable file names ... OK * checking whether package 'peakPantheR' can be installed ... OK * checking installed package size ... OK * checking package directory ... OK * checking 'build' directory ... OK * checking DESCRIPTION meta-information ... OK * checking top-level files ... OK * checking for left-over files ... OK * checking index information ... OK * checking package subdirectories ... OK * checking R files for non-ASCII characters ... OK * checking R files for syntax errors ... OK * checking whether the package can be loaded ... OK * checking whether the package can be loaded with stated dependencies ... OK * checking whether the package can be unloaded cleanly ... OK * checking whether the namespace can be loaded with stated dependencies ... OK * checking whether the namespace can be unloaded cleanly ... OK * checking startup messages can be suppressed ... OK * checking dependencies in R code ... OK * checking S3 generic/method consistency ... OK * checking replacement functions ... OK * checking foreign function calls ... OK * checking R code for possible problems ... OK * checking Rd files ... OK * checking Rd metadata ... OK * checking Rd cross-references ... OK * checking for missing documentation entries ... OK * checking for code/documentation mismatches ... OK * checking Rd \usage sections ... OK * checking Rd contents ... OK * checking for unstated dependencies in examples ... OK * checking files in 'vignettes' ... OK * checking examples ... OK Examples with CPU (user + system) or elapsed time > 5s user system elapsed peakPantheR_ROIStatistics 16.50 0.37 16.88 peakPantheR_parallelAnnotation 12.91 0.16 13.06 outputAnnotationResult-peakPantheRAnnotation-method 11.97 0.11 12.08 outputAnnotationDiagnostic-peakPantheRAnnotation-method 11.97 0.06 12.23 EICs-peakPantheRAnnotation-method 8.39 0.47 9.17 retentionTimeCorrection-peakPantheRAnnotation-method 8.44 0.14 8.61 * checking for unstated dependencies in 'tests' ... OK * checking tests ... Running 'testthat.R' OK * checking for unstated dependencies in vignettes ... OK * checking package vignettes in 'inst/doc' ... OK * checking running R code from vignettes ... SKIPPED * checking re-building of vignette outputs ... SKIPPED * checking PDF version of manual ... OK * DONE Status: OK
peakPantheR.Rcheck/00install.out
############################################################################## ############################################################################## ### ### Running command: ### ### F:\biocbuild\bbs-3.17-bioc\R\bin\R.exe CMD INSTALL peakPantheR ### ############################################################################## ############################################################################## * installing to library 'F:/biocbuild/bbs-3.17-bioc/R/library' * installing *source* package 'peakPantheR' ... ** using staged installation ** R ** inst ** byte-compile and prepare package for lazy loading ** help *** installing help indices *** copying figures ** building package indices ** installing vignettes ** testing if installed package can be loaded from temporary location ** testing if installed package can be loaded from final location ** testing if installed package keeps a record of temporary installation path * DONE (peakPantheR)
peakPantheR.Rcheck/tests/testthat.Rout
R version 4.3.1 (2023-06-16 ucrt) -- "Beagle Scouts" Copyright (C) 2023 The R Foundation for Statistical Computing Platform: x86_64-w64-mingw32/x64 (64-bit) R is free software and comes with ABSOLUTELY NO WARRANTY. You are welcome to redistribute it under certain conditions. Type 'license()' or 'licence()' for distribution details. R is a collaborative project with many contributors. Type 'contributors()' for more information and 'citation()' on how to cite R or R packages in publications. Type 'demo()' for some demos, 'help()' for on-line help, or 'help.start()' for an HTML browser interface to help. Type 'q()' to quit R. > library(testthat) > library(peakPantheR) This is peakPantheR version 1.14.0 > > test_check("peakPantheR") [ FAIL 0 | WARN 0 | SKIP 0 | PASS 1438 ] Warning messages: 1: In .Internal(gc(verbose, reset, full)) : closing unused connection 10 (F:\biocbuild\bbs-3.17-bioc\tmpdir\RtmpYhrtn2\notValidXML.mzML) 2: In .Internal(gc(verbose, reset, full)) : closing unused connection 9 (F:\biocbuild\bbs-3.17-bioc\tmpdir\RtmpYhrtn2\notValidXML.mzML) 3: In .Internal(gc(verbose, reset, full)) : closing unused connection 8 (F:\biocbuild\bbs-3.17-bioc\tmpdir\RtmpYhrtn2\notValidXML.mzML) 4: In .Internal(gc(verbose, reset, full)) : closing unused connection 7 (F:\biocbuild\bbs-3.17-bioc\tmpdir\RtmpYhrtn2\notValidXML.mzML) 5: In .Internal(gc(verbose, reset, full)) : closing unused connection 6 (F:\biocbuild\bbs-3.17-bioc\R\library\peakPantheR\extdata\test_fakemzML.mzML) 6: In .Internal(gc(verbose, reset, full)) : closing unused connection 5 (F:\biocbuild\bbs-3.17-bioc\R\library\peakPantheR\extdata\test_fakemzML.mzML) > > proc.time() user system elapsed 624.51 7.10 790.85
peakPantheR.Rcheck/peakPantheR-Ex.timings
name | user | system | elapsed | |
EICs-peakPantheRAnnotation-method | 8.39 | 0.47 | 9.17 | |
FIR-peakPantheRAnnotation-method | 0.16 | 0.03 | 0.18 | |
ROI-peakPantheRAnnotation-method | 0.16 | 0.02 | 0.17 | |
TIC-peakPantheRAnnotation-method | 0.16 | 0.02 | 0.17 | |
acquisitionTime-peakPantheRAnnotation-method | 0.15 | 0.03 | 0.19 | |
annotationDiagnosticPlots-peakPantheRAnnotation-method | 0.83 | 0.03 | 0.86 | |
annotationParamsDiagnostic-peakPantheRAnnotation-method | 0.14 | 0.02 | 0.16 | |
annotationTable-peakPantheRAnnotation-method | 0.14 | 0.03 | 0.18 | |
annotation_diagnostic_multiplot_UI_helper | 0.11 | 0.00 | 0.11 | |
annotation_fit_summary_UI_helper | 0 | 0 | 0 | |
annotation_showMethod_UI_helper | 0.02 | 0.00 | 0.02 | |
annotation_showText_UI_helper | 0 | 0 | 0 | |
cpdID-peakPantheRAnnotation-method | 0.14 | 0.05 | 0.18 | |
cpdMetadata-peakPantheRAnnotation-method | 0.21 | 0.01 | 0.22 | |
cpdName-peakPantheRAnnotation-method | 0.17 | 0.02 | 0.19 | |
dataPoints-peakPantheRAnnotation-method | 0.19 | 0.03 | 0.21 | |
filename-peakPantheRAnnotation-method | 0.17 | 0.02 | 0.19 | |
filepath-peakPantheRAnnotation-method | 0.14 | 0.04 | 0.19 | |
initialise_annotation_from_files_UI_helper | 0.03 | 0.00 | 0.03 | |
isAnnotated-peakPantheRAnnotation-method | 0.17 | 0.05 | 0.22 | |
load_annotation_from_file_UI_helper | 0.02 | 0.00 | 0.02 | |
nbCompounds-peakPantheRAnnotation-method | 0.12 | 0.06 | 0.18 | |
nbSamples-peakPantheRAnnotation-method | 0.17 | 0.02 | 0.19 | |
outputAnnotationDiagnostic-peakPantheRAnnotation-method | 11.97 | 0.06 | 12.23 | |
outputAnnotationFeatureMetadata_UI_helper | 0.00 | 0.02 | 0.02 | |
outputAnnotationParamsCSV-peakPantheRAnnotation-method | 0.01 | 0.00 | 0.01 | |
outputAnnotationResult-peakPantheRAnnotation-method | 11.97 | 0.11 | 12.08 | |
outputAnnotationSpectraMetadata_UI_helper | 0.02 | 0.00 | 0.02 | |
peakFit-peakPantheRAnnotation-method | 0.17 | 0.00 | 0.17 | |
peakPantheRAnnotation | 0.2 | 0.0 | 0.2 | |
peakPantheR_ROIStatistics | 16.50 | 0.37 | 16.88 | |
peakPantheR_loadAnnotationParamsCSV | 0.02 | 0.00 | 0.01 | |
peakPantheR_parallelAnnotation | 12.91 | 0.16 | 13.06 | |
peakPantheR_plotEICFit | 0.40 | 0.03 | 0.44 | |
peakPantheR_plotPeakwidth | 0.66 | 0.00 | 0.66 | |
peakPantheR_singleFileSearch | 4.28 | 0.11 | 4.39 | |
peakPantheR_start_GUI | 0 | 0 | 0 | |
peakTables-peakPantheRAnnotation-method | 0.22 | 0.00 | 0.22 | |
resetAnnotation-peakPantheRAnnotation-method | 0.29 | 0.01 | 0.31 | |
resetFIR-peakPantheRAnnotation-method | 0 | 0 | 0 | |
retentionTimeCorrection-peakPantheRAnnotation-method | 8.44 | 0.14 | 8.61 | |
spectraMetadata-peakPantheRAnnotation-method | 0.16 | 0.04 | 0.19 | |
spectraPaths_and_metadata_UI_helper | 0.00 | 0.01 | 0.01 | |
spectra_metadata_colourScheme_UI_helper | 0.02 | 0.00 | 0.02 | |
uROI-peakPantheRAnnotation-method | 0.17 | 0.03 | 0.20 | |
uROIExist-peakPantheRAnnotation-method | 0.20 | 0.03 | 0.24 | |
useFIR-peakPantheRAnnotation-method | 0.18 | 0.02 | 0.20 | |
useUROI-peakPantheRAnnotation-method | 0.19 | 0.00 | 0.19 | |