| Back to Multiple platform build/check report for BioC 3.17: simplified long | 
 | 
This page was generated on 2023-10-16 11:35:36 -0400 (Mon, 16 Oct 2023).
| Hostname | OS | Arch (*) | R version | Installed pkgs | 
|---|---|---|---|---|
| nebbiolo1 | Linux (Ubuntu 22.04.2 LTS) | x86_64 | 4.3.1 (2023-06-16) -- "Beagle Scouts" | 4626 | 
| palomino3 | Windows Server 2022 Datacenter | x64 | 4.3.1 (2023-06-16 ucrt) -- "Beagle Scouts" | 4379 | 
| merida1 | macOS 12.6.4 Monterey | x86_64 | 4.3.1 (2023-06-16) -- "Beagle Scouts" | 4395 | 
| Click on any hostname to see more info about the system (e.g. compilers) (*) as reported by 'uname -p', except on Windows and Mac OS X | ||||
| Package 1481/2230 | Hostname | OS / Arch | INSTALL | BUILD | CHECK | BUILD BIN | ||||||||
| pathwayPCA 1.16.1  (landing page) Gabriel Odom 
 | nebbiolo1 | Linux (Ubuntu 22.04.2 LTS) / x86_64 | OK | OK | OK |  | ||||||||
| palomino3 | Windows Server 2022 Datacenter / x64 | OK | OK | OK | OK |  | ||||||||
| merida1 | macOS 12.6.4 Monterey / x86_64 | OK | OK | OK | OK |  | ||||||||
| kjohnson2 | macOS 12.6.1 Monterey / arm64 | see weekly results here | ||||||||||||
| To the developers/maintainers of the pathwayPCA package: - Allow up to 24 hours (and sometimes 48 hours) for your latest push to git@git.bioconductor.org:packages/pathwayPCA.git to reflect on this report. See Troubleshooting Build Report for more information. - Use the following Renviron settings to reproduce errors and warnings. - If 'R CMD check' started to fail recently on the Linux builder(s) over a missing dependency, add the missing dependency to 'Suggests:' in your DESCRIPTION file. See Renviron.bioc for more information. | 
| Package: pathwayPCA | 
| Version: 1.16.1 | 
| Command: /home/biocbuild/bbs-3.17-bioc/R/bin/R CMD check --install=check:pathwayPCA.install-out.txt --library=/home/biocbuild/bbs-3.17-bioc/R/site-library --timings pathwayPCA_1.16.1.tar.gz | 
| StartedAt: 2023-10-15 23:44:30 -0400 (Sun, 15 Oct 2023) | 
| EndedAt: 2023-10-15 23:51:40 -0400 (Sun, 15 Oct 2023) | 
| EllapsedTime: 429.6 seconds | 
| RetCode: 0 | 
| Status: OK | 
| CheckDir: pathwayPCA.Rcheck | 
| Warnings: 0 | 
##############################################################################
##############################################################################
###
### Running command:
###
###   /home/biocbuild/bbs-3.17-bioc/R/bin/R CMD check --install=check:pathwayPCA.install-out.txt --library=/home/biocbuild/bbs-3.17-bioc/R/site-library --timings pathwayPCA_1.16.1.tar.gz
###
##############################################################################
##############################################################################
* using log directory ‘/home/biocbuild/bbs-3.17-bioc/meat/pathwayPCA.Rcheck’
* using R version 4.3.1 (2023-06-16)
* using platform: x86_64-pc-linux-gnu (64-bit)
* R was compiled by
    gcc (Ubuntu 11.3.0-1ubuntu1~22.04.1) 11.3.0
    GNU Fortran (Ubuntu 11.3.0-1ubuntu1~22.04.1) 11.3.0
* running under: Ubuntu 22.04.3 LTS
* using session charset: UTF-8
* checking for file ‘pathwayPCA/DESCRIPTION’ ... OK
* checking extension type ... Package
* this is package ‘pathwayPCA’ version ‘1.16.1’
* package encoding: UTF-8
* checking package namespace information ... OK
* checking package dependencies ... OK
* checking if this is a source package ... OK
* checking if there is a namespace ... OK
* checking for hidden files and directories ... OK
* checking for portable file names ... OK
* checking for sufficient/correct file permissions ... OK
* checking whether package ‘pathwayPCA’ can be installed ... OK
* checking installed package size ... OK
* checking package directory ... OK
* checking ‘build’ directory ... OK
* checking DESCRIPTION meta-information ... OK
* checking top-level files ... OK
* checking for left-over files ... OK
* checking index information ... OK
* checking package subdirectories ... OK
* checking R files for non-ASCII characters ... OK
* checking R files for syntax errors ... OK
* checking whether the package can be loaded ... OK
* checking whether the package can be loaded with stated dependencies ... OK
* checking whether the package can be unloaded cleanly ... OK
* checking whether the namespace can be loaded with stated dependencies ... OK
* checking whether the namespace can be unloaded cleanly ... OK
* checking loading without being on the library search path ... OK
* checking dependencies in R code ... OK
* checking S3 generic/method consistency ... OK
* checking replacement functions ... OK
* checking foreign function calls ... OK
* checking R code for possible problems ... OK
* checking Rd files ... OK
* checking Rd metadata ... OK
* checking Rd cross-references ... OK
* checking for missing documentation entries ... OK
* checking for code/documentation mismatches ... OK
* checking Rd \usage sections ... OK
* checking Rd contents ... OK
* checking for unstated dependencies in examples ... OK
* checking contents of ‘data’ directory ... OK
* checking data for non-ASCII characters ... OK
* checking data for ASCII and uncompressed saves ... OK
* checking files in ‘vignettes’ ... OK
* checking examples ... OK
Examples with CPU (user + system) or elapsed time > 5s
                user system elapsed
SE2Tidy        9.391  0.349   9.740
LoadOntoPCs    0.599  0.097   8.119
ExtractAESPCs  0.580  0.089   7.881
getPathPCLs    0.641  0.027  19.209
getPathpVals   0.565  0.022  14.457
AESPCA_pVals   0.322  0.053   7.363
SuperPCA_pVals 0.285  0.039  11.775
* checking for unstated dependencies in ‘tests’ ... OK
* checking tests ...
  Running ‘testthat.R’
 OK
* checking for unstated dependencies in vignettes ... OK
* checking package vignettes in ‘inst/doc’ ... OK
* checking running R code from vignettes ...
  ‘Introduction_to_pathwayPCA.Rmd’ using ‘UTF-8’... OK
  ‘Supplement1-Quickstart_Guide.Rmd’ using ‘UTF-8’... OK
  ‘Supplement2-Importing_Data.Rmd’ using ‘UTF-8’... OK
  ‘Supplement3-Create_Omics_Objects.Rmd’ using ‘UTF-8’... OK
  ‘Supplement4-Methods_Walkthrough.Rmd’ using ‘UTF-8’... OK
  ‘Supplement5-Analyse_Results.Rmd’ using ‘UTF-8’... OK
 NONE
* checking re-building of vignette outputs ... OK
* checking PDF version of manual ... OK
* DONE
Status: OK
pathwayPCA.Rcheck/00install.out
############################################################################## ############################################################################## ### ### Running command: ### ### /home/biocbuild/bbs-3.17-bioc/R/bin/R CMD INSTALL pathwayPCA ### ############################################################################## ############################################################################## * installing to library ‘/home/biocbuild/bbs-3.17-bioc/R/site-library’ * installing *source* package ‘pathwayPCA’ ... ** using staged installation ** R ** data ** inst ** byte-compile and prepare package for lazy loading ** help *** installing help indices ** building package indices ** installing vignettes ** testing if installed package can be loaded from temporary location ** testing if installed package can be loaded from final location ** testing if installed package keeps a record of temporary installation path * DONE (pathwayPCA)
pathwayPCA.Rcheck/tests/testthat.Rout
R version 4.3.1 (2023-06-16) -- "Beagle Scouts"
Copyright (C) 2023 The R Foundation for Statistical Computing
Platform: x86_64-pc-linux-gnu (64-bit)
R is free software and comes with ABSOLUTELY NO WARRANTY.
You are welcome to redistribute it under certain conditions.
Type 'license()' or 'licence()' for distribution details.
R is a collaborative project with many contributors.
Type 'contributors()' for more information and
'citation()' on how to cite R or R packages in publications.
Type 'demo()' for some demos, 'help()' for on-line help, or
'help.start()' for an HTML browser interface to help.
Type 'q()' to quit R.
> library(testthat)
> library(pathwayPCA)
> 
> test_check("pathwayPCA")
[ FAIL 0 | WARN 0 | SKIP 0 | PASS 47 ]
> 
> proc.time()
   user  system elapsed 
 25.502   1.250  88.493 
pathwayPCA.Rcheck/pathwayPCA-Ex.timings
| name | user | system | elapsed | |
| AESPCA_pVals | 0.322 | 0.053 | 7.363 | |
| CheckAssay | 0.000 | 0.000 | 0.001 | |
| CheckPwyColl | 0.001 | 0.000 | 0.000 | |
| CheckSampleIDs | 0.000 | 0.000 | 0.001 | |
| Contains | 0.000 | 0.001 | 0.001 | |
| ControlFDR | 0.000 | 0.001 | 0.000 | |
| CreateOmics | 0.517 | 0.243 | 0.761 | |
| CreateOmicsPathway | 0.287 | 0.000 | 0.287 | |
| CreatePathwayCollection | 0.013 | 0.000 | 0.013 | |
| ExtractAESPCs | 0.580 | 0.089 | 7.881 | |
| GumbelMixpValues | 0.001 | 0.000 | 0.001 | |
| IntersectOmicsPwyCollct | 0.001 | 0.000 | 0.001 | |
| JoinPhenoAssay | 0 | 0 | 0 | |
| LoadOntoPCs | 0.599 | 0.097 | 8.119 | |
| OptimGumbelMixParams | 0.000 | 0.000 | 0.001 | |
| PathwaytValues | 0.000 | 0.001 | 0.001 | |
| PermTestCateg | 0.000 | 0.001 | 0.001 | |
| PermTestReg | 0.001 | 0.000 | 0.000 | |
| PermTestSurv | 0.001 | 0.000 | 0.001 | |
| SE2Tidy | 9.391 | 0.349 | 9.740 | |
| SubsetPathwayCollection | 0.003 | 0.000 | 0.003 | |
| SubsetPathwayData | 0.237 | 0.068 | 0.305 | |
| SuperPCA_pVals | 0.285 | 0.039 | 11.775 | |
| TabulatepValues | 0.001 | 0.000 | 0.001 | |
| TransposeAssay | 0.082 | 0.040 | 0.170 | |
| WhichPathways | 0.007 | 0.004 | 0.011 | |
| aespca | 0.000 | 0.000 | 0.001 | |
| coxTrain_fun | 0.001 | 0.000 | 0.001 | |
| getPathPCLs | 0.641 | 0.027 | 19.209 | |
| getPathpVals | 0.565 | 0.022 | 14.457 | |
| get_set_OmicsPathway | 1.304 | 0.877 | 2.247 | |
| get_set_OmicsRegCateg | 0.429 | 0.008 | 0.441 | |
| get_set_OmicsSurv | 0.717 | 0.036 | 0.753 | |
| glmTrain_fun | 0.000 | 0.000 | 0.001 | |
| lars.lsa | 0.000 | 0.000 | 0.001 | |
| mysvd | 0.000 | 0.000 | 0.001 | |
| normalize | 0 | 0 | 0 | |
| olsTrain_fun | 0 | 0 | 0 | |
| pathway_tControl | 0.000 | 0.001 | 0.001 | |
| pathway_tScores | 0.000 | 0.000 | 0.001 | |
| permuteSamps | 0.001 | 0.000 | 0.001 | |
| print.pathwayCollection | 0.008 | 0.000 | 0.007 | |
| read_gmt | 0.142 | 0.003 | 0.147 | |
| show-OmicsPathway-method | 0.643 | 0.005 | 0.647 | |
| superpc.st | 0.001 | 0.000 | 0.001 | |
| superpc.train | 0.001 | 0.000 | 0.000 | |
| write_gmt | 0.005 | 0.000 | 0.005 | |