Back to Multiple platform build/check report for BioC 3.17:   simplified   long
ABCDEFGHIJKLMN[O]PQRSTUVWXYZ

This page was generated on 2023-03-16 11:06:21 -0400 (Thu, 16 Mar 2023).

HostnameOSArch (*)R versionInstalled pkgs
nebbiolo1Linux (Ubuntu 22.04.1 LTS)x86_64R Under development (unstable) (2023-01-10 r83596) -- "Unsuffered Consequences" 4540
palomino3Windows Server 2022 Datacenterx64R Under development (unstable) (2023-01-10 r83596 ucrt) -- "Unsuffered Consequences" 4302
merida1macOS 10.14.6 Mojavex86_64R Under development (unstable) (2023-01-10 r83596) -- "Unsuffered Consequences" 4330
Click on any hostname to see more info about the system (e.g. compilers)      (*) as reported by 'uname -p', except on Windows and Mac OS X

CHECK results for omada on palomino3


To the developers/maintainers of the omada package:
- Please allow up to 24 hours (and sometimes 48 hours) for your latest push to git@git.bioconductor.org:packages/omada.git to
reflect on this report. See How and When does the builder pull? When will my changes propagate? for more information.
- Make sure to use the following settings in order to reproduce any error or warning you see on this page.

raw results

Package 1391/2189HostnameOS / ArchINSTALLBUILDCHECKBUILD BIN
omada 1.1.0  (landing page)
Sokratis Kariotis
Snapshot Date: 2023-03-15 14:00:15 -0400 (Wed, 15 Mar 2023)
git_url: https://git.bioconductor.org/packages/omada
git_branch: master
git_last_commit: ef8f09a
git_last_commit_date: 2022-11-01 11:27:27 -0400 (Tue, 01 Nov 2022)
nebbiolo1Linux (Ubuntu 22.04.1 LTS) / x86_64  OK    OK    OK  UNNEEDED, same version is already published
palomino3Windows Server 2022 Datacenter / x64  OK    OK    OK    OK  UNNEEDED, same version is already published
merida1macOS 10.14.6 Mojave / x86_64  OK    OK    OK    OK  UNNEEDED, same version is already published

Summary

Package: omada
Version: 1.1.0
Command: F:\biocbuild\bbs-3.17-bioc\R\bin\R.exe CMD check --no-multiarch --install=check:omada.install-out.txt --library=F:\biocbuild\bbs-3.17-bioc\R\library --no-vignettes --timings omada_1.1.0.tar.gz
StartedAt: 2023-03-16 04:19:00 -0400 (Thu, 16 Mar 2023)
EndedAt: 2023-03-16 04:30:34 -0400 (Thu, 16 Mar 2023)
EllapsedTime: 694.5 seconds
RetCode: 0
Status:   OK  
CheckDir: omada.Rcheck
Warnings: 0

Command output

##############################################################################
##############################################################################
###
### Running command:
###
###   F:\biocbuild\bbs-3.17-bioc\R\bin\R.exe CMD check --no-multiarch --install=check:omada.install-out.txt --library=F:\biocbuild\bbs-3.17-bioc\R\library --no-vignettes --timings omada_1.1.0.tar.gz
###
##############################################################################
##############################################################################


* using log directory 'F:/biocbuild/bbs-3.17-bioc/meat/omada.Rcheck'
* using R Under development (unstable) (2023-01-10 r83596 ucrt)
* using platform: x86_64-w64-mingw32 (64-bit)
* R was compiled by
    gcc.exe (GCC) 12.2.0
    GNU Fortran (GCC) 12.2.0
* running under: Windows Server x64 (build 20348)
* using session charset: UTF-8
* using option '--no-vignettes'
* checking for file 'omada/DESCRIPTION' ... OK
* checking extension type ... Package
* this is package 'omada' version '1.1.0'
* package encoding: UTF-8
* checking package namespace information ... OK
* checking package dependencies ... NOTE
Depends: includes the non-default packages:
  'pdfCluster', 'kernlab', 'fpc', 'Rcpp', 'diceR', 'ggplot2',
  'reshape', 'clusterCrit', 'clValid', 'glmnet', 'dplyr'
Adding so many packages to the search path is excessive and importing
selectively is preferable.
* checking if this is a source package ... OK
* checking if there is a namespace ... OK
* checking for hidden files and directories ... OK
* checking for portable file names ... OK
* checking whether package 'omada' can be installed ... OK
* checking installed package size ... OK
* checking package directory ... OK
* checking 'build' directory ... OK
* checking DESCRIPTION meta-information ... OK
* checking top-level files ... NOTE
File
  LICENSE
is not mentioned in the DESCRIPTION file.
* checking for left-over files ... OK
* checking index information ... OK
* checking package subdirectories ... OK
* checking R files for non-ASCII characters ... OK
* checking R files for syntax errors ... OK
* checking whether the package can be loaded ... OK
* checking whether the package can be loaded with stated dependencies ... OK
* checking whether the package can be unloaded cleanly ... OK
* checking whether the namespace can be loaded with stated dependencies ... OK
* checking whether the namespace can be unloaded cleanly ... OK
* checking dependencies in R code ... NOTE
Packages in Depends field not imported from:
  'Rcpp' 'clusterCrit' 'glmnet' 'kernlab' 'reshape'
  These packages need to be imported from (in the NAMESPACE file)
  for when this namespace is loaded but not attached.
* checking S3 generic/method consistency ... OK
* checking replacement functions ... OK
* checking foreign function calls ... OK
* checking R code for possible problems ... NOTE
clusterVoting: no visible binding for global variable 'k'
clusterVoting: no visible binding for global variable 'Frequency'
clusteringMethodSelection: no visible binding for global variable
  'value'
clusteringMethodSelection: no visible binding for global variable
  'methods'
featureSelection: no visible binding for global variable 'featureSet'
featureSelection: no visible binding for global variable 'means'
geneSignatures: no visible global function definition for 'where'
geneSignatures: no visible binding for global variable 'features'
geneSignatures: no visible binding for global variable 'value'
geneSignatures: no visible binding for global variable 'variable'
Undefined global functions or variables:
  Frequency featureSet features k means methods value variable where
Consider adding
  importFrom("utils", "methods")
to your NAMESPACE file.
* checking Rd files ... OK
* checking Rd metadata ... OK
* checking Rd cross-references ... OK
* checking for missing documentation entries ... OK
* checking for code/documentation mismatches ... OK
* checking Rd \usage sections ... OK
* checking Rd contents ... OK
* checking for unstated dependencies in examples ... OK
* checking contents of 'data' directory ... OK
* checking data for non-ASCII characters ... OK
* checking LazyData ... OK
* checking data for ASCII and uncompressed saves ... OK
* checking files in 'vignettes' ... OK
* checking examples ... OK
Examples with CPU (user + system) or elapsed time > 5s
                                                  user system elapsed
get_feature_selection_optimal_number_of_features 43.87   0.33   44.21
get_feature_selection_scores                     40.86   0.20   41.07
get_partition_agreement_scores                   31.75   0.09   31.85
get_signature_feature_coefs                      29.60   0.22   29.89
get_sample_memberships                           29.64   0.16   29.79
get_cluster_voting_memberships                   29.47   0.24   29.70
get_cluster_voting_metric_votes                  28.94   0.28   29.22
plot_partition_agreement                         28.76   0.07   28.83
get_feature_selection_optimal_features           28.33   0.27   28.61
get_cluster_voting_k_votes                       27.98   0.28   28.27
plot_signature_feature                           28.08   0.18   28.28
get_cluster_voting_scores                        28.07   0.09   28.20
plot_feature_selection                           26.66   0.20   26.86
plot_cluster_voting                              21.84   0.13   21.97
omada                                            20.30   0.11   20.48
get_optimal_features                             10.34   0.06   10.41
get_optimal_memberships                          10.06   0.03   10.09
plot_average_stabilities                          9.38   0.03    9.41
get_optimal_stability_score                       9.25   0.08    9.32
get_optimal_number_of_features                    8.91   0.05    8.97
get_optimal_parameter_used                        7.59   0.06    7.66
featureSelection                                  7.11   0.22    7.33
get_average_feature_k_stabilities                 5.95   0.07    6.02
* checking for unstated dependencies in 'tests' ... OK
* checking tests ...
  Running 'testthat.R'
 OK
* checking for unstated dependencies in vignettes ... OK
* checking package vignettes in 'inst/doc' ... OK
* checking running R code from vignettes ... SKIPPED
* checking re-building of vignette outputs ... SKIPPED
* checking PDF version of manual ... OK
* DONE

Status: 4 NOTEs
See
  'F:/biocbuild/bbs-3.17-bioc/meat/omada.Rcheck/00check.log'
for details.



Installation output

omada.Rcheck/00install.out

##############################################################################
##############################################################################
###
### Running command:
###
###   F:\biocbuild\bbs-3.17-bioc\R\bin\R.exe CMD INSTALL omada
###
##############################################################################
##############################################################################


* installing to library 'F:/biocbuild/bbs-3.17-bioc/R/library'
* installing *source* package 'omada' ...
** using staged installation
** R
** data
*** moving datasets to lazyload DB
** inst
** byte-compile and prepare package for lazy loading
** help
*** installing help indices
** building package indices
** installing vignettes
** testing if installed package can be loaded from temporary location
** testing if installed package can be loaded from final location
** testing if installed package keeps a record of temporary installation path
* DONE (omada)

Tests output

omada.Rcheck/tests/testthat.Rout


R Under development (unstable) (2023-01-10 r83596 ucrt) -- "Unsuffered Consequences"
Copyright (C) 2023 The R Foundation for Statistical Computing
Platform: x86_64-w64-mingw32/x64 (64-bit)

R is free software and comes with ABSOLUTELY NO WARRANTY.
You are welcome to redistribute it under certain conditions.
Type 'license()' or 'licence()' for distribution details.

R is a collaborative project with many contributors.
Type 'contributors()' for more information and
'citation()' on how to cite R or R packages in publications.

Type 'demo()' for some demos, 'help()' for on-line help, or
'help.start()' for an HTML browser interface to help.
Type 'q()' to quit R.

> library(testthat)
> library(omada)
Loading required package: pdfCluster
pdfCluster 1.0-4
Loading required package: kernlab
Loading required package: fpc
Loading required package: Rcpp
Loading required package: diceR
Loading required package: ggplot2

Attaching package: 'ggplot2'

The following object is masked from 'package:kernlab':

    alpha

Loading required package: reshape
Loading required package: clusterCrit
Loading required package: clValid
Loading required package: cluster
Loading required package: glmnet
Loading required package: Matrix

Attaching package: 'Matrix'

The following object is masked from 'package:reshape':

    expand

Loaded glmnet 4.1-6
Loading required package: dplyr

Attaching package: 'dplyr'

The following object is masked from 'package:reshape':

    rename

The following object is masked from 'package:pdfCluster':

    groups

The following object is masked from 'package:testthat':

    matches

The following objects are masked from 'package:stats':

    filter, lag

The following objects are masked from 'package:base':

    intersect, setdiff, setequal, union

> 
> test_check("omada")
[ FAIL 0 | WARN 1 | SKIP 0 | PASS 39 ]

[ FAIL 0 | WARN 1 | SKIP 0 | PASS 39 ]
> 
> proc.time()
   user  system elapsed 
  71.60    1.34   73.42 

Example timings

omada.Rcheck/omada-Ex.timings

nameusersystemelapsed
clusterVoting1.830.031.86
clusteringMethodSelection1.000.031.03
feasibilityAnalysis1.470.031.50
feasibilityAnalysisDataBased2.810.193.00
featureSelection7.110.227.33
geneSignatures0.810.040.86
get_agreement_scores0.130.010.14
get_average_feature_k_stabilities5.950.076.02
get_average_stabilities_per_k0.890.000.89
get_average_stability0.890.010.91
get_cluster_memberships_k0.270.000.26
get_cluster_voting_k_votes27.98 0.2828.27
get_cluster_voting_memberships29.47 0.2429.70
get_cluster_voting_metric_votes28.94 0.2829.22
get_cluster_voting_scores28.07 0.0928.20
get_coefficient_dataset0.490.000.49
get_feature_selection_optimal_features28.33 0.2728.61
get_feature_selection_optimal_number_of_features43.87 0.3344.21
get_feature_selection_scores40.86 0.2041.07
get_generated_dataset2.880.062.93
get_internal_metric_scores0.250.020.27
get_max_stability0.810.030.84
get_metric_votes_k0.550.000.55
get_optimal_features10.34 0.0610.41
get_optimal_memberships10.06 0.0310.09
get_optimal_number_of_features8.910.058.97
get_optimal_parameter_used7.590.067.66
get_optimal_stability_score9.250.089.32
get_partition_agreement_scores31.75 0.0931.85
get_sample_memberships29.64 0.1629.79
get_signature_feature_coefs29.60 0.2229.89
get_vote_frequencies_k0.230.000.24
omada20.30 0.1120.48
optimalClustering0.080.000.08
partitionAgreement0.260.010.28
plot_average_stabilities9.380.039.41
plot_cluster_voting21.84 0.1321.97
plot_feature_selection26.66 0.2026.86
plot_partition_agreement28.76 0.0728.83
plot_signature_feature28.08 0.1828.28
plot_top30percent_coefficients0.580.030.61
plot_vote_frequencies0.420.000.42
toy_gene_memberships0.020.000.03
toy_genes000