| Back to Multiple platform build/check report for BioC 3.17: simplified long |
|
This page was generated on 2023-10-16 11:35:34 -0400 (Mon, 16 Oct 2023).
| Hostname | OS | Arch (*) | R version | Installed pkgs |
|---|---|---|---|---|
| nebbiolo1 | Linux (Ubuntu 22.04.2 LTS) | x86_64 | 4.3.1 (2023-06-16) -- "Beagle Scouts" | 4626 |
| palomino3 | Windows Server 2022 Datacenter | x64 | 4.3.1 (2023-06-16 ucrt) -- "Beagle Scouts" | 4379 |
| merida1 | macOS 12.6.4 Monterey | x86_64 | 4.3.1 (2023-06-16) -- "Beagle Scouts" | 4395 |
| Click on any hostname to see more info about the system (e.g. compilers) (*) as reported by 'uname -p', except on Windows and Mac OS X | ||||
| Package 1374/2230 | Hostname | OS / Arch | INSTALL | BUILD | CHECK | BUILD BIN | ||||||||
| netDx 1.12.0 (landing page) Shraddha Pai
| nebbiolo1 | Linux (Ubuntu 22.04.2 LTS) / x86_64 | OK | OK | OK | |||||||||
| palomino3 | Windows Server 2022 Datacenter / x64 | ... NOT SUPPORTED ... | ||||||||||||
| merida1 | macOS 12.6.4 Monterey / x86_64 | OK | ERROR | skipped | skipped | |||||||||
| kjohnson2 | macOS 12.6.1 Monterey / arm64 | see weekly results here | ||||||||||||
|
To the developers/maintainers of the netDx package: - Allow up to 24 hours (and sometimes 48 hours) for your latest push to git@git.bioconductor.org:packages/netDx.git to reflect on this report. See Troubleshooting Build Report for more information. - Use the following Renviron settings to reproduce errors and warnings. - If 'R CMD check' started to fail recently on the Linux builder(s) over a missing dependency, add the missing dependency to 'Suggests:' in your DESCRIPTION file. See Renviron.bioc for more information. |
| Package: netDx |
| Version: 1.12.0 |
| Command: /home/biocbuild/bbs-3.17-bioc/R/bin/R CMD check --install=check:netDx.install-out.txt --library=/home/biocbuild/bbs-3.17-bioc/R/site-library --timings netDx_1.12.0.tar.gz |
| StartedAt: 2023-10-15 23:17:00 -0400 (Sun, 15 Oct 2023) |
| EndedAt: 2023-10-15 23:52:30 -0400 (Sun, 15 Oct 2023) |
| EllapsedTime: 2129.8 seconds |
| RetCode: 0 |
| Status: OK |
| CheckDir: netDx.Rcheck |
| Warnings: 0 |
##############################################################################
##############################################################################
###
### Running command:
###
### /home/biocbuild/bbs-3.17-bioc/R/bin/R CMD check --install=check:netDx.install-out.txt --library=/home/biocbuild/bbs-3.17-bioc/R/site-library --timings netDx_1.12.0.tar.gz
###
##############################################################################
##############################################################################
* using log directory ‘/home/biocbuild/bbs-3.17-bioc/meat/netDx.Rcheck’
* using R version 4.3.1 (2023-06-16)
* using platform: x86_64-pc-linux-gnu (64-bit)
* R was compiled by
gcc (Ubuntu 11.3.0-1ubuntu1~22.04.1) 11.3.0
GNU Fortran (Ubuntu 11.3.0-1ubuntu1~22.04.1) 11.3.0
* running under: Ubuntu 22.04.3 LTS
* using session charset: UTF-8
* checking for file ‘netDx/DESCRIPTION’ ... OK
* this is package ‘netDx’ version ‘1.12.0’
* package encoding: UTF-8
* checking package namespace information ... OK
* checking package dependencies ... OK
* checking if this is a source package ... OK
* checking if there is a namespace ... OK
* checking for hidden files and directories ... NOTE
Found the following hidden files and directories:
.BBSoptions
These were most likely included in error. See section ‘Package
structure’ in the ‘Writing R Extensions’ manual.
* checking for portable file names ... OK
* checking for sufficient/correct file permissions ... OK
* checking whether package ‘netDx’ can be installed ... OK
* checking installed package size ... OK
* checking package directory ... OK
* checking ‘build’ directory ... OK
* checking DESCRIPTION meta-information ... NOTE
Malformed Description field: should contain one or more complete sentences.
* checking top-level files ... OK
* checking for left-over files ... OK
* checking index information ... OK
* checking package subdirectories ... NOTE
Found the following CITATION file in a non-standard place:
CITATION.cff
Most likely ‘inst/CITATION’ should be used instead.
* checking R files for non-ASCII characters ... OK
* checking R files for syntax errors ... OK
* checking whether the package can be loaded ... OK
* checking whether the package can be loaded with stated dependencies ... OK
* checking whether the package can be unloaded cleanly ... OK
* checking whether the namespace can be loaded with stated dependencies ... OK
* checking whether the namespace can be unloaded cleanly ... OK
* checking loading without being on the library search path ... OK
* checking startup messages can be suppressed ... OK
* checking dependencies in R code ... OK
* checking S3 generic/method consistency ... OK
* checking replacement functions ... OK
* checking foreign function calls ... OK
* checking R code for possible problems ... OK
* checking Rd files ... OK
* checking Rd metadata ... OK
* checking Rd cross-references ... OK
* checking for missing documentation entries ... OK
* checking for code/documentation mismatches ... OK
* checking Rd \usage sections ... OK
* checking Rd contents ... OK
* checking for unstated dependencies in examples ... OK
* checking contents of ‘data’ directory ... OK
* checking data for non-ASCII characters ... OK
* checking data for ASCII and uncompressed saves ... OK
* checking files in ‘vignettes’ ... OK
* checking examples ... OK
Examples with CPU (user + system) or elapsed time > 5s
user system elapsed
buildPredictor 20.302 1.535 24.531
createPSN_MultiData 19.316 1.683 32.079
runFeatureSelection 8.069 0.486 4.624
RR_featureTally 7.877 0.592 8.470
smoothMutations_LabelProp 7.267 0.560 28.427
compileFeatures 6.149 0.522 21.871
thresholdSmoothedMutations 4.637 0.520 26.146
enrichLabelNets 2.046 1.087 57.583
getEnr 0.889 0.176 10.181
makePSN_NamedMatrix 0.090 0.004 9.208
countIntType_batch 0.023 0.001 9.096
* checking for unstated dependencies in ‘tests’ ... OK
* checking tests ...
Running ‘testthat.R’
OK
* checking for unstated dependencies in vignettes ... OK
* checking package vignettes in ‘inst/doc’ ... OK
* checking running R code from vignettes ...
‘ThreeWayClassifier.Rmd’ using ‘UTF-8’... OK
NONE
* checking re-building of vignette outputs ... OK
* checking PDF version of manual ... OK
* DONE
Status: 3 NOTEs
See
‘/home/biocbuild/bbs-3.17-bioc/meat/netDx.Rcheck/00check.log’
for details.
netDx.Rcheck/00install.out
############################################################################## ############################################################################## ### ### Running command: ### ### /home/biocbuild/bbs-3.17-bioc/R/bin/R CMD INSTALL netDx ### ############################################################################## ############################################################################## * installing to library ‘/home/biocbuild/bbs-3.17-bioc/R/site-library’ * installing *source* package ‘netDx’ ... ** using staged installation ** R ** data ** inst ** byte-compile and prepare package for lazy loading ** help *** installing help indices ** building package indices ** installing vignettes ** testing if installed package can be loaded from temporary location ** testing if installed package can be loaded from final location ** testing if installed package keeps a record of temporary installation path * DONE (netDx)
netDx.Rcheck/tests/testthat.Rout
R version 4.3.1 (2023-06-16) -- "Beagle Scouts"
Copyright (C) 2023 The R Foundation for Statistical Computing
Platform: x86_64-pc-linux-gnu (64-bit)
R is free software and comes with ABSOLUTELY NO WARRANTY.
You are welcome to redistribute it under certain conditions.
Type 'license()' or 'licence()' for distribution details.
R is a collaborative project with many contributors.
Type 'contributors()' for more information and
'citation()' on how to cite R or R packages in publications.
Type 'demo()' for some demos, 'help()' for on-line help, or
'help.start()' for an HTML browser interface to help.
Type 'q()' to quit R.
> library(testthat)
> library(netDx)
Attaching package: 'netDx'
The following object is masked from 'package:stats':
predict
>
> test_check("netDx")
TT_STATUS
STATUS TEST TRAIN
LumA 52 178
notLumA 52 243
PRED_CLASS
STATUS LumA notLumA
LumA 41 11
notLumA 17 35
[1] TRUE
[ FAIL 0 | WARN 0 | SKIP 0 | PASS 39 ]
>
> proc.time()
user system elapsed
66.564 5.261 234.930
netDx.Rcheck/netDx-Ex.timings
| name | user | system | elapsed | |
| MB.pheno | 0.003 | 0.004 | 0.007 | |
| RR_featureTally | 7.877 | 0.592 | 8.470 | |
| avgNormDiff | 0.044 | 0.004 | 0.048 | |
| buildPredictor | 20.302 | 1.535 | 24.531 | |
| buildPredictor_sparseGenetic | 0.544 | 0.028 | 2.815 | |
| callFeatSel | 0.08 | 0.00 | 0.08 | |
| callOverallSelectedFeatures | 0.081 | 0.020 | 0.101 | |
| cleanPathwayName | 0 | 0 | 0 | |
| cnv_GR | 0.025 | 0.010 | 0.035 | |
| cnv_TTstatus | 0.005 | 0.020 | 0.025 | |
| cnv_netPass | 0.004 | 0.000 | 0.004 | |
| cnv_netScores | 0.004 | 0.020 | 0.024 | |
| cnv_patientNetCount | 0.079 | 0.139 | 0.219 | |
| cnv_pheno | 0.012 | 0.000 | 0.012 | |
| compareShortestPath | 0.015 | 0.008 | 0.023 | |
| compileFeatureScores | 0.006 | 0.004 | 0.010 | |
| compileFeatures | 6.149 | 0.522 | 21.871 | |
| confmat | 0.003 | 0.001 | 0.003 | |
| confusionMatrix | 0.106 | 0.000 | 0.106 | |
| convertToMAE | 0.137 | 0.007 | 0.145 | |
| countIntType | 0.000 | 0.002 | 0.002 | |
| countIntType_batch | 0.023 | 0.001 | 9.096 | |
| countPatientsInNet | 0.002 | 0.000 | 0.002 | |
| createPSN_MultiData | 19.316 | 1.683 | 32.079 | |
| dataList2List | 0.399 | 0.032 | 0.432 | |
| enrichLabelNets | 2.046 | 1.087 | 57.583 | |
| featScores | 0.045 | 0.036 | 0.081 | |
| fetchPathwayDefinitions | 0.346 | 0.052 | 0.649 | |
| genes | 0.003 | 0.000 | 0.003 | |
| getEMapInput | 0.658 | 0.123 | 0.811 | |
| getEMapInput_many | 0.73 | 0.14 | 0.90 | |
| getEnr | 0.889 | 0.176 | 10.181 | |
| getFeatureScores | 0.023 | 0.000 | 0.023 | |
| getFileSep | 0 | 0 | 0 | |
| getGMjar_path | 0.166 | 0.049 | 0.194 | |
| getNetConsensus | 0.012 | 0.000 | 0.012 | |
| getOR | 0.004 | 0.000 | 0.004 | |
| getPatientPredictions | 1.827 | 0.100 | 1.929 | |
| getPatientRankings | 0.101 | 0.000 | 0.102 | |
| getRegionOL | 0.337 | 0.008 | 0.344 | |
| getResults | 0.134 | 0.004 | 0.139 | |
| getSimilarity | 0.198 | 0.016 | 0.214 | |
| makePSN_NamedMatrix | 0.090 | 0.004 | 9.208 | |
| makePSN_RangeSets | 0.019 | 0.004 | 0.024 | |
| makeQueries | 0.010 | 0.004 | 0.013 | |
| makeSymmetric | 0.002 | 0.000 | 0.003 | |
| mapNamedRangesToSets | 0.059 | 0.000 | 0.059 | |
| modelres | 0.004 | 0.000 | 0.003 | |
| normDiff | 0.002 | 0.000 | 0.001 | |
| npheno | 0.003 | 0.000 | 0.002 | |
| pathwayList | 0.002 | 0.006 | 0.007 | |
| pathway_GR | 0.071 | 0.006 | 0.077 | |
| perfCalc | 0.000 | 0.003 | 0.002 | |
| pheno | 0.002 | 0.009 | 0.010 | |
| pheno_full | 0.002 | 0.000 | 0.002 | |
| plotEmap | 0.850 | 0.084 | 1.043 | |
| plotPerf | 1.233 | 0.016 | 1.249 | |
| plotPerf_multi | 0.04 | 0.00 | 0.04 | |
| predRes | 0.004 | 0.000 | 0.004 | |
| predictPatientLabels | 0.008 | 0.000 | 0.008 | |
| pruneNets | 0.007 | 0.004 | 0.011 | |
| randAlphanumString | 0.000 | 0.000 | 0.001 | |
| readPathways | 0.742 | 0.152 | 0.925 | |
| runFeatureSelection | 8.069 | 0.486 | 4.624 | |
| runQuery | 2.592 | 0.242 | 4.129 | |
| setupFeatureDB | 0.074 | 0.004 | 0.078 | |
| silh | 0.001 | 0.002 | 0.003 | |
| sim.eucscale | 0.284 | 0.018 | 0.302 | |
| sim.pearscale | 0.567 | 0.016 | 0.583 | |
| simpleCap | 0.001 | 0.000 | 0.001 | |
| smoothMutations_LabelProp | 7.267 | 0.560 | 28.427 | |
| sparsify2 | 0.866 | 0.175 | 1.041 | |
| sparsify3 | 1.101 | 0.092 | 1.192 | |
| splitTestTrain | 0.024 | 0.000 | 0.024 | |
| splitTestTrain_resampling | 0.006 | 0.000 | 0.005 | |
| tSNEPlotter | 0.937 | 0.079 | 1.016 | |
| thresholdSmoothedMutations | 4.637 | 0.520 | 26.146 | |
| toymodel | 0.962 | 2.127 | 3.090 | |
| updateNets | 0.010 | 0.000 | 0.009 | |
| writeNetsSIF | 0.007 | 0.000 | 0.007 | |
| writeQueryBatchFile | 0.003 | 0.000 | 0.004 | |
| writeQueryFile | 0.007 | 0.000 | 0.006 | |
| xpr | 0.043 | 0.024 | 0.066 | |