Back to Multiple platform build/check report for BioC 3.17: simplified long |
|
This page was generated on 2023-10-14 11:37:13 -0400 (Sat, 14 Oct 2023).
Hostname | OS | Arch (*) | R version | Installed pkgs |
---|---|---|---|---|
nebbiolo1 | Linux (Ubuntu 22.04.2 LTS) | x86_64 | 4.3.1 (2023-06-16) -- "Beagle Scouts" | 4626 |
palomino3 | Windows Server 2022 Datacenter | x64 | 4.3.1 (2023-06-16 ucrt) -- "Beagle Scouts" | 4379 |
merida1 | macOS 12.6.4 Monterey | x86_64 | 4.3.1 (2023-06-16) -- "Beagle Scouts" | 4395 |
Click on any hostname to see more info about the system (e.g. compilers) (*) as reported by 'uname -p', except on Windows and Mac OS X |
Package 1311/2230 | Hostname | OS / Arch | INSTALL | BUILD | CHECK | BUILD BIN | ||||||||
msPurity 1.26.0 (landing page) Thomas N. Lawson
| nebbiolo1 | Linux (Ubuntu 22.04.2 LTS) / x86_64 | OK | OK | OK | |||||||||
palomino3 | Windows Server 2022 Datacenter / x64 | OK | OK | OK | OK | |||||||||
merida1 | macOS 12.6.4 Monterey / x86_64 | OK | OK | OK | OK | |||||||||
kjohnson2 | macOS 12.6.1 Monterey / arm64 | see weekly results here | ||||||||||||
To the developers/maintainers of the msPurity package: - Allow up to 24 hours (and sometimes 48 hours) for your latest push to git@git.bioconductor.org:packages/msPurity.git to reflect on this report. See Troubleshooting Build Report for more information. - Use the following Renviron settings to reproduce errors and warnings. - If 'R CMD check' started to fail recently on the Linux builder(s) over a missing dependency, add the missing dependency to 'Suggests:' in your DESCRIPTION file. See Renviron.bioc for more information. |
Package: msPurity |
Version: 1.26.0 |
Command: /Library/Frameworks/R.framework/Resources/bin/R CMD check --install=check:msPurity.install-out.txt --library=/Library/Frameworks/R.framework/Resources/library --no-vignettes --timings msPurity_1.26.0.tar.gz |
StartedAt: 2023-10-14 04:16:36 -0400 (Sat, 14 Oct 2023) |
EndedAt: 2023-10-14 04:51:52 -0400 (Sat, 14 Oct 2023) |
EllapsedTime: 2115.8 seconds |
RetCode: 0 |
Status: OK |
CheckDir: msPurity.Rcheck |
Warnings: 0 |
############################################################################## ############################################################################## ### ### Running command: ### ### /Library/Frameworks/R.framework/Resources/bin/R CMD check --install=check:msPurity.install-out.txt --library=/Library/Frameworks/R.framework/Resources/library --no-vignettes --timings msPurity_1.26.0.tar.gz ### ############################################################################## ############################################################################## * using log directory ‘/Users/biocbuild/bbs-3.17-bioc/meat/msPurity.Rcheck’ * using R version 4.3.1 (2023-06-16) * using platform: x86_64-apple-darwin20 (64-bit) * R was compiled by Apple clang version 14.0.3 (clang-1403.0.22.14.1) GNU Fortran (GCC) 12.2.0 * running under: macOS Monterey 12.6.4 * using session charset: UTF-8 * using option ‘--no-vignettes’ * checking for file ‘msPurity/DESCRIPTION’ ... OK * checking extension type ... Package * this is package ‘msPurity’ version ‘1.26.0’ * package encoding: UTF-8 * checking package namespace information ... OK * checking package dependencies ... OK * checking if this is a source package ... OK * checking if there is a namespace ... OK * checking for hidden files and directories ... NOTE Found the following hidden files and directories: .travis.yml These were most likely included in error. See section ‘Package structure’ in the ‘Writing R Extensions’ manual. * checking for portable file names ... OK * checking for sufficient/correct file permissions ... OK * checking whether package ‘msPurity’ can be installed ... OK * checking installed package size ... NOTE installed size is 19.6Mb sub-directories of 1Mb or more: extdata 18.8Mb * checking package directory ... OK * checking ‘build’ directory ... OK * checking DESCRIPTION meta-information ... OK * checking top-level files ... OK * checking for left-over files ... OK * checking index information ... OK * checking package subdirectories ... OK * checking R files for non-ASCII characters ... OK * checking R files for syntax errors ... OK * checking whether the package can be loaded ... OK * checking whether the package can be loaded with stated dependencies ... OK * checking whether the package can be unloaded cleanly ... OK * checking whether the namespace can be loaded with stated dependencies ... OK * checking whether the namespace can be unloaded cleanly ... OK * checking dependencies in R code ... NOTE Package in Depends field not imported from: ‘Rcpp’ These packages need to be imported from (in the NAMESPACE file) for when this namespace is loaded but not attached. package 'methods' is used but not declared * checking S3 generic/method consistency ... OK * checking replacement functions ... OK * checking foreign function calls ... OK * checking R code for possible problems ... NOTE addGenericMS1LookupResults: no visible global function definition for ‘count.fields’ addMetFragResults: no visible global function definition for ‘count.fields’ addSiriusResults: no visible global function definition for ‘count.fields’ assessPuritySingle: no visible binding for global variable ‘parallel’ combineAnnotations: no visible binding for global variable ‘compoundDbname’ createDatabase: no visible global function definition for ‘featureValues’ create_database : getxcmsSetObject: no visible global function definition for ‘sampclass<-’ dimsPredictPuritySingleMz: no visible binding for global variable ‘mtchi’ dimsPredictPuritySingleMz: no visible binding for global variable ‘alli’ dimsPredictPuritySingleMz: no visible binding for global variable ‘mtch’ filterPrecursors: no visible binding for global variable ‘l_speakmetaFiltered’ filterSMeta: no visible binding for global variable ‘accession’ filterSMeta: no visible binding for global variable ‘inPurity’ filterSMeta: no visible global function definition for ‘lower’ filterSMeta: no visible binding for global variable ‘polarity’ filterSMeta: no visible binding for global variable ‘instrument_type’ filterSMeta: no visible binding for global variable ‘instrument’ filterSMeta: no visible binding for global variable ‘name.y’ filterSMeta: no visible binding for global variable ‘retention_time’ filterSMeta: no visible binding for global variable ‘grpid’ filterSMeta: no visible binding for global variable ‘pid’ filterSMeta: no visible binding for global variable ‘spectrum_type’ flag_remove: no visible global function definition for ‘PeakDensityParam’ flag_remove: no visible global function definition for ‘chromPeaks<-’ flag_remove: no visible global function definition for ‘chromPeaks’ getScanPeaksSqlite: no visible binding for global variable ‘pid’ getScanPeaksSqlite: no visible binding for global variable ‘library_spectra_meta_id’ getScanPeaksSqlite: no visible binding for global variable ‘pass_flag’ getScanPeaksSqlite: no visible binding for global variable ‘type’ getScanPeaksSqlite: no visible binding for global variable ‘spectraType’ getScanPeaksSqlite: no visible binding for global variable ‘ra’ getSmeta: no visible binding for global variable ‘pid’ get_topn: no visible binding for global variable ‘topn’ matchi: no visible global function definition for ‘match_factor’ plotPurity: no visible binding for global variable ‘idx’ plotPurity: no visible binding for global variable ‘purity’ plotPurity: no visible binding for global variable ‘variable’ purityA: no visible binding for global variable ‘i’ queryVlibrary: no visible binding for global variable ‘precursor_mz’ queryVlibrary: no visible binding for global variable ‘retention_time’ queryVlibrarySingle: no visible binding for global variable ‘pid’ queryVlibrarySingle: no visible binding for global variable ‘library_spectra_meta_id’ sum_calc_peaklist: no visible global function definition for ‘phenoData’ averageSpectra,purityD: no visible binding for global variable ‘i’ subtract,purityD: no visible binding for global variable ‘i’ Undefined global functions or variables: PeakDensityParam accession alli chromPeaks chromPeaks<- compoundDbname count.fields featureValues grpid i idx inPurity instrument instrument_type l_speakmetaFiltered library_spectra_meta_id lower match_factor mtch mtchi name.y parallel pass_flag phenoData pid polarity precursor_mz purity ra retention_time sampclass<- spectraType spectrum_type topn type variable Consider adding importFrom("utils", "count.fields") to your NAMESPACE file. * checking Rd files ... OK * checking Rd metadata ... OK * checking Rd cross-references ... OK * checking for missing documentation entries ... OK * checking for code/documentation mismatches ... OK * checking Rd \usage sections ... OK * checking Rd contents ... OK * checking for unstated dependencies in examples ... OK * checking files in ‘vignettes’ ... OK * checking examples ... OK Examples with CPU (user + system) or elapsed time > 5s user system elapsed createDatabase 443.088 11.464 497.198 frag4feature-purityA-method 404.041 9.046 429.726 flag_remove 71.904 10.596 53.608 dimsPredictPurity-purityD-method 77.900 1.597 101.620 purityX 21.627 6.472 24.463 combineAnnotations 21.375 0.556 27.975 assessPuritySingle 21.448 0.196 27.251 purityA 20.847 0.101 26.661 spectralMatching 13.811 3.312 22.256 groupPeaks-purityD-method 10.093 1.137 14.051 subtract-purityD-method 9.424 1.303 13.606 groupPeaksEx 7.939 0.407 10.083 averageSpectra-purityD-method 5.600 1.262 8.825 filterp-purityD-method 5.938 0.236 7.878 * checking for unstated dependencies in ‘tests’ ... OK * checking tests ... Running ‘testthat.R’ OK * checking for unstated dependencies in vignettes ... OK * checking package vignettes in ‘inst/doc’ ... OK * checking running R code from vignettes ... SKIPPED * checking re-building of vignette outputs ... SKIPPED * checking PDF version of manual ... OK * DONE Status: 4 NOTEs See ‘/Users/biocbuild/bbs-3.17-bioc/meat/msPurity.Rcheck/00check.log’ for details.
msPurity.Rcheck/00install.out
############################################################################## ############################################################################## ### ### Running command: ### ### /Library/Frameworks/R.framework/Resources/bin/R CMD INSTALL msPurity ### ############################################################################## ############################################################################## * installing to library ‘/Library/Frameworks/R.framework/Versions/4.3-x86_64/Resources/library’ * installing *source* package ‘msPurity’ ... ** using staged installation ** R ** inst ** byte-compile and prepare package for lazy loading ** help *** installing help indices ** building package indices ** installing vignettes ** testing if installed package can be loaded from temporary location ** testing if installed package can be loaded from final location ** testing if installed package keeps a record of temporary installation path * DONE (msPurity)
msPurity.Rcheck/tests/testthat.Rout
R version 4.3.1 (2023-06-16) -- "Beagle Scouts" Copyright (C) 2023 The R Foundation for Statistical Computing Platform: x86_64-apple-darwin20 (64-bit) R is free software and comes with ABSOLUTELY NO WARRANTY. You are welcome to redistribute it under certain conditions. Type 'license()' or 'licence()' for distribution details. R is a collaborative project with many contributors. Type 'contributors()' for more information and 'citation()' on how to cite R or R packages in publications. Type 'demo()' for some demos, 'help()' for on-line help, or 'help.start()' for an HTML browser interface to help. Type 'q()' to quit R. > library(testthat) > library(msPurity) Loading required package: Rcpp > Sys.setenv("R_TESTS" = "") > test_check("msPurity") [1] "\n" [1] "########################################################" [1] "## Checking pcalc functions ##" [1] "########################################################" [1] "\n" [1] "########################################################" [1] "## Checking purityA ##" [1] "########################################################" [1] "\n" [1] "########################################################" [1] "## Checking frag4feature ##" [1] "########################################################" [1] "\n" [1] "########################################################" [1] "## Checking frag4feature (fillpeaks) ##" [1] "########################################################" [1] "/Library/Frameworks/R.framework/Versions/4.3-x86_64/Resources/library/msPurity/extdata/tests/xcms/msms_only_xcmsnexp.rds" [1] "/Library/Frameworks/R.framework/Versions/4.3-x86_64/Resources/library/msPurity/extdata/tests/xcms/msms_only_xset.rds" [1] "\n" [1] "########################################################" [1] "## Checking filterFragSpectra ##" [1] "########################################################" [1] "\n" [1] "########################################################" [1] "## Checking averageIntraFragSpectra ##" [1] "########################################################" [1] "\n" [1] "########################################################" [1] "## Checking averageInterFragSpectra ##" [1] "########################################################" [1] "\n" [1] "########################################################" [1] "## Checking averageAllFragSpectra ##" [1] "########################################################" [1] "\n" [1] "########################################################" [1] "## Checking averageIntraFragSpectra (with filter) ##" [1] "########################################################" [1] "\n" [1] "########################################################" [1] "## Checking averageInterFragSpectra (with filter) ##" [1] "########################################################" [1] "\n" [1] "########################################################" [1] "## Checking averageAllFragSpectra (with filter) ##" [1] "########################################################" [1] "\n" [1] "########################################################" [1] "## Checking createMSP functions ##" [1] "########################################################" [1] "\n" [1] "########################################################" [1] "## Checking frag4feature (xcms v2 functions) ##" [1] "########################################################" [1] "\n" [1] "####################################################################" [1] "## Checking frag4feature (fillpeaks) (xcms v2 functions) ##" [1] "####################################################################" [1] "\n" [1] "########################################################" [1] "## Checking filterFragSpectra (xcms v2 functions) ##" [1] "########################################################" [1] "\n" [1] "##############################################################" [1] "## Checking averageIntraFragSpectra (xcms v2 functions) ##" [1] "##############################################################" [1] "\n" [1] "#############################################################" [1] "## Checking averageInterFragSpectra (xcms v2 functions) #" [1] "#############################################################" [1] "\n" [1] "########################################################" [1] "## Checking averageAllFragSpectra (xcms v2 functions) #" [1] "########################################################" [1] "\n" [1] "###########################################################################" [1] "## Checking averageIntraFragSpectra (with filter) (xcms v2 functions) ##" [1] "###########################################################################" [1] "\n" [1] "############################################################################" [1] "## Checking averageInterFragSpectra (with filter) (xcms v2 functions) ##" [1] "############################################################################" [1] "\n" [1] "#########################################################################" [1] "## Checking averageAllFragSpectra (with filter) (xcms v2 functions) ##" [1] "#########################################################################" [1] "\n" [1] "########################################################" [1] "## Checking createMSP functions (xcms v2 functions) ##" [1] "########################################################" [1] "\n" [1] "########################################################" [1] "## checking flag and remove (lc-ms) ##" [1] "########################################################" [1] "\n" [1] "#######################################################" [1] "## Checking database (new schema) ##" [1] "#######################################################" [1] "\n" [1] "###############################################################" [1] "## Checking database (new schema) (xcms v2 functions) ##" [1] "###############################################################" [1] "\n" [1] "########################################################" [1] "## Checking database (old schema) ##" [1] "########################################################" [1] "\n" [1] "########################################################" [1] "## Testing spectral matching (spectralMatching) qvl ##" [1] "########################################################" [1] "\n" [1] "########################################################" [1] "## Testing spectral matching (spectralMatching) lvl ##" [1] "########################################################" [1] "\n" [1] "########################################################" [1] "## Testing spectral matching (spectralMatching) qvq ##" [1] "########################################################" [1] "\n" [1] "#################################################################" [1] "## Testing spectral matching (spectralMatching) q(scan) v q ##" [1] "#################################################################" [1] "\n" [1] "############################################################################" [1] "## Testing spectral matching (spectralMatching) qvl (xcms v2 functions) ##" [1] "############################################################################" [1] "\n" [1] "############################################################################" [1] "## Testing spectral matching (spectralMatching) qvq (xcms v2 functions) ##" [1] "############################################################################" [1] "\n" [1] "######################################################################################" [1] "## Testing spectral matching (spectralMatching) q(scan) v q (xcms v2 functions) ##" [1] "######################################################################################" [1] "\n" [1] "########################################################" [1] "## Checking combine annotations based functions ##" [1] "########################################################" [1] "\n" [1] "########################################################" [1] "## Checking purityX (grouped) ##" [1] "########################################################" [1] "\n" [1] "########################################################" [1] "## Checking purityX (single file) ##" [1] "########################################################" [1] "\n" [1] "########################################################" [1] "## Checking file list function ##" [1] "########################################################" [1] "=== check for using csv ===" [1] "=== check for using mzML ===" [1] "########################################################" [1] "## Check average spectra (function only) ##" [1] "########################################################" [1] "=== check single core ===" [1] "=== check simple clustering ===" [1] "=== check using MsFileReader output (median SNR thres) ===" snmeth: median[1] "=== check using MsFileReader output (precalc SNR thres) ===" snmeth: precalc[1] "########################################################" [1] "## Check mz subtraction (function only) ##" [1] "########################################################" [1] "########################################################" [1] "## Check predict purity (function only) ##" [1] "########################################################" [1] "=== Check predicted purity for mzML files ===" [1] "########################################################" [1] "## Check groupPeaks (function only) ##" [1] "########################################################" [1] "=== check single core ===" [1] "########################################################" [1] "## Check mzML Workflow ##" [1] "########################################################" [1] "averaging spectra" [1] "filtering spectra" [1] "subtracting" [1] "purity prediction" [ FAIL 0 | WARN 0 | SKIP 0 | PASS 306 ] Warning message: call dbDisconnect() when finished working with a connection > > proc.time() user system elapsed 466.136 37.393 640.963
msPurity.Rcheck/msPurity-Ex.timings
name | user | system | elapsed | |
Getfiles | 0.006 | 0.001 | 0.009 | |
assessPuritySingle | 21.448 | 0.196 | 27.251 | |
averageAllFragSpectra-purityA-method | 0.580 | 0.009 | 0.781 | |
averageInterFragSpectra-purityA-method | 0.825 | 0.019 | 1.053 | |
averageIntraFragSpectra-purityA-method | 1.184 | 0.008 | 1.482 | |
averageSpectra-purityD-method | 5.600 | 1.262 | 8.825 | |
averageSpectraSingle | 2.296 | 0.179 | 3.157 | |
combineAnnotations | 21.375 | 0.556 | 27.975 | |
createDatabase | 443.088 | 11.464 | 497.198 | |
createMSP-purityA-method | 0.225 | 0.029 | 0.301 | |
create_database | 2.685 | 0.117 | 3.560 | |
dimsPredictPurity-purityD-method | 77.900 | 1.597 | 101.620 | |
dimsPredictPuritySingle | 0.075 | 0.002 | 0.094 | |
filterFragSpectra-purityA-method | 0.153 | 0.003 | 0.196 | |
filterp-purityD-method | 5.938 | 0.236 | 7.878 | |
flag_remove | 71.904 | 10.596 | 53.608 | |
frag4feature-purityA-method | 404.041 | 9.046 | 429.726 | |
getP-purityD-method | 0.004 | 0.001 | 0.009 | |
get_additional_mzml_meta | 0.037 | 0.002 | 0.046 | |
groupPeaks-purityD-method | 10.093 | 1.137 | 14.051 | |
groupPeaksEx | 7.939 | 0.407 | 10.083 | |
initialize-purityD-method | 0.004 | 0.001 | 0.005 | |
iwNormGauss | 0.002 | 0.001 | 0.006 | |
iwNormQE.5 | 0.002 | 0.001 | 0.002 | |
iwNormRcosine | 0.001 | 0.000 | 0.002 | |
pcalc | 0.008 | 0.001 | 0.009 | |
purityA | 20.847 | 0.101 | 26.661 | |
purityD-class | 0.004 | 0.001 | 0.005 | |
purityX | 21.627 | 6.472 | 24.463 | |
spectralMatching | 13.811 | 3.312 | 22.256 | |
spectral_matching | 0.000 | 0.001 | 0.002 | |
subtract-purityD-method | 9.424 | 1.303 | 13.606 | |
subtractMZ | 0.000 | 0.000 | 0.001 | |