Back to Multiple platform build/check report for BioC 3.17: simplified long |
|
This page was generated on 2023-10-16 11:37:13 -0400 (Mon, 16 Oct 2023).
Hostname | OS | Arch (*) | R version | Installed pkgs |
---|---|---|---|---|
nebbiolo1 | Linux (Ubuntu 22.04.2 LTS) | x86_64 | 4.3.1 (2023-06-16) -- "Beagle Scouts" | 4626 |
palomino3 | Windows Server 2022 Datacenter | x64 | 4.3.1 (2023-06-16 ucrt) -- "Beagle Scouts" | 4379 |
merida1 | macOS 12.6.4 Monterey | x86_64 | 4.3.1 (2023-06-16) -- "Beagle Scouts" | 4395 |
Click on any hostname to see more info about the system (e.g. compilers) (*) as reported by 'uname -p', except on Windows and Mac OS X |
Package 1166/2230 | Hostname | OS / Arch | INSTALL | BUILD | CHECK | BUILD BIN | ||||||||
metabinR 1.2.0 (landing page) Anestis Gkanogiannis
| nebbiolo1 | Linux (Ubuntu 22.04.2 LTS) / x86_64 | OK | OK | OK | ![]() | ||||||||
palomino3 | Windows Server 2022 Datacenter / x64 | OK | OK | OK | OK | ![]() | ||||||||
merida1 | macOS 12.6.4 Monterey / x86_64 | OK | OK | OK | OK | ![]() | ||||||||
kjohnson2 | macOS 12.6.1 Monterey / arm64 | see weekly results here | ||||||||||||
To the developers/maintainers of the metabinR package: - Allow up to 24 hours (and sometimes 48 hours) for your latest push to git@git.bioconductor.org:packages/metabinR.git to reflect on this report. See Troubleshooting Build Report for more information. - Use the following Renviron settings to reproduce errors and warnings. - If 'R CMD check' started to fail recently on the Linux builder(s) over a missing dependency, add the missing dependency to 'Suggests:' in your DESCRIPTION file. See Renviron.bioc for more information. |
Package: metabinR |
Version: 1.2.0 |
Command: /Library/Frameworks/R.framework/Resources/bin/R CMD check --install=check:metabinR.install-out.txt --library=/Library/Frameworks/R.framework/Resources/library --no-vignettes --timings metabinR_1.2.0.tar.gz |
StartedAt: 2023-10-16 03:37:33 -0400 (Mon, 16 Oct 2023) |
EndedAt: 2023-10-16 03:39:47 -0400 (Mon, 16 Oct 2023) |
EllapsedTime: 134.8 seconds |
RetCode: 0 |
Status: OK |
CheckDir: metabinR.Rcheck |
Warnings: 0 |
############################################################################## ############################################################################## ### ### Running command: ### ### /Library/Frameworks/R.framework/Resources/bin/R CMD check --install=check:metabinR.install-out.txt --library=/Library/Frameworks/R.framework/Resources/library --no-vignettes --timings metabinR_1.2.0.tar.gz ### ############################################################################## ############################################################################## * using log directory ‘/Users/biocbuild/bbs-3.17-bioc/meat/metabinR.Rcheck’ * using R version 4.3.1 (2023-06-16) * using platform: x86_64-apple-darwin20 (64-bit) * R was compiled by Apple clang version 14.0.3 (clang-1403.0.22.14.1) GNU Fortran (GCC) 12.2.0 * running under: macOS Monterey 12.6.4 * using session charset: UTF-8 * using option ‘--no-vignettes’ * checking for file ‘metabinR/DESCRIPTION’ ... OK * checking extension type ... Package * this is package ‘metabinR’ version ‘1.2.0’ * package encoding: UTF-8 * checking package namespace information ... OK * checking package dependencies ... OK * checking if this is a source package ... OK * checking if there is a namespace ... OK * checking for hidden files and directories ... OK * checking for portable file names ... OK * checking for sufficient/correct file permissions ... OK * checking whether package ‘metabinR’ can be installed ... OK * checking installed package size ... OK * checking package directory ... OK * checking ‘build’ directory ... OK * checking DESCRIPTION meta-information ... OK * checking top-level files ... OK * checking for left-over files ... OK * checking index information ... OK * checking package subdirectories ... OK * checking R files for non-ASCII characters ... OK * checking R files for syntax errors ... OK * checking whether the package can be loaded ... OK * checking whether the package can be loaded with stated dependencies ... OK * checking whether the package can be unloaded cleanly ... OK * checking whether the namespace can be loaded with stated dependencies ... OK * checking whether the namespace can be unloaded cleanly ... OK * checking startup messages can be suppressed ... OK * checking dependencies in R code ... OK * checking S3 generic/method consistency ... OK * checking replacement functions ... OK * checking foreign function calls ... OK * checking R code for possible problems ... OK * checking Rd files ... OK * checking Rd metadata ... OK * checking Rd cross-references ... OK * checking for missing documentation entries ... OK * checking for code/documentation mismatches ... OK * checking Rd \usage sections ... OK * checking Rd contents ... OK * checking for unstated dependencies in examples ... OK * checking files in ‘vignettes’ ... OK * checking examples ... OK Examples with CPU (user + system) or elapsed time > 5s user system elapsed abundance_based_binning 13.085 2.319 14.475 hierarchical_binning 8.024 1.581 7.431 composition_based_binning 7.567 1.717 4.979 * checking for unstated dependencies in ‘tests’ ... OK * checking tests ... Running ‘spelling.R’ Running ‘testthat.R’ OK * checking for unstated dependencies in vignettes ... OK * checking package vignettes in ‘inst/doc’ ... OK * checking running R code from vignettes ... SKIPPED * checking re-building of vignette outputs ... SKIPPED * checking PDF version of manual ... OK * DONE Status: OK
metabinR.Rcheck/00install.out
############################################################################## ############################################################################## ### ### Running command: ### ### /Library/Frameworks/R.framework/Resources/bin/R CMD INSTALL metabinR ### ############################################################################## ############################################################################## * installing to library ‘/Library/Frameworks/R.framework/Versions/4.3-x86_64/Resources/library’ * installing *source* package ‘metabinR’ ... ** using staged installation ** R ** inst ** byte-compile and prepare package for lazy loading ** help *** installing help indices ** building package indices ** installing vignettes ** testing if installed package can be loaded from temporary location ** testing if installed package can be loaded from final location ** testing if installed package keeps a record of temporary installation path * DONE (metabinR)
metabinR.Rcheck/tests/spelling.Rout
R version 4.3.1 (2023-06-16) -- "Beagle Scouts" Copyright (C) 2023 The R Foundation for Statistical Computing Platform: x86_64-apple-darwin20 (64-bit) R is free software and comes with ABSOLUTELY NO WARRANTY. You are welcome to redistribute it under certain conditions. Type 'license()' or 'licence()' for distribution details. R is a collaborative project with many contributors. Type 'contributors()' for more information and 'citation()' on how to cite R or R packages in publications. Type 'demo()' for some demos, 'help()' for on-line help, or 'help.start()' for an HTML browser interface to help. Type 'q()' to quit R. > if(requireNamespace('spelling', quietly = TRUE)) + spelling::spell_check_test(vignettes = TRUE, error = FALSE, + skip_on_cran = TRUE) NULL > > proc.time() user system elapsed 0.365 0.118 0.495
metabinR.Rcheck/tests/testthat.Rout
R version 4.3.1 (2023-06-16) -- "Beagle Scouts" Copyright (C) 2023 The R Foundation for Statistical Computing Platform: x86_64-apple-darwin20 (64-bit) R is free software and comes with ABSOLUTELY NO WARRANTY. You are welcome to redistribute it under certain conditions. Type 'license()' or 'licence()' for distribution details. R is a collaborative project with many contributors. Type 'contributors()' for more information and 'citation()' on how to cite R or R packages in publications. Type 'demo()' for some demos, 'help()' for on-line help, or 'help.start()' for an HTML browser interface to help. Type 'q()' to quit R. > library(testthat) > library(metabinR) > > test_check("metabinR") version MTxAB =Sun Oct 15 15:07:50 EDT 2023 cpus=24 using=1 2023/10/16 03:38:51 Using Dictionary ORIGINAL 2023/10/16 03:38:51 START of AB Counting 2023/10/16 03:38:51 FastaManager: START READ 2023/10/16 03:38:51 SequenceProcessor: 0 AB_KMERCOUNT START CHUNK_SIZE=67108864 2023/10/16 03:38:51 FastaManager: lines read 53328 2023/10/16 03:38:51 FastaManager: END READ 2023/10/16 03:38:51 FastaManager: FASTA 2023/10/16 03:38:54 SequenceProcessor: 0 AB_KMERCOUNT EXIT 2023/10/16 03:38:54 END of AB Counting 2023/10/16 03:38:54 Loaded sequences: 26664 2023/10/16 03:38:54 Total kmers(before remove): 65536 ##### Heap utilization statistics [GB] ##### Max Memory=0.5 Current Total Memory=0.5 Current Used Memory=0.292 Current Free Memory=0.208 ############################################ 2023/10/16 03:38:54 Unique: 0 Distinct: 65536 Total: 7625904 MaxCount: 1574 2023/10/16 03:38:54 START of EMsync Run=1 Run=2 Run=3 Run=4 Run=5 Run=6 Run=7 Run=8 Run=9 Run=10 Run=11 Run=12 Run=13 Run=14 Run=15 Run=16 Run=17 Run=18 Run=19 Run=20 Run=21 Run=22 Run=23 Run=24 Run=25 2023/10/16 03:38:54 Runs=25 2023/10/16 03:38:54 END of EMsync 2023/10/16 03:38:54 START of Creating AB Cluster Vectors Cluster 1 Abundance=241.01134335779187 Length=16168.173737759438 LowLimit=163 HighLimit=318 Cluster 2 Abundance=75.53888858729701 Length=49367.826262240575 LowLimit=32 HighLimit=118 2023/10/16 03:38:54 Trove size/4=18022 2023/10/16 03:38:54 Trove size/4=18022 2023/10/16 03:38:55 Cluster 1 size in kmers=65536 norm=126.5058948513796 2023/10/16 03:38:55 Cluster 2 size in kmers=65536 norm=221.81983091435748 2023/10/16 03:38:55 END of Creating AB Cluster Vectors cpus=24 using=1 2023/10/16 03:38:55 START of AB Binning 2023/10/16 03:38:55 FastaManager: START READ 2023/10/16 03:38:55 SequenceProcessor: 0 AB_BINNING START 2023/10/16 03:38:55 FastaManager: lines read 53328 2023/10/16 03:38:55 FastaManager: END READ 2023/10/16 03:38:55 FastaManager: FASTA 2023/10/16 03:39:00 SequenceProcessor: 0 AB_BINNING EXIT 2023/10/16 03:39:00 END of AB Binning Clustered reads: AB Cluster 1: 19871 AB Cluster 2: 6793 ##### Heap utilization statistics [GB] ##### Max Memory=0.5 Current Total Memory=0.5 Current Used Memory=0.267 Current Free Memory=0.233 ############################################ version MTxCB =Sun Oct 15 15:07:50 EDT 2023 cpus=24 using=1 2023/10/16 03:39:01 START of CB Counting 2023/10/16 03:39:01 FastaManager: START READ 2023/10/16 03:39:01 SequenceProcessor: 0 CB_SEQUENCEVECTORBUILD START 2023/10/16 03:39:01 FastaManager: lines read 53328 2023/10/16 03:39:01 FastaManager: END READ 2023/10/16 03:39:01 FastaManager: FASTA 2023/10/16 03:39:02 SequenceProcessor: 0 CB_SEQUENCEVECTORBUILD EXIT 2023/10/16 03:39:02 END of CB Counting 2023/10/16 03:39:02 Loaded sequences: 26664 ##### Heap utilization statistics [GB] ##### Max Memory=0.5 Current Total Memory=0.5 Current Used Memory=0.295 Current Free Memory=0.205 ############################################ cpus=24 using=1 2023/10/16 03:39:02 START of Creating CB Clusters Size=26664 K-Means clustering started ... centers initialized ... concurrent processing mode with 1 subtask threads ... iteration 1 moves = 7007 ... iteration 2 moves = 2244 ... iteration 3 moves = 401 ... iteration 4 moves = 96 ... iteration 5 moves = 24 ... iteration 6 moves = 12 ... iteration 7 moves = 13 ... iteration 8 moves = 10 ... iteration 9 moves = 4 ... iteration 10 moves = 0 ...end. 8.91 seconds. 2023/10/16 03:39:11 : kMeans cleanup. 2023/10/16 03:39:11 END of Creating CB Clusters. cpus=24 using=1 2023/10/16 03:39:11 START of CB Binning 2023/10/16 03:39:11 FastaManager: START READ 2023/10/16 03:39:11 SequenceProcessor: 0 CB_BINNING START 2023/10/16 03:39:11 FastaManager: lines read 53328 2023/10/16 03:39:11 FastaManager: END READ 2023/10/16 03:39:11 FastaManager: FASTA 2023/10/16 03:39:12 SequenceProcessor: 0 CB_BINNING EXIT Clustered reads: CB Cluster 1: 17372 CB Cluster 2: 9292 ##### Heap utilization statistics [GB] ##### Max Memory=0.5 Current Total Memory=0.5 Current Used Memory=0.303 Current Free Memory=0.197 ############################################ version MTxABxCB =Sun Oct 15 15:07:50 EDT 2023 cpus=24 using=1 2023/10/16 03:39:12 Using Dictionary ORIGINAL 2023/10/16 03:39:12 START of AB Counting 2023/10/16 03:39:12 FastaManager: START READ 2023/10/16 03:39:12 SequenceProcessor: 0 AB_KMERCOUNT START 2023/10/16 03:39:12 FastaManager: lines read 53328 2023/10/16 03:39:12 FastaManager: END READ 2023/10/16 03:39:12 FastaManager: FASTA 2023/10/16 03:39:15 SequenceProcessor: 0 AB_KMERCOUNT EXIT 2023/10/16 03:39:15 END of AB Counting 2023/10/16 03:39:15 Loaded sequences: 26664 2023/10/16 03:39:15 Distinct kmers(before remove): 65536 ##### Heap utilization statistics [GB] ##### Max Memory=0.5 Current Total Memory=0.5 Current Used Memory=0.14 Current Free Memory=0.36 ############################################ 2023/10/16 03:39:15 Unique: 0 Distinct: 65536 Total: 7625904 MaxCount: 1574 2023/10/16 03:39:15 START of EMsync Run=1 Run=2 Run=3 Run=4 Run=5 Run=6 Run=7 Run=8 Run=9 Run=10 Run=11 Run=12 Run=13 Run=14 Run=15 Run=16 Run=17 Run=18 Run=19 Run=20 Run=21 Run=22 Run=23 Run=24 Run=25 2023/10/16 03:39:15 Runs=25 2023/10/16 03:39:15 END of EMsync 2023/10/16 03:39:15 Filter before=2 2023/10/16 03:39:15 Filter after=2 2023/10/16 03:39:15 START of Creating AB Cluster Vectors Cluster 1 Abundance=241.01134335779187 Length=16168.173737759438 LowLimit=163 HighLimit=318 Cluster 2 Abundance=75.53888858729701 Length=49367.826262240575 LowLimit=32 HighLimit=118 2023/10/16 03:39:15 Trove size/4=18022 2023/10/16 03:39:15 Trove size/4=18022 2023/10/16 03:39:15 Cluster 1 size in kmers=65536 norm=126.5058948513796 2023/10/16 03:39:15 Cluster 2 size in kmers=65536 norm=221.81983091435748 2023/10/16 03:39:15 END of Creating AB Cluster Vectors cpus=24 using=1 2023/10/16 03:39:15 START of AB Binning 2023/10/16 03:39:15 FastaManager: START READ 2023/10/16 03:39:15 SequenceProcessor: 0 AB_BINNING START 2023/10/16 03:39:15 FastaManager: lines read 53328 2023/10/16 03:39:15 FastaManager: END READ 2023/10/16 03:39:15 FastaManager: FASTA 2023/10/16 03:39:20 SequenceProcessor: 0 AB_BINNING EXIT 2023/10/16 03:39:20 END of AB Binning cpus=24 using=1 2023/10/16 03:39:20 START of CB Counting 2023/10/16 03:39:20 FastaManager: START READ 2023/10/16 03:39:20 SequenceProcessor: 0 CB_SEQUENCEVECTORBUILD START 2023/10/16 03:39:20 FastaManager: lines read 53328 2023/10/16 03:39:20 FastaManager: END READ 2023/10/16 03:39:20 FastaManager: FASTA 2023/10/16 03:39:21 SequenceProcessor: 0 CB_SEQUENCEVECTORBUILD EXIT 2023/10/16 03:39:21 END of CB Counting 2023/10/16 03:39:21 Loaded sequences: 26664 ##### Heap utilization statistics [GB] ##### Max Memory=0.5 Current Total Memory=0.373 Current Used Memory=0.23 Current Free Memory=0.143 ############################################ 2023/10/16 03:39:21 AB Cluster=1 Size=19871 2023/10/16 03:39:21 AB Cluster=2 Size=6793 cpus=24 using=1 ABid size abundance EMLength newLength EMspecies newspecies ----- ---- --------- -------- --------- --------- ---------- 1 19,871 241.01134 16,168 12,367 1 1 2023/10/16 03:39:21 START of Creating CB Clusters for AB Cluster=1 Size=19871 K-Means clustering started ... centers initialized ... concurrent processing mode with 1 subtask threads ... iteration 1 moves = 0 ...end. 4.558 seconds. 2023/10/16 03:39:26 END of Creating CB Clusters for AB Cluster=1 2023/10/16 03:39:26 : kMeans cleanup. cpus=24 using=1 ABid size abundance EMLength newLength EMspecies newspecies ----- ---- --------- -------- --------- --------- ---------- 2 6,793 75.53889 49,367 13,489 1 1 2023/10/16 03:39:26 START of Creating CB Clusters for AB Cluster=2 Size=6793 K-Means clustering started ... centers initialized ... concurrent processing mode with 1 subtask threads ... iteration 1 moves = 0 ...end. 1.442 seconds. 2023/10/16 03:39:27 : kMeans cleanup. 2023/10/16 03:39:27 END of Creating CB Clusters for AB Cluster=2 ##### Heap utilization statistics [GB] ##### Max Memory=0.5 Current Total Memory=0.422 Current Used Memory=0.256 Current Free Memory=0.166 ############################################ cpus=24 using=1 2023/10/16 03:39:27 START of CB Binning 2023/10/16 03:39:27 FastaManager: START READ 2023/10/16 03:39:27 SequenceProcessor: 0 CB_BINNING START 2023/10/16 03:39:27 FastaManager: lines read 53328 2023/10/16 03:39:27 FastaManager: END READ 2023/10/16 03:39:27 FastaManager: FASTA 2023/10/16 03:39:27 SequenceProcessor: 0 CB_BINNING EXIT Clustered reads: ABxCB Cluster 1: 19871 ABxCB Cluster 2: 6793 ##### Heap utilization statistics [GB] ##### Max Memory=0.5 Current Total Memory=0.422 Current Used Memory=0.259 Current Free Memory=0.163 ############################################ [ FAIL 0 | WARN 0 | SKIP 0 | PASS 52 ] > > proc.time() user system elapsed 46.284 1.970 40.493
metabinR.Rcheck/metabinR-Ex.timings
name | user | system | elapsed | |
abundance_based_binning | 13.085 | 2.319 | 14.475 | |
composition_based_binning | 7.567 | 1.717 | 4.979 | |
hierarchical_binning | 8.024 | 1.581 | 7.431 | |