Back to Multiple platform build/check report for BioC 3.17: simplified long |
|
This page was generated on 2023-04-17 11:04:36 -0400 (Mon, 17 Apr 2023).
Hostname | OS | Arch (*) | R version | Installed pkgs |
---|---|---|---|---|
nebbiolo1 | Linux (Ubuntu 22.04.1 LTS) | x86_64 | 4.3.0 alpha (2023-04-03 r84154) | 4564 |
palomino3 | Windows Server 2022 Datacenter | x64 | 4.3.0 alpha (2023-04-03 r84154 ucrt) | 4333 |
merida1 | macOS 12.6.4 Monterey | x86_64 | 4.3.0 RC (2023-04-13 r84257) -- "Already Tomorrow" | 4289 |
Click on any hostname to see more info about the system (e.g. compilers) (*) as reported by 'uname -p', except on Windows and Mac OS X |
To the developers/maintainers of the mbOmic package: - Allow up to 24 hours (and sometimes 48 hours) for your latest push to git@git.bioconductor.org:packages/mbOmic.git to reflect on this report. See Troubleshooting Build Report for more information. - Use the following Renviron settings to reproduce errors and warnings. Note: If "R CMD check" recently failed on the Linux builder over a missing dependency, add the missing dependency to "Suggests" in your DESCRIPTION file. See the Renviron.bioc for details. |
Package 1131/2212 | Hostname | OS / Arch | INSTALL | BUILD | CHECK | BUILD BIN | ||||||||
mbOmic 1.3.0 (landing page) Congcong Gong
| nebbiolo1 | Linux (Ubuntu 22.04.1 LTS) / x86_64 | OK | OK | OK | ![]() | ||||||||
palomino3 | Windows Server 2022 Datacenter / x64 | OK | OK | OK | OK | ![]() | ||||||||
merida1 | macOS 12.6.4 Monterey / x86_64 | OK | OK | OK | OK | |||||||||
Package: mbOmic |
Version: 1.3.0 |
Command: /Library/Frameworks/R.framework/Resources/bin/R CMD check --install=check:mbOmic.install-out.txt --library=/Library/Frameworks/R.framework/Resources/library --no-vignettes --timings mbOmic_1.3.0.tar.gz |
StartedAt: 2023-04-17 03:07:49 -0400 (Mon, 17 Apr 2023) |
EndedAt: 2023-04-17 03:14:52 -0400 (Mon, 17 Apr 2023) |
EllapsedTime: 423.2 seconds |
RetCode: 0 |
Status: OK |
CheckDir: mbOmic.Rcheck |
Warnings: 0 |
############################################################################## ############################################################################## ### ### Running command: ### ### /Library/Frameworks/R.framework/Resources/bin/R CMD check --install=check:mbOmic.install-out.txt --library=/Library/Frameworks/R.framework/Resources/library --no-vignettes --timings mbOmic_1.3.0.tar.gz ### ############################################################################## ############################################################################## * using log directory ‘/Users/biocbuild/bbs-3.17-bioc/meat/mbOmic.Rcheck’ * using R version 4.3.0 RC (2023-04-13 r84257) * using platform: x86_64-apple-darwin20 (64-bit) * R was compiled by Apple clang version 14.0.3 (clang-1403.0.22.14.1) GNU Fortran (GCC) 12.2.0 * running under: macOS Monterey 12.6.4 * using session charset: UTF-8 * using option ‘--no-vignettes’ * checking for file ‘mbOmic/DESCRIPTION’ ... OK * checking extension type ... Package * this is package ‘mbOmic’ version ‘1.3.0’ * package encoding: UTF-8 * checking package namespace information ... OK * checking package dependencies ... OK * checking if this is a source package ... OK * checking if there is a namespace ... OK * checking for hidden files and directories ... OK * checking for portable file names ... OK * checking for sufficient/correct file permissions ... OK * checking whether package ‘mbOmic’ can be installed ... OK * checking installed package size ... OK * checking package directory ... OK * checking ‘build’ directory ... OK * checking DESCRIPTION meta-information ... OK * checking top-level files ... OK * checking for left-over files ... OK * checking index information ... OK * checking package subdirectories ... OK * checking R files for non-ASCII characters ... OK * checking R files for syntax errors ... OK * checking whether the package can be loaded ... OK * checking whether the package can be loaded with stated dependencies ... OK * checking whether the package can be unloaded cleanly ... OK * checking whether the namespace can be loaded with stated dependencies ... OK * checking whether the namespace can be unloaded cleanly ... OK * checking dependencies in R code ... OK * checking S3 generic/method consistency ... OK * checking replacement functions ... OK * checking foreign function calls ... OK * checking R code for possible problems ... OK * checking Rd files ... OK * checking Rd metadata ... OK * checking Rd cross-references ... OK * checking for missing documentation entries ... OK * checking for code/documentation mismatches ... OK * checking Rd \usage sections ... OK * checking Rd contents ... OK * checking for unstated dependencies in examples ... OK * checking files in ‘vignettes’ ... OK * checking examples ... OK Examples with CPU (user + system) or elapsed time > 5s user system elapsed coExpress 13.888 0.303 19.916 plot_network 13.653 0.277 19.160 plot_coExpress 8.134 0.030 11.255 corr 5.164 0.228 7.413 enterotyping 0.072 0.008 6.685 * checking for unstated dependencies in ‘tests’ ... OK * checking tests ... Running ‘testthat.R’ OK * checking for unstated dependencies in vignettes ... OK * checking package vignettes in ‘inst/doc’ ... OK * checking running R code from vignettes ... SKIPPED * checking re-building of vignette outputs ... SKIPPED * checking PDF version of manual ... OK * DONE Status: OK
mbOmic.Rcheck/00install.out
############################################################################## ############################################################################## ### ### Running command: ### ### /Library/Frameworks/R.framework/Resources/bin/R CMD INSTALL mbOmic ### ############################################################################## ############################################################################## * installing to library ‘/Library/Frameworks/R.framework/Versions/4.3-x86_64/Resources/library’ * installing *source* package ‘mbOmic’ ... ** using staged installation ** R ** inst ** byte-compile and prepare package for lazy loading Warning: replacing previous import ‘utils::findMatches’ by ‘S4Vectors::findMatches’ when loading ‘AnnotationDbi’ Creating a generic function for ‘nrow’ from package ‘base’ in package ‘mbOmic’ Creating a generic function for ‘ncol’ from package ‘base’ in package ‘mbOmic’ ** help *** installing help indices ** building package indices ** installing vignettes ** testing if installed package can be loaded from temporary location Warning: replacing previous import ‘utils::findMatches’ by ‘S4Vectors::findMatches’ when loading ‘AnnotationDbi’ ** testing if installed package can be loaded from final location Warning: replacing previous import ‘utils::findMatches’ by ‘S4Vectors::findMatches’ when loading ‘AnnotationDbi’ ** testing if installed package keeps a record of temporary installation path * DONE (mbOmic)
mbOmic.Rcheck/tests/testthat.Rout
R version 4.3.0 RC (2023-04-13 r84257) -- "Already Tomorrow" Copyright (C) 2023 The R Foundation for Statistical Computing Platform: x86_64-apple-darwin20 (64-bit) R is free software and comes with ABSOLUTELY NO WARRANTY. You are welcome to redistribute it under certain conditions. Type 'license()' or 'licence()' for distribution details. R is a collaborative project with many contributors. Type 'contributors()' for more information and 'citation()' on how to cite R or R packages in publications. Type 'demo()' for some demos, 'help()' for on-line help, or 'help.start()' for an HTML browser interface to help. Type 'q()' to quit R. > library(testthat) > library(mbOmic) Warning message: replacing previous import 'utils::findMatches' by 'S4Vectors::findMatches' when loading 'AnnotationDbi' > > test_check("mbOmic") [ FAIL 0 | WARN 1 | SKIP 0 | PASS 1 ] [ FAIL 0 | WARN 1 | SKIP 0 | PASS 1 ] > > proc.time() user system elapsed 12.623 0.823 18.391
mbOmic.Rcheck/mbOmic-Ex.timings
name | user | system | elapsed | |
Set-class | 0.001 | 0.000 | 0.000 | |
bSet-class | 0.025 | 0.004 | 0.048 | |
bSet | 0.006 | 0.003 | 0.008 | |
clean_analytes | 0.034 | 0.004 | 0.053 | |
cluster_jsd | 0.016 | 0.003 | 0.029 | |
coExpress | 13.888 | 0.303 | 19.916 | |
corr | 5.164 | 0.228 | 7.413 | |
dist_jsd | 0.006 | 0.003 | 0.014 | |
enterotyping | 0.072 | 0.008 | 6.685 | |
estimate_k | 0.232 | 0.033 | 0.282 | |
features | 0.028 | 0.012 | 0.053 | |
mSet-class | 0.005 | 0.002 | 0.008 | |
mSet | 0.027 | 0.010 | 0.045 | |
plot_coExpress | 8.134 | 0.030 | 11.255 | |
plot_network | 13.653 | 0.277 | 19.160 | |
print.verCHI | 0.045 | 0.004 | 0.064 | |
samples | 0.029 | 0.013 | 0.057 | |
vmh-class | 0.005 | 0.002 | 0.006 | |