Back to Multiple platform build/check report for BioC 3.17: simplified long |
|
This page was generated on 2023-10-16 11:35:26 -0400 (Mon, 16 Oct 2023).
Hostname | OS | Arch (*) | R version | Installed pkgs |
---|---|---|---|---|
nebbiolo1 | Linux (Ubuntu 22.04.2 LTS) | x86_64 | 4.3.1 (2023-06-16) -- "Beagle Scouts" | 4626 |
palomino3 | Windows Server 2022 Datacenter | x64 | 4.3.1 (2023-06-16 ucrt) -- "Beagle Scouts" | 4379 |
merida1 | macOS 12.6.4 Monterey | x86_64 | 4.3.1 (2023-06-16) -- "Beagle Scouts" | 4395 |
Click on any hostname to see more info about the system (e.g. compilers) (*) as reported by 'uname -p', except on Windows and Mac OS X |
Package 968/2230 | Hostname | OS / Arch | INSTALL | BUILD | CHECK | BUILD BIN | ||||||||
iCheck 1.30.0 (landing page) Weiliang Qiu
| nebbiolo1 | Linux (Ubuntu 22.04.2 LTS) / x86_64 | OK | OK | OK | ![]() | ||||||||
palomino3 | Windows Server 2022 Datacenter / x64 | OK | OK | OK | OK | ![]() | ||||||||
merida1 | macOS 12.6.4 Monterey / x86_64 | OK | OK | OK | OK | ![]() | ||||||||
kjohnson2 | macOS 12.6.1 Monterey / arm64 | see weekly results here | ||||||||||||
To the developers/maintainers of the iCheck package: - Allow up to 24 hours (and sometimes 48 hours) for your latest push to git@git.bioconductor.org:packages/iCheck.git to reflect on this report. See Troubleshooting Build Report for more information. - Use the following Renviron settings to reproduce errors and warnings. - If 'R CMD check' started to fail recently on the Linux builder(s) over a missing dependency, add the missing dependency to 'Suggests:' in your DESCRIPTION file. See Renviron.bioc for more information. |
Package: iCheck |
Version: 1.30.0 |
Command: /home/biocbuild/bbs-3.17-bioc/R/bin/R CMD check --install=check:iCheck.install-out.txt --library=/home/biocbuild/bbs-3.17-bioc/R/site-library --timings iCheck_1.30.0.tar.gz |
StartedAt: 2023-10-15 22:05:59 -0400 (Sun, 15 Oct 2023) |
EndedAt: 2023-10-15 22:11:42 -0400 (Sun, 15 Oct 2023) |
EllapsedTime: 342.6 seconds |
RetCode: 0 |
Status: OK |
CheckDir: iCheck.Rcheck |
Warnings: 0 |
############################################################################## ############################################################################## ### ### Running command: ### ### /home/biocbuild/bbs-3.17-bioc/R/bin/R CMD check --install=check:iCheck.install-out.txt --library=/home/biocbuild/bbs-3.17-bioc/R/site-library --timings iCheck_1.30.0.tar.gz ### ############################################################################## ############################################################################## * using log directory ‘/home/biocbuild/bbs-3.17-bioc/meat/iCheck.Rcheck’ * using R version 4.3.1 (2023-06-16) * using platform: x86_64-pc-linux-gnu (64-bit) * R was compiled by gcc (Ubuntu 11.3.0-1ubuntu1~22.04.1) 11.3.0 GNU Fortran (Ubuntu 11.3.0-1ubuntu1~22.04.1) 11.3.0 * running under: Ubuntu 22.04.3 LTS * using session charset: UTF-8 * checking for file ‘iCheck/DESCRIPTION’ ... OK * checking extension type ... Package * this is package ‘iCheck’ version ‘1.30.0’ * checking package namespace information ... OK * checking package dependencies ... OK * checking if this is a source package ... OK * checking if there is a namespace ... OK * checking for hidden files and directories ... OK * checking for portable file names ... OK * checking for sufficient/correct file permissions ... OK * checking whether package ‘iCheck’ can be installed ... OK * checking installed package size ... OK * checking package directory ... OK * checking ‘build’ directory ... OK * checking DESCRIPTION meta-information ... OK * checking top-level files ... OK * checking for left-over files ... OK * checking index information ... OK * checking package subdirectories ... OK * checking R files for non-ASCII characters ... OK * checking R files for syntax errors ... OK * checking whether the package can be loaded ... OK * checking whether the package can be loaded with stated dependencies ... OK * checking whether the package can be unloaded cleanly ... OK * checking whether the namespace can be loaded with stated dependencies ... OK * checking whether the namespace can be unloaded cleanly ... OK * checking loading without being on the library search path ... OK * checking dependencies in R code ... OK * checking S3 generic/method consistency ... OK * checking replacement functions ... OK * checking foreign function calls ... OK * checking R code for possible problems ... OK * checking Rd files ... OK * checking Rd metadata ... OK * checking Rd cross-references ... OK * checking for missing documentation entries ... OK * checking for code/documentation mismatches ... OK * checking Rd \usage sections ... OK * checking Rd contents ... OK * checking for unstated dependencies in examples ... OK * checking files in ‘vignettes’ ... OK * checking examples ... OK * checking for unstated dependencies in vignettes ... OK * checking package vignettes in ‘inst/doc’ ... OK * checking running R code from vignettes ... ‘iCheck.Rnw’... OK OK * checking re-building of vignette outputs ... OK * checking PDF version of manual ... OK * DONE Status: OK
iCheck.Rcheck/00install.out
############################################################################## ############################################################################## ### ### Running command: ### ### /home/biocbuild/bbs-3.17-bioc/R/bin/R CMD INSTALL iCheck ### ############################################################################## ############################################################################## * installing to library ‘/home/biocbuild/bbs-3.17-bioc/R/site-library’ * installing *source* package ‘iCheck’ ... ** using staged installation ** R ** byte-compile and prepare package for lazy loading No methods found in package ‘RSQLite’ for request: ‘dbListFields’ when loading ‘lumi’ ** help *** installing help indices ** building package indices ** installing vignettes ** testing if installed package can be loaded from temporary location No methods found in package ‘RSQLite’ for request: ‘dbListFields’ when loading ‘lumi’ ** testing if installed package can be loaded from final location No methods found in package ‘RSQLite’ for request: ‘dbListFields’ when loading ‘lumi’ ** testing if installed package keeps a record of temporary installation path * DONE (iCheck)
iCheck.Rcheck/iCheck-Ex.timings
name | user | system | elapsed | |
LumiBatch2Table | 0.089 | 0.000 | 0.089 | |
R2PlotFunc | 0.246 | 0.008 | 0.221 | |
boxPlots | 0.144 | 0.004 | 0.148 | |
densityPlots | 0.179 | 0.016 | 0.195 | |
genSimData.BayesNormal | 0.026 | 0.000 | 0.026 | |
getPCAFunc | 0.040 | 0.000 | 0.041 | |
glmWrapper | 0.282 | 0.008 | 0.290 | |
lkhrWrapper | 1.375 | 0.096 | 1.471 | |
lmFitPaired | 0.023 | 0.016 | 0.039 | |
lmFitWrapper | 0.030 | 0.008 | 0.039 | |
pca2DPlot | 0.066 | 0.008 | 0.074 | |
pca3DPlot | 0.035 | 0.012 | 0.048 | |
plotCurves | 0.033 | 0.000 | 0.034 | |
plotQCCurves | 0.040 | 0.012 | 0.052 | |
plotSamplep95p05 | 0.047 | 0.004 | 0.050 | |
quantilePlot | 0.084 | 0.004 | 0.074 | |
scatterPlots | 0.084 | 0.008 | 0.092 | |
sortExpressionSet | 0.04 | 0.00 | 0.04 | |