| Back to Multiple platform build/check report for BioC 3.17: simplified long | 
 | 
This page was generated on 2023-10-16 11:36:11 -0400 (Mon, 16 Oct 2023).
| Hostname | OS | Arch (*) | R version | Installed pkgs | 
|---|---|---|---|---|
| nebbiolo1 | Linux (Ubuntu 22.04.2 LTS) | x86_64 | 4.3.1 (2023-06-16) -- "Beagle Scouts" | 4626 | 
| palomino3 | Windows Server 2022 Datacenter | x64 | 4.3.1 (2023-06-16 ucrt) -- "Beagle Scouts" | 4379 | 
| merida1 | macOS 12.6.4 Monterey | x86_64 | 4.3.1 (2023-06-16) -- "Beagle Scouts" | 4395 | 
| Click on any hostname to see more info about the system (e.g. compilers) (*) as reported by 'uname -p', except on Windows and Mac OS X | ||||
| Package 838/2230 | Hostname | OS / Arch | INSTALL | BUILD | CHECK | BUILD BIN | ||||||||
| ggtree 3.8.2  (landing page) Guangchuang Yu 
 | nebbiolo1 | Linux (Ubuntu 22.04.2 LTS) / x86_64 | OK | OK | OK |  | ||||||||
| palomino3 | Windows Server 2022 Datacenter / x64 | OK | OK | OK | OK |  | ||||||||
| merida1 | macOS 12.6.4 Monterey / x86_64 | OK | OK | OK | OK |  | ||||||||
| kjohnson2 | macOS 12.6.1 Monterey / arm64 | see weekly results here | ||||||||||||
| To the developers/maintainers of the ggtree package: - Allow up to 24 hours (and sometimes 48 hours) for your latest push to git@git.bioconductor.org:packages/ggtree.git to reflect on this report. See Troubleshooting Build Report for more information. - Use the following Renviron settings to reproduce errors and warnings. - If 'R CMD check' started to fail recently on the Linux builder(s) over a missing dependency, add the missing dependency to 'Suggests:' in your DESCRIPTION file. See Renviron.bioc for more information. | 
| Package: ggtree | 
| Version: 3.8.2 | 
| Command: F:\biocbuild\bbs-3.17-bioc\R\bin\R.exe CMD check --no-multiarch --install=check:ggtree.install-out.txt --library=F:\biocbuild\bbs-3.17-bioc\R\library --no-vignettes --timings ggtree_3.8.2.tar.gz | 
| StartedAt: 2023-10-16 02:40:43 -0400 (Mon, 16 Oct 2023) | 
| EndedAt: 2023-10-16 02:42:00 -0400 (Mon, 16 Oct 2023) | 
| EllapsedTime: 76.2 seconds | 
| RetCode: 0 | 
| Status: OK | 
| CheckDir: ggtree.Rcheck | 
| Warnings: 0 | 
##############################################################################
##############################################################################
###
### Running command:
###
###   F:\biocbuild\bbs-3.17-bioc\R\bin\R.exe CMD check --no-multiarch --install=check:ggtree.install-out.txt --library=F:\biocbuild\bbs-3.17-bioc\R\library --no-vignettes --timings ggtree_3.8.2.tar.gz
###
##############################################################################
##############################################################################
* using log directory 'F:/biocbuild/bbs-3.17-bioc/meat/ggtree.Rcheck'
* using R version 4.3.1 (2023-06-16 ucrt)
* using platform: x86_64-w64-mingw32 (64-bit)
* R was compiled by
    gcc.exe (GCC) 12.2.0
    GNU Fortran (GCC) 12.2.0
* running under: Windows Server 2022 x64 (build 20348)
* using session charset: UTF-8
* using option '--no-vignettes'
* checking for file 'ggtree/DESCRIPTION' ... OK
* checking extension type ... Package
* this is package 'ggtree' version '3.8.2'
* package encoding: UTF-8
* checking package namespace information ... OK
* checking package dependencies ... OK
* checking if this is a source package ... OK
* checking if there is a namespace ... OK
* checking for hidden files and directories ... OK
* checking for portable file names ... OK
* checking whether package 'ggtree' can be installed ... OK
* checking installed package size ... OK
* checking package directory ... OK
* checking 'build' directory ... OK
* checking DESCRIPTION meta-information ... OK
* checking top-level files ... OK
* checking for left-over files ... OK
* checking index information ... OK
* checking package subdirectories ... OK
* checking R files for non-ASCII characters ... OK
* checking R files for syntax errors ... OK
* checking whether the package can be loaded ... OK
* checking whether the package can be loaded with stated dependencies ... OK
* checking whether the package can be unloaded cleanly ... OK
* checking whether the namespace can be loaded with stated dependencies ... OK
* checking whether the namespace can be unloaded cleanly ... OK
* checking startup messages can be suppressed ... OK
* checking dependencies in R code ... OK
* checking S3 generic/method consistency ... OK
* checking replacement functions ... OK
* checking foreign function calls ... OK
* checking R code for possible problems ... OK
* checking Rd files ... OK
* checking Rd metadata ... OK
* checking Rd cross-references ... OK
* checking for missing documentation entries ... OK
* checking for code/documentation mismatches ... OK
* checking Rd \usage sections ... OK
* checking Rd contents ... OK
* checking for unstated dependencies in examples ... OK
* checking files in 'vignettes' ... OK
* checking examples ... OK
* checking for unstated dependencies in 'tests' ... OK
* checking tests ...
  Running 'testthat.R'
 OK
* checking for unstated dependencies in vignettes ... OK
* checking package vignettes in 'inst/doc' ... OK
* checking running R code from vignettes ... SKIPPED
* checking re-building of vignette outputs ... SKIPPED
* checking PDF version of manual ... OK
* DONE
Status: OK
ggtree.Rcheck/00install.out
############################################################################## ############################################################################## ### ### Running command: ### ### F:\biocbuild\bbs-3.17-bioc\R\bin\R.exe CMD INSTALL ggtree ### ############################################################################## ############################################################################## * installing to library 'F:/biocbuild/bbs-3.17-bioc/R/library' * installing *source* package 'ggtree' ... ** using staged installation ** R ** inst ** byte-compile and prepare package for lazy loading ** help *** installing help indices ** building package indices ** installing vignettes ** testing if installed package can be loaded from temporary location ** testing if installed package can be loaded from final location ** testing if installed package keeps a record of temporary installation path * DONE (ggtree)
ggtree.Rcheck/tests/testthat.Rout
R version 4.3.1 (2023-06-16 ucrt) -- "Beagle Scouts"
Copyright (C) 2023 The R Foundation for Statistical Computing
Platform: x86_64-w64-mingw32/x64 (64-bit)
R is free software and comes with ABSOLUTELY NO WARRANTY.
You are welcome to redistribute it under certain conditions.
Type 'license()' or 'licence()' for distribution details.
R is a collaborative project with many contributors.
Type 'contributors()' for more information and
'citation()' on how to cite R or R packages in publications.
Type 'demo()' for some demos, 'help()' for on-line help, or
'help.start()' for an HTML browser interface to help.
Type 'q()' to quit R.
> library(testthat)
> library(ggtree)
ggtree v3.8.2 For help: https://yulab-smu.top/treedata-book/
If you use the ggtree package suite in published research, please cite
the appropriate paper(s):
Guangchuang Yu, David Smith, Huachen Zhu, Yi Guan, Tommy Tsan-Yuk Lam.
ggtree: an R package for visualization and annotation of phylogenetic
trees with their covariates and other associated data. Methods in
Ecology and Evolution. 2017, 8(1):28-36. doi:10.1111/2041-210X.12628
G Yu. Data Integration, Manipulation and Visualization of Phylogenetic
Trees (1st ed.). Chapman and Hall/CRC. 2022. ISBN: 9781032233574
LG Wang, TTY Lam, S Xu, Z Dai, L Zhou, T Feng, P Guo, CW Dunn, BR
Jones, T Bradley, H Zhu, Y Guan, Y Jiang, G Yu. treeio: an R package
for phylogenetic tree input and output with richly annotated and
associated data. Molecular Biology and Evolution. 2020, 37(2):599-603.
doi: 10.1093/molbev/msz240
> 
> test_check("ggtree")
[ FAIL 0 | WARN 3 | SKIP 0 | PASS 14 ]
[ FAIL 0 | WARN 3 | SKIP 0 | PASS 14 ]
> 
> proc.time()
   user  system elapsed 
   2.60    0.31    2.87 
ggtree.Rcheck/ggtree-Ex.timings
| name | user | system | elapsed | |
| attacher | 0.72 | 0.02 | 0.75 | |
| collapse | 0.19 | 0.01 | 0.21 | |
| expand | 0.14 | 0.00 | 0.15 | |
| facet-plot | 0.17 | 0.02 | 0.18 | |
| flip | 0.18 | 0.00 | 0.17 | |
| geom-hilight | 1.70 | 0.03 | 1.74 | |
| geom_balance | 0.22 | 0.00 | 0.22 | |
| geom_cladelab | 0.37 | 0.00 | 0.39 | |
| geom_label2 | 0.19 | 0.00 | 0.19 | |
| geom_point2 | 0.77 | 0.00 | 0.76 | |
| geom_rootedge | 0.59 | 0.02 | 0.61 | |
| geom_rootpoint | 0.23 | 0.00 | 0.24 | |
| geom_strip | 0.16 | 0.00 | 0.15 | |
| geom_striplab | 0.2 | 0.0 | 0.2 | |
| geom_tiplab | 0.14 | 0.00 | 0.15 | |
| geom_tiplab2 | 0.21 | 0.01 | 0.21 | |
| geom_tippoint | 0.12 | 0.00 | 0.13 | |
| geom_tree | 0.11 | 0.02 | 0.12 | |
| get_taxa_name | 0.05 | 0.00 | 0.05 | |
| ggdensitree | 1.53 | 0.03 | 1.56 | |
| ggexpand | 0.19 | 0.00 | 0.19 | |
| ggtree-format-painter | 0.12 | 0.03 | 0.16 | |
| ggtree | 0.11 | 0.00 | 0.11 | |
| label_pad | 0 | 0 | 0 | |
| open_tree | 0.20 | 0.03 | 0.23 | |
| revts | 0.22 | 0.00 | 0.22 | |
| rotate | 0.24 | 0.00 | 0.23 | |
| rotate_tree | 0.23 | 0.02 | 0.25 | |
| scaleClade | 0.18 | 0.00 | 0.19 | |
| td_filter | 0.16 | 0.00 | 0.15 | |
| theme_tree | 0.14 | 0.00 | 0.14 | |
| theme_tree2 | 0.13 | 0.00 | 0.13 | |
| tree-layout | 0.93 | 0.06 | 1.00 | |
| viewClade | 0.19 | 0.01 | 0.20 | |
| xlim_expand | 0.24 | 0.02 | 0.25 | |
| xlim_tree | 0.28 | 0.00 | 0.28 | |
| zoomClade | 0 | 0 | 0 | |