Back to Multiple platform build/check report for BioC 3.17: simplified long |
|
This page was generated on 2023-10-16 11:35:23 -0400 (Mon, 16 Oct 2023).
Hostname | OS | Arch (*) | R version | Installed pkgs |
---|---|---|---|---|
nebbiolo1 | Linux (Ubuntu 22.04.2 LTS) | x86_64 | 4.3.1 (2023-06-16) -- "Beagle Scouts" | 4626 |
palomino3 | Windows Server 2022 Datacenter | x64 | 4.3.1 (2023-06-16 ucrt) -- "Beagle Scouts" | 4379 |
merida1 | macOS 12.6.4 Monterey | x86_64 | 4.3.1 (2023-06-16) -- "Beagle Scouts" | 4395 |
Click on any hostname to see more info about the system (e.g. compilers) (*) as reported by 'uname -p', except on Windows and Mac OS X |
Package 778/2230 | Hostname | OS / Arch | INSTALL | BUILD | CHECK | BUILD BIN | ||||||||
genefu 2.32.0 (landing page) Benjamin Haibe-Kains
| nebbiolo1 | Linux (Ubuntu 22.04.2 LTS) / x86_64 | OK | OK | OK | ![]() | ||||||||
palomino3 | Windows Server 2022 Datacenter / x64 | OK | OK | OK | OK | ![]() | ||||||||
merida1 | macOS 12.6.4 Monterey / x86_64 | OK | OK | OK | OK | ![]() | ||||||||
kjohnson2 | macOS 12.6.1 Monterey / arm64 | see weekly results here | ||||||||||||
To the developers/maintainers of the genefu package: - Allow up to 24 hours (and sometimes 48 hours) for your latest push to git@git.bioconductor.org:packages/genefu.git to reflect on this report. See Troubleshooting Build Report for more information. - Use the following Renviron settings to reproduce errors and warnings. - If 'R CMD check' started to fail recently on the Linux builder(s) over a missing dependency, add the missing dependency to 'Suggests:' in your DESCRIPTION file. See Renviron.bioc for more information. |
Package: genefu |
Version: 2.32.0 |
Command: /home/biocbuild/bbs-3.17-bioc/R/bin/R CMD check --install=check:genefu.install-out.txt --library=/home/biocbuild/bbs-3.17-bioc/R/site-library --timings genefu_2.32.0.tar.gz |
StartedAt: 2023-10-15 21:31:16 -0400 (Sun, 15 Oct 2023) |
EndedAt: 2023-10-15 21:34:24 -0400 (Sun, 15 Oct 2023) |
EllapsedTime: 187.7 seconds |
RetCode: 0 |
Status: OK |
CheckDir: genefu.Rcheck |
Warnings: 0 |
############################################################################## ############################################################################## ### ### Running command: ### ### /home/biocbuild/bbs-3.17-bioc/R/bin/R CMD check --install=check:genefu.install-out.txt --library=/home/biocbuild/bbs-3.17-bioc/R/site-library --timings genefu_2.32.0.tar.gz ### ############################################################################## ############################################################################## * using log directory ‘/home/biocbuild/bbs-3.17-bioc/meat/genefu.Rcheck’ * using R version 4.3.1 (2023-06-16) * using platform: x86_64-pc-linux-gnu (64-bit) * R was compiled by gcc (Ubuntu 11.3.0-1ubuntu1~22.04.1) 11.3.0 GNU Fortran (Ubuntu 11.3.0-1ubuntu1~22.04.1) 11.3.0 * running under: Ubuntu 22.04.3 LTS * using session charset: UTF-8 * checking for file ‘genefu/DESCRIPTION’ ... OK * checking extension type ... Package * this is package ‘genefu’ version ‘2.32.0’ * package encoding: UTF-8 * checking package namespace information ... OK * checking package dependencies ... OK * checking if this is a source package ... OK * checking if there is a namespace ... OK * checking for hidden files and directories ... OK * checking for portable file names ... OK * checking for sufficient/correct file permissions ... OK * checking whether package ‘genefu’ can be installed ... OK * checking installed package size ... NOTE installed size is 5.1Mb sub-directories of 1Mb or more: data 4.1Mb * checking package directory ... OK * checking ‘build’ directory ... OK * checking DESCRIPTION meta-information ... OK * checking top-level files ... OK * checking for left-over files ... OK * checking index information ... OK * checking package subdirectories ... OK * checking R files for non-ASCII characters ... OK * checking R files for syntax errors ... OK * checking whether the package can be loaded ... OK * checking whether the package can be loaded with stated dependencies ... OK * checking whether the package can be unloaded cleanly ... OK * checking whether the namespace can be loaded with stated dependencies ... OK * checking whether the namespace can be unloaded cleanly ... OK * checking loading without being on the library search path ... OK * checking dependencies in R code ... NOTE Packages in Depends field not imported from: ‘AIMS’ ‘biomaRt’ ‘iC10’ These packages need to be imported from (in the NAMESPACE file) for when this namespace is loaded but not attached. Unexported objects imported by ':::' calls: ‘mclust:::grid1’ ‘mclust:::grid2’ See the note in ?`:::` about the use of this operator. * checking S3 generic/method consistency ... OK * checking replacement functions ... OK * checking foreign function calls ... OK * checking R code for possible problems ... OK * checking Rd files ... OK * checking Rd metadata ... OK * checking Rd cross-references ... OK * checking for missing documentation entries ... OK * checking for code/documentation mismatches ... OK * checking Rd \usage sections ... OK * checking Rd contents ... OK * checking for unstated dependencies in examples ... OK * checking contents of ‘data’ directory ... OK * checking data for non-ASCII characters ... OK * checking data for ASCII and uncompressed saves ... OK * checking files in ‘vignettes’ ... OK * checking examples ... OK * checking for unstated dependencies in vignettes ... OK * checking package vignettes in ‘inst/doc’ ... OK * checking running R code from vignettes ... ‘genefu.Rmd’ using ‘UTF-8’... OK NONE * checking re-building of vignette outputs ... OK * checking PDF version of manual ... OK * DONE Status: 2 NOTEs See ‘/home/biocbuild/bbs-3.17-bioc/meat/genefu.Rcheck/00check.log’ for details.
genefu.Rcheck/00install.out
############################################################################## ############################################################################## ### ### Running command: ### ### /home/biocbuild/bbs-3.17-bioc/R/bin/R CMD INSTALL genefu ### ############################################################################## ############################################################################## * installing to library ‘/home/biocbuild/bbs-3.17-bioc/R/site-library’ * installing *source* package ‘genefu’ ... ** using staged installation ** R ** data ** inst ** byte-compile and prepare package for lazy loading ** help *** installing help indices ** building package indices ** installing vignettes ** testing if installed package can be loaded from temporary location ** testing if installed package can be loaded from final location ** testing if installed package keeps a record of temporary installation path * DONE (genefu)
genefu.Rcheck/genefu-Ex.timings
name | user | system | elapsed | |
bimod | 0.203 | 0.005 | 0.206 | |
boxplotplus2 | 0.009 | 0.000 | 0.008 | |
claudinLow | 1.052 | 0.028 | 1.080 | |
compareProtoCor | 1.246 | 0.084 | 1.329 | |
compute.pairw.cor.meta | 1.376 | 0.012 | 1.387 | |
compute.proto.cor.meta | 1.126 | 0.008 | 1.134 | |
cordiff.dep | 0.100 | 0.008 | 0.109 | |
endoPredict | 0.109 | 0.004 | 0.114 | |
fuzzy.ttest | 0.089 | 0.000 | 0.090 | |
gene70 | 0.247 | 0.004 | 0.251 | |
gene76 | 0.125 | 0.000 | 0.125 | |
geneid.map | 0.135 | 0.000 | 0.136 | |
genius | 0.180 | 0.008 | 0.187 | |
ggi | 0.118 | 0.000 | 0.117 | |
ihc4 | 0.103 | 0.011 | 0.115 | |
intrinsic.cluster | 0.367 | 0.001 | 0.353 | |
intrinsic.cluster.predict | 0.162 | 0.003 | 0.166 | |
map.datasets | 1.216 | 0.008 | 1.224 | |
molecular.subtyping | 1.838 | 0.071 | 1.916 | |
npi | 0.112 | 0.004 | 0.115 | |
oncotypedx | 0.143 | 0.000 | 0.143 | |
ovcAngiogenic | 0.119 | 0.008 | 0.127 | |
ovcCrijns | 0.122 | 0.004 | 0.126 | |
ovcTCGA | 0.229 | 0.004 | 0.233 | |
ovcYoshihara | 0.138 | 0.004 | 0.143 | |
pik3cags | 0.120 | 0.004 | 0.124 | |
power.cor | 0.001 | 0.000 | 0.000 | |
ps.cluster | 0.348 | 0.004 | 0.337 | |
read.m.file | 0.019 | 0.000 | 0.020 | |
rename.duplicate | 0.000 | 0.007 | 0.007 | |
rescale | 0.243 | 0.011 | 0.254 | |
rorS | 0.189 | 0.016 | 0.206 | |
setcolclass.df | 0.000 | 0.002 | 0.001 | |
sig.score | 0.118 | 0.009 | 0.127 | |
spearmanCI | 0 | 0 | 0 | |
st.gallen | 0.103 | 0.007 | 0.110 | |
stab.fs | 0.127 | 0.004 | 0.131 | |
stab.fs.ranking | 0.532 | 0.060 | 0.592 | |
strescR | 0.001 | 0.000 | 0.001 | |
subtype.cluster | 0.683 | 0.012 | 0.695 | |
subtype.cluster.predict | 0.262 | 0.000 | 0.262 | |
tamr13 | 0.134 | 0.000 | 0.134 | |
tbrm | 0 | 0 | 0 | |
weighted.meanvar | 0 | 0 | 0 | |
write.m.file | 0.003 | 0.000 | 0.003 | |