| Back to Multiple platform build/check report for BioC 3.17: simplified long |
|
This page was generated on 2023-10-16 11:37:03 -0400 (Mon, 16 Oct 2023).
| Hostname | OS | Arch (*) | R version | Installed pkgs |
|---|---|---|---|---|
| nebbiolo1 | Linux (Ubuntu 22.04.2 LTS) | x86_64 | 4.3.1 (2023-06-16) -- "Beagle Scouts" | 4626 |
| palomino3 | Windows Server 2022 Datacenter | x64 | 4.3.1 (2023-06-16 ucrt) -- "Beagle Scouts" | 4379 |
| merida1 | macOS 12.6.4 Monterey | x86_64 | 4.3.1 (2023-06-16) -- "Beagle Scouts" | 4395 |
| Click on any hostname to see more info about the system (e.g. compilers) (*) as reported by 'uname -p', except on Windows and Mac OS X | ||||
| Package 719/2230 | Hostname | OS / Arch | INSTALL | BUILD | CHECK | BUILD BIN | ||||||||
| flowGraph 1.8.0 (landing page) Alice Yue
| nebbiolo1 | Linux (Ubuntu 22.04.2 LTS) / x86_64 | OK | OK | OK | |||||||||
| palomino3 | Windows Server 2022 Datacenter / x64 | OK | OK | OK | OK | |||||||||
| merida1 | macOS 12.6.4 Monterey / x86_64 | OK | OK | OK | OK | |||||||||
| kjohnson2 | macOS 12.6.1 Monterey / arm64 | see weekly results here | ||||||||||||
|
To the developers/maintainers of the flowGraph package: - Allow up to 24 hours (and sometimes 48 hours) for your latest push to git@git.bioconductor.org:packages/flowGraph.git to reflect on this report. See Troubleshooting Build Report for more information. - Use the following Renviron settings to reproduce errors and warnings. - If 'R CMD check' started to fail recently on the Linux builder(s) over a missing dependency, add the missing dependency to 'Suggests:' in your DESCRIPTION file. See Renviron.bioc for more information. |
| Package: flowGraph |
| Version: 1.8.0 |
| Command: /Library/Frameworks/R.framework/Resources/bin/R CMD check --install=check:flowGraph.install-out.txt --library=/Library/Frameworks/R.framework/Resources/library --no-vignettes --timings flowGraph_1.8.0.tar.gz |
| StartedAt: 2023-10-16 01:47:16 -0400 (Mon, 16 Oct 2023) |
| EndedAt: 2023-10-16 01:57:42 -0400 (Mon, 16 Oct 2023) |
| EllapsedTime: 625.8 seconds |
| RetCode: 0 |
| Status: OK |
| CheckDir: flowGraph.Rcheck |
| Warnings: 0 |
##############################################################################
##############################################################################
###
### Running command:
###
### /Library/Frameworks/R.framework/Resources/bin/R CMD check --install=check:flowGraph.install-out.txt --library=/Library/Frameworks/R.framework/Resources/library --no-vignettes --timings flowGraph_1.8.0.tar.gz
###
##############################################################################
##############################################################################
* using log directory ‘/Users/biocbuild/bbs-3.17-bioc/meat/flowGraph.Rcheck’
* using R version 4.3.1 (2023-06-16)
* using platform: x86_64-apple-darwin20 (64-bit)
* R was compiled by
Apple clang version 14.0.3 (clang-1403.0.22.14.1)
GNU Fortran (GCC) 12.2.0
* running under: macOS Monterey 12.6.4
* using session charset: UTF-8
* using option ‘--no-vignettes’
* checking for file ‘flowGraph/DESCRIPTION’ ... OK
* checking extension type ... Package
* this is package ‘flowGraph’ version ‘1.8.0’
* checking package namespace information ... OK
* checking package dependencies ... OK
* checking if this is a source package ... OK
* checking if there is a namespace ... OK
* checking for hidden files and directories ... OK
* checking for portable file names ... OK
* checking for sufficient/correct file permissions ... OK
* checking whether package ‘flowGraph’ can be installed ... OK
* checking installed package size ... OK
* checking package directory ... OK
* checking ‘build’ directory ... OK
* checking DESCRIPTION meta-information ... OK
* checking top-level files ... OK
* checking for left-over files ... OK
* checking index information ... OK
* checking package subdirectories ... OK
* checking R files for non-ASCII characters ... OK
* checking R files for syntax errors ... OK
* checking whether the package can be loaded ... OK
* checking whether the package can be loaded with stated dependencies ... OK
* checking whether the package can be unloaded cleanly ... OK
* checking whether the namespace can be loaded with stated dependencies ... OK
* checking whether the namespace can be unloaded cleanly ... OK
* checking dependencies in R code ... OK
* checking S3 generic/method consistency ... OK
* checking replacement functions ... OK
* checking foreign function calls ... OK
* checking R code for possible problems ... NOTE
get_child: no visible binding for global variable ‘no_cores’
get_paren: no visible binding for global variable ‘no_cores’
ms_psig: no visible binding for global variable ‘meta’
Undefined global functions or variables:
meta no_cores
* checking Rd files ... OK
* checking Rd metadata ... OK
* checking Rd cross-references ... OK
* checking for missing documentation entries ... OK
* checking for code/documentation mismatches ... OK
* checking Rd \usage sections ... OK
* checking Rd contents ... OK
* checking for unstated dependencies in examples ... OK
* checking contents of ‘data’ directory ... OK
* checking data for non-ASCII characters ... OK
* checking data for ASCII and uncompressed saves ... OK
* checking files in ‘vignettes’ ... OK
* checking examples ... OK
Examples with CPU (user + system) or elapsed time > 5s
user system elapsed
fg_save_plots 87.036 0.839 111.314
fg_save 86.817 0.557 114.189
fg_load 85.429 0.749 114.117
fg_get_summary_index 4.428 0.069 6.031
fg_get_summary 4.332 0.023 5.578
* checking for unstated dependencies in ‘tests’ ... OK
* checking tests ...
Running ‘testthat.R’
OK
* checking for unstated dependencies in vignettes ... OK
* checking package vignettes in ‘inst/doc’ ... OK
* checking running R code from vignettes ... SKIPPED
* checking re-building of vignette outputs ... SKIPPED
* checking PDF version of manual ... OK
* DONE
Status: 1 NOTE
See
‘/Users/biocbuild/bbs-3.17-bioc/meat/flowGraph.Rcheck/00check.log’
for details.
flowGraph.Rcheck/00install.out
############################################################################## ############################################################################## ### ### Running command: ### ### /Library/Frameworks/R.framework/Resources/bin/R CMD INSTALL flowGraph ### ############################################################################## ############################################################################## * installing to library ‘/Library/Frameworks/R.framework/Versions/4.3-x86_64/Resources/library’ * installing *source* package ‘flowGraph’ ... ** using staged installation ** R ** data ** inst ** byte-compile and prepare package for lazy loading ** help Loading required namespace: flowGraph *** installing help indices ** building package indices ** installing vignettes ** testing if installed package can be loaded from temporary location ** testing if installed package can be loaded from final location ** testing if installed package keeps a record of temporary installation path * DONE (flowGraph)
flowGraph.Rcheck/tests/testthat.Rout
R version 4.3.1 (2023-06-16) -- "Beagle Scouts"
Copyright (C) 2023 The R Foundation for Statistical Computing
Platform: x86_64-apple-darwin20 (64-bit)
R is free software and comes with ABSOLUTELY NO WARRANTY.
You are welcome to redistribute it under certain conditions.
Type 'license()' or 'licence()' for distribution details.
R is a collaborative project with many contributors.
Type 'contributors()' for more information and
'citation()' on how to cite R or R packages in publications.
Type 'demo()' for some demos, 'help()' for on-line help, or
'help.start()' for an HTML browser interface to help.
Type 'q()' to quit R.
> library(testthat)
> library(flowGraph)
>
> test_check("flowGraph")
[ FAIL 0 | WARN 0 | SKIP 0 | PASS 34 ]
>
> proc.time()
user system elapsed
11.730 0.554 16.054
flowGraph.Rcheck/flowGraph-Ex.timings
| name | user | system | elapsed | |
| cell_type_layers | 0.005 | 0.002 | 0.010 | |
| fg_add_feature | 0.771 | 0.017 | 1.009 | |
| fg_add_summary | 2.146 | 0.024 | 2.856 | |
| fg_clean_phen | 0.000 | 0.001 | 0.000 | |
| fg_clear_features | 2.068 | 0.018 | 2.664 | |
| fg_clear_summary | 0.806 | 0.009 | 1.035 | |
| fg_extract_phenotypes | 0.618 | 0.008 | 0.809 | |
| fg_extract_raw | 2.003 | 0.017 | 2.668 | |
| fg_extract_samples | 0.612 | 0.009 | 0.820 | |
| fg_feat_cumsum | 0.615 | 0.007 | 0.817 | |
| fg_feat_edge_specenr | 0.990 | 0.011 | 1.338 | |
| fg_feat_mean_class | 0.603 | 0.007 | 0.817 | |
| fg_feat_node_prop | 0.612 | 0.006 | 0.802 | |
| fg_feat_node_specenr | 0.968 | 0.011 | 1.292 | |
| fg_feat_prop_edge | 0.622 | 0.007 | 0.818 | |
| fg_get_feature | 0.615 | 0.006 | 0.775 | |
| fg_get_feature_desc | 2.037 | 0.017 | 2.722 | |
| fg_get_feature_means | 3.091 | 0.022 | 4.163 | |
| fg_get_graph | 0.603 | 0.007 | 0.812 | |
| fg_get_markers | 0.600 | 0.006 | 0.769 | |
| fg_get_meta | 0.600 | 0.007 | 0.773 | |
| fg_get_summary | 4.332 | 0.023 | 5.578 | |
| fg_get_summary_desc | 2.010 | 0.013 | 2.571 | |
| fg_get_summary_index | 4.428 | 0.069 | 6.031 | |
| fg_get_summary_tables | 2.944 | 0.025 | 3.636 | |
| fg_gsub_ids | 0.602 | 0.010 | 0.811 | |
| fg_gsub_markers | 0.737 | 0.010 | 1.004 | |
| fg_load | 85.429 | 0.749 | 114.117 | |
| fg_merge | 0.645 | 0.009 | 0.884 | |
| fg_merge_samples | 0.672 | 0.007 | 0.916 | |
| fg_plot | 0.996 | 0.010 | 1.347 | |
| fg_plot_box | 1.591 | 0.011 | 2.107 | |
| fg_plot_pVSdiff | 0.922 | 0.008 | 1.230 | |
| fg_plot_qq | 3.076 | 0.130 | 4.202 | |
| fg_replace_meta | 0.641 | 0.008 | 0.827 | |
| fg_rm_feature | 2.094 | 0.017 | 2.704 | |
| fg_rm_summary | 0.874 | 0.007 | 1.125 | |
| fg_save | 86.817 | 0.557 | 114.189 | |
| fg_save_plots | 87.036 | 0.839 | 111.314 | |
| fg_set_layout | 0.667 | 0.011 | 0.884 | |
| fg_summary | 0.865 | 0.011 | 1.154 | |
| flowGraph-class | 0.001 | 0.001 | 0.003 | |
| flowGraph | 3.103 | 0.027 | 4.146 | |
| flowGraphSubset | 0.000 | 0.000 | 0.001 | |
| flowGraphSubset_summary_adjust | 0.001 | 0.001 | 0.002 | |
| flowGraphSubset_summary_pars | 0.000 | 0.001 | 0.002 | |
| get_phen_list | 0.029 | 0.002 | 0.045 | |
| get_phen_meta | 0.004 | 0.001 | 0.005 | |
| ggdf | 0.668 | 0.012 | 0.939 | |
| loop_ind_f | 0.001 | 0.001 | 0.007 | |
| meandiff | 0.001 | 0.000 | 0.001 | |
| plot_gr | 3.168 | 0.063 | 4.212 | |
| set_layout_graph | 0.689 | 0.100 | 1.039 | |
| summary_table | 0.008 | 0.001 | 0.010 | |
| time_output | 0.001 | 0.000 | 0.001 | |
| tstr | 0.000 | 0.000 | 0.001 | |