Back to Multiple platform build/check report for BioC 3.17: simplified long |
|
This page was generated on 2023-10-16 11:36:08 -0400 (Mon, 16 Oct 2023).
Hostname | OS | Arch (*) | R version | Installed pkgs |
---|---|---|---|---|
nebbiolo1 | Linux (Ubuntu 22.04.2 LTS) | x86_64 | 4.3.1 (2023-06-16) -- "Beagle Scouts" | 4626 |
palomino3 | Windows Server 2022 Datacenter | x64 | 4.3.1 (2023-06-16 ucrt) -- "Beagle Scouts" | 4379 |
merida1 | macOS 12.6.4 Monterey | x86_64 | 4.3.1 (2023-06-16) -- "Beagle Scouts" | 4395 |
Click on any hostname to see more info about the system (e.g. compilers) (*) as reported by 'uname -p', except on Windows and Mac OS X |
Package 704/2230 | Hostname | OS / Arch | INSTALL | BUILD | CHECK | BUILD BIN | ||||||||
flagme 1.56.0 (landing page) Mark Robinson
| nebbiolo1 | Linux (Ubuntu 22.04.2 LTS) / x86_64 | OK | OK | WARNINGS | ![]() | ||||||||
palomino3 | Windows Server 2022 Datacenter / x64 | OK | OK | WARNINGS | OK | ![]() | ||||||||
merida1 | macOS 12.6.4 Monterey / x86_64 | OK | OK | WARNINGS | OK | ![]() | ||||||||
kjohnson2 | macOS 12.6.1 Monterey / arm64 | see weekly results here | ||||||||||||
To the developers/maintainers of the flagme package: - Allow up to 24 hours (and sometimes 48 hours) for your latest push to git@git.bioconductor.org:packages/flagme.git to reflect on this report. See Troubleshooting Build Report for more information. - Use the following Renviron settings to reproduce errors and warnings. - If 'R CMD check' started to fail recently on the Linux builder(s) over a missing dependency, add the missing dependency to 'Suggests:' in your DESCRIPTION file. See Renviron.bioc for more information. |
Package: flagme |
Version: 1.56.0 |
Command: F:\biocbuild\bbs-3.17-bioc\R\bin\R.exe CMD check --no-multiarch --install=check:flagme.install-out.txt --library=F:\biocbuild\bbs-3.17-bioc\R\library --no-vignettes --timings flagme_1.56.0.tar.gz |
StartedAt: 2023-10-16 02:12:10 -0400 (Mon, 16 Oct 2023) |
EndedAt: 2023-10-16 02:28:03 -0400 (Mon, 16 Oct 2023) |
EllapsedTime: 953.5 seconds |
RetCode: 0 |
Status: WARNINGS |
CheckDir: flagme.Rcheck |
Warnings: 2 |
############################################################################## ############################################################################## ### ### Running command: ### ### F:\biocbuild\bbs-3.17-bioc\R\bin\R.exe CMD check --no-multiarch --install=check:flagme.install-out.txt --library=F:\biocbuild\bbs-3.17-bioc\R\library --no-vignettes --timings flagme_1.56.0.tar.gz ### ############################################################################## ############################################################################## * using log directory 'F:/biocbuild/bbs-3.17-bioc/meat/flagme.Rcheck' * using R version 4.3.1 (2023-06-16 ucrt) * using platform: x86_64-w64-mingw32 (64-bit) * R was compiled by gcc.exe (GCC) 12.2.0 GNU Fortran (GCC) 12.2.0 * running under: Windows Server 2022 x64 (build 20348) * using session charset: UTF-8 * using option '--no-vignettes' * checking for file 'flagme/DESCRIPTION' ... OK * this is package 'flagme' version '1.56.0' * package encoding: UTF-8 * checking package namespace information ... OK * checking package dependencies ... OK * checking if this is a source package ... OK * checking if there is a namespace ... OK * checking for hidden files and directories ... OK * checking for portable file names ... OK * checking whether package 'flagme' can be installed ... OK * used C compiler: 'gcc.exe (GCC) 12.2.0' * checking installed package size ... OK * checking package directory ... OK * checking 'build' directory ... OK * checking DESCRIPTION meta-information ... OK * checking top-level files ... OK * checking for left-over files ... OK * checking index information ... OK * checking package subdirectories ... OK * checking R files for non-ASCII characters ... OK * checking R files for syntax errors ... OK * checking whether the package can be loaded ... OK * checking whether the package can be loaded with stated dependencies ... OK * checking whether the package can be unloaded cleanly ... OK * checking whether the namespace can be loaded with stated dependencies ... OK * checking whether the namespace can be unloaded cleanly ... OK * checking startup messages can be suppressed ... OK * checking dependencies in R code ... NOTE Unexported object imported by a ':::' call: 'xcms:::rectUnique' See the note in ?`:::` about the use of this operator. * checking S3 generic/method consistency ... OK * checking replacement functions ... OK * checking foreign function calls ... OK * checking R code for possible problems ... NOTE addXCMSPeaks: no visible global function definition for 'bpparam' addXCMSPeaks: no visible global function definition for 'sampnames' addXCMSPeaks : <anonymous> : <anonymous>: no visible global function definition for 'setNames' importSpec : <anonymous>: no visible global function definition for 'setNames' Undefined global functions or variables: bpparam sampnames setNames Consider adding importFrom("stats", "setNames") to your NAMESPACE file. * checking Rd files ... OK * checking Rd metadata ... OK * checking Rd cross-references ... WARNING Missing link or links in documentation object 'addXCMSPeaks.Rd': '[xcms]{findPeaks-matchedFilter}' '[xcms]{findPeaks-centWave}' '[xcms]{peaksDataset}' Missing link or links in documentation object 'plotAlignment-peaksAlignment-method.Rd': 'plotAlignment' Missing link or links in documentation object 'plotClustAlignment-clusterAlignment-method.Rd': 'plotAlignment' See section 'Cross-references' in the 'Writing R Extensions' manual. * checking for missing documentation entries ... WARNING Undocumented code objects: 'plotAlignment' 'plotChrom' 'plotClustAlignment' Undocumented S4 methods: generic 'show' and siglist 'betweenAlignment' All user-level objects in a package (including S4 classes and methods) should have documentation entries. See chapter 'Writing R documentation files' in the 'Writing R Extensions' manual. * checking for code/documentation mismatches ... OK * checking Rd \usage sections ... OK * checking Rd contents ... OK * checking for unstated dependencies in examples ... OK * checking line endings in C/C++/Fortran sources/headers ... OK * checking compiled code ... NOTE Note: information on .o files for x64 is not available File 'F:/biocbuild/bbs-3.17-bioc/R/library/flagme/libs/x64/flagme.dll': Found 'abort', possibly from 'abort' (C), 'runtime' (Fortran) Compiled code should not call entry points which might terminate R nor write to stdout/stderr instead of to the console, nor use Fortran I/O nor system RNGs nor [v]sprintf. The detected symbols are linked into the code but might come from libraries and not actually be called. See 'Writing portable packages' in the 'Writing R Extensions' manual. * checking sizes of PDF files under 'inst/doc' ... OK * checking files in 'vignettes' ... OK * checking examples ... OK Examples with CPU (user + system) or elapsed time > 5s user system elapsed plotAlignedFrags 32.06 0.63 76.94 addXCMSPeaks 18.97 0.67 62.92 corPrt 18.56 0.34 60.08 peaksAlignment-class 17.81 0.45 67.55 plotFrags 17.64 0.31 60.43 progressiveAlignment-class 17.53 0.41 57.47 dynRT 17.05 0.39 58.01 plotAlignment-peaksAlignment-method 17.08 0.34 57.95 ndpRT 16.75 0.43 60.47 retFatMatrix 16.44 0.44 56.63 imputePeaks 9.02 0.23 11.59 plotChrom-peaksDataset-method 6.89 0.20 7.11 rmaFitUnit 6.26 0.07 6.34 multipleAlignment-class 5.80 0.14 5.94 calcTimeDiffs 5.73 0.20 6.37 gatherInfo 5.73 0.14 5.88 clusterAlignment 5.27 0.10 5.36 normDotProduct 5.10 0.09 5.20 addAMDISPeaks 4.89 0.16 6.36 * checking for unstated dependencies in vignettes ... OK * checking package vignettes in 'inst/doc' ... OK * checking running R code from vignettes ... SKIPPED * checking re-building of vignette outputs ... SKIPPED * checking PDF version of manual ... OK * DONE Status: 2 WARNINGs, 3 NOTEs See 'F:/biocbuild/bbs-3.17-bioc/meat/flagme.Rcheck/00check.log' for details.
flagme.Rcheck/00install.out
############################################################################## ############################################################################## ### ### Running command: ### ### F:\biocbuild\bbs-3.17-bioc\R\bin\R.exe CMD INSTALL flagme ### ############################################################################## ############################################################################## * installing to library 'F:/biocbuild/bbs-3.17-bioc/R/library' * installing *source* package 'flagme' ... ** using staged installation ** libs using C compiler: 'gcc.exe (GCC) 12.2.0' gcc -I"F:/biocbuild/bbs-3.17-bioc/R/include" -DNDEBUG -I"C:/rtools43/x86_64-w64-mingw32.static.posix/include" -O2 -Wall -mfpmath=sse -msse2 -mstackrealign -c dp.c -o dp.o dp.c: In function 'dp': dp.c:263:33: warning: 'cur_min' may be used uninitialized [-Wmaybe-uninitialized] 263 | D[(i+1)+(j+1)*(nr+1)] = cur_min; | ~~~~~~~~~~~~~~~~~~~~~~^~~~~~~~~ dp.c:218:21: note: 'cur_min' was declared here 218 | double gap=*gap_, cur_min, a, b, c; | ^~~~~~~ dp.c:264:35: warning: 'tb' may be used uninitialized [-Wmaybe-uninitialized] 264 | phi[(i+1)+(j+1)*(nr+1)] = tb; | ~~~~~~~~~~~~~~~~~~~~~~~~^~~~ dp.c:217:30: note: 'tb' was declared here 217 | int i,j, nr=*nr_, nc=*nc_, tb, count=0, done=0; | ^~ gcc -I"F:/biocbuild/bbs-3.17-bioc/R/include" -DNDEBUG -I"C:/rtools43/x86_64-w64-mingw32.static.posix/include" -O2 -Wall -mfpmath=sse -msse2 -mstackrealign -c init.c -o init.o gcc -I"F:/biocbuild/bbs-3.17-bioc/R/include" -DNDEBUG -I"C:/rtools43/x86_64-w64-mingw32.static.posix/include" -O2 -Wall -mfpmath=sse -msse2 -mstackrealign -c pearson.c -o pearson.o gcc -shared -s -static-libgcc -o flagme.dll tmp.def dp.o init.o pearson.o -LC:/rtools43/x86_64-w64-mingw32.static.posix/lib/x64 -LC:/rtools43/x86_64-w64-mingw32.static.posix/lib -LF:/biocbuild/bbs-3.17-bioc/R/bin/x64 -lR installing to F:/biocbuild/bbs-3.17-bioc/R/library/00LOCK-flagme/00new/flagme/libs/x64 ** R ** inst ** byte-compile and prepare package for lazy loading ** help *** installing help indices ** building package indices ** installing vignettes ** testing if installed package can be loaded from temporary location ** testing if installed package can be loaded from final location ** testing if installed package keeps a record of temporary installation path * DONE (flagme)
flagme.Rcheck/flagme-Ex.timings
name | user | system | elapsed | |
addAMDISPeaks | 4.89 | 0.16 | 6.36 | |
addChromaTOFPeaks | 3.29 | 0.16 | 3.44 | |
addXCMSPeaks | 18.97 | 0.67 | 62.92 | |
betweenAlignment | 0 | 0 | 0 | |
calcTimeDiffs | 5.73 | 0.20 | 6.37 | |
clusterAlignment | 5.27 | 0.10 | 5.36 | |
corPrt | 18.56 | 0.34 | 60.08 | |
dp | 4.86 | 0.08 | 4.94 | |
dynRT | 17.05 | 0.39 | 58.01 | |
gatherInfo | 5.73 | 0.14 | 5.88 | |
imputePeaks | 9.02 | 0.23 | 11.59 | |
multipleAlignment-class | 5.80 | 0.14 | 5.94 | |
ndpRT | 16.75 | 0.43 | 60.47 | |
normDotProduct | 5.10 | 0.09 | 5.20 | |
parseChromaTOF | 2.04 | 0.03 | 3.30 | |
parseELU | 1.73 | 0.00 | 1.73 | |
peaksAlignment-class | 17.81 | 0.45 | 67.55 | |
peaksDataset | 4.85 | 0.08 | 4.92 | |
plotAlignedFrags | 32.06 | 0.63 | 76.94 | |
plotAlignment-peaksAlignment-method | 17.08 | 0.34 | 57.95 | |
plotChrom-peaksDataset-method | 6.89 | 0.20 | 7.11 | |
plotClustAlignment-clusterAlignment-method | 4.87 | 0.08 | 4.99 | |
plotFrags | 17.64 | 0.31 | 60.43 | |
plotImage | 3.08 | 0.08 | 3.16 | |
progressiveAlignment-class | 17.53 | 0.41 | 57.47 | |
retFatMatrix | 16.44 | 0.44 | 56.63 | |
rmaFitUnit | 6.26 | 0.07 | 6.34 | |