Back to Multiple platform build/check report for BioC 3.17: simplified long |
|
This page was generated on 2023-10-16 11:35:14 -0400 (Mon, 16 Oct 2023).
Hostname | OS | Arch (*) | R version | Installed pkgs |
---|---|---|---|---|
nebbiolo1 | Linux (Ubuntu 22.04.2 LTS) | x86_64 | 4.3.1 (2023-06-16) -- "Beagle Scouts" | 4626 |
palomino3 | Windows Server 2022 Datacenter | x64 | 4.3.1 (2023-06-16 ucrt) -- "Beagle Scouts" | 4379 |
merida1 | macOS 12.6.4 Monterey | x86_64 | 4.3.1 (2023-06-16) -- "Beagle Scouts" | 4395 |
Click on any hostname to see more info about the system (e.g. compilers) (*) as reported by 'uname -p', except on Windows and Mac OS X |
Package 266/2230 | Hostname | OS / Arch | INSTALL | BUILD | CHECK | BUILD BIN | ||||||||
cardelino 1.2.0 (landing page) Davis McCarthy
| nebbiolo1 | Linux (Ubuntu 22.04.2 LTS) / x86_64 | OK | OK | OK | ![]() | ||||||||
palomino3 | Windows Server 2022 Datacenter / x64 | OK | OK | OK | OK | ![]() | ||||||||
merida1 | macOS 12.6.4 Monterey / x86_64 | OK | OK | OK | OK | ![]() | ||||||||
kjohnson2 | macOS 12.6.1 Monterey / arm64 | see weekly results here | ||||||||||||
To the developers/maintainers of the cardelino package: - Allow up to 24 hours (and sometimes 48 hours) for your latest push to git@git.bioconductor.org:packages/cardelino.git to reflect on this report. See Troubleshooting Build Report for more information. - Use the following Renviron settings to reproduce errors and warnings. - If 'R CMD check' started to fail recently on the Linux builder(s) over a missing dependency, add the missing dependency to 'Suggests:' in your DESCRIPTION file. See Renviron.bioc for more information. |
Package: cardelino |
Version: 1.2.0 |
Command: /home/biocbuild/bbs-3.17-bioc/R/bin/R CMD check --install=check:cardelino.install-out.txt --library=/home/biocbuild/bbs-3.17-bioc/R/site-library --timings cardelino_1.2.0.tar.gz |
StartedAt: 2023-10-15 19:50:12 -0400 (Sun, 15 Oct 2023) |
EndedAt: 2023-10-15 19:57:28 -0400 (Sun, 15 Oct 2023) |
EllapsedTime: 435.3 seconds |
RetCode: 0 |
Status: OK |
CheckDir: cardelino.Rcheck |
Warnings: 0 |
############################################################################## ############################################################################## ### ### Running command: ### ### /home/biocbuild/bbs-3.17-bioc/R/bin/R CMD check --install=check:cardelino.install-out.txt --library=/home/biocbuild/bbs-3.17-bioc/R/site-library --timings cardelino_1.2.0.tar.gz ### ############################################################################## ############################################################################## * using log directory ‘/home/biocbuild/bbs-3.17-bioc/meat/cardelino.Rcheck’ * using R version 4.3.1 (2023-06-16) * using platform: x86_64-pc-linux-gnu (64-bit) * R was compiled by gcc (Ubuntu 11.3.0-1ubuntu1~22.04.1) 11.3.0 GNU Fortran (Ubuntu 11.3.0-1ubuntu1~22.04.1) 11.3.0 * running under: Ubuntu 22.04.3 LTS * using session charset: UTF-8 * checking for file ‘cardelino/DESCRIPTION’ ... OK * checking extension type ... Package * this is package ‘cardelino’ version ‘1.2.0’ * package encoding: UTF-8 * checking package namespace information ... OK * checking package dependencies ... OK * checking if this is a source package ... OK * checking if there is a namespace ... OK * checking for hidden files and directories ... OK * checking for portable file names ... OK * checking for sufficient/correct file permissions ... OK * checking whether package ‘cardelino’ can be installed ... OK * checking installed package size ... OK * checking package directory ... OK * checking ‘build’ directory ... OK * checking DESCRIPTION meta-information ... OK * checking top-level files ... OK * checking for left-over files ... OK * checking index information ... OK * checking package subdirectories ... OK * checking R files for non-ASCII characters ... OK * checking R files for syntax errors ... OK * checking whether the package can be loaded ... OK * checking whether the package can be loaded with stated dependencies ... OK * checking whether the package can be unloaded cleanly ... OK * checking whether the namespace can be loaded with stated dependencies ... OK * checking whether the namespace can be unloaded cleanly ... OK * checking loading without being on the library search path ... OK * checking dependencies in R code ... OK * checking S3 generic/method consistency ... OK * checking replacement functions ... OK * checking foreign function calls ... OK * checking R code for possible problems ... OK * checking Rd files ... OK * checking Rd metadata ... OK * checking Rd cross-references ... OK * checking for missing documentation entries ... OK * checking for code/documentation mismatches ... OK * checking Rd \usage sections ... OK * checking Rd contents ... OK * checking for unstated dependencies in examples ... OK * checking contents of ‘data’ directory ... OK * checking data for non-ASCII characters ... OK * checking data for ASCII and uncompressed saves ... OK * checking files in ‘vignettes’ ... OK * checking examples ... OK Examples with CPU (user + system) or elapsed time > 5s user system elapsed vc_heatmap 59.592 0.684 60.275 get_snp_matrices 14.338 1.236 15.576 clone_id 12.750 0.296 13.046 * checking for unstated dependencies in ‘tests’ ... OK * checking tests ... Running ‘testthat.R’ OK * checking for unstated dependencies in vignettes ... OK * checking package vignettes in ‘inst/doc’ ... OK * checking running R code from vignettes ... ‘vignette-cloneid.Rmd’ using ‘UTF-8’... OK NONE * checking re-building of vignette outputs ... OK * checking PDF version of manual ... OK * DONE Status: OK
cardelino.Rcheck/00install.out
############################################################################## ############################################################################## ### ### Running command: ### ### /home/biocbuild/bbs-3.17-bioc/R/bin/R CMD INSTALL cardelino ### ############################################################################## ############################################################################## * installing to library ‘/home/biocbuild/bbs-3.17-bioc/R/site-library’ * installing *source* package ‘cardelino’ ... ** using staged installation ** R ** data ** inst ** byte-compile and prepare package for lazy loading ** help *** installing help indices ** building package indices ** installing vignettes ** testing if installed package can be loaded from temporary location ** testing if installed package can be loaded from final location ** testing if installed package keeps a record of temporary installation path * DONE (cardelino)
cardelino.Rcheck/tests/testthat.Rout
R version 4.3.1 (2023-06-16) -- "Beagle Scouts" Copyright (C) 2023 The R Foundation for Statistical Computing Platform: x86_64-pc-linux-gnu (64-bit) R is free software and comes with ABSOLUTELY NO WARRANTY. You are welcome to redistribute it under certain conditions. Type 'license()' or 'licence()' for distribution details. R is a collaborative project with many contributors. Type 'contributors()' for more information and 'citation()' on how to cite R or R packages in publications. Type 'demo()' for some demos, 'help()' for on-line help, or 'help.start()' for an HTML browser interface to help. Type 'q()' to quit R. > Sys.setenv("R_TESTS" = "") > library(testthat) > library(cardelino) > > test_check("cardelino") [1] "Total iterations: 11" 98.8% converged. 98.7% converged. 98.5% converged. 98.4% converged. [1] "Converged in 500 iterations." DIC: 2975.4 D_mean: 2529.67 D_post: 2395.61 logLik_var: 144.95 [,1] [,2] [,3] [,4] [1,] 1 2 3 4 [1] "58 samples have multiple labels." Scanning file to determine attributes. File attributes: meta lines: 37 header_line: 38 variant count: 112 column count: 86 Meta line 37 read in. All meta lines processed. gt matrix initialized. Character matrix gt created. Character matrix gt rows: 112 Character matrix gt cols: 86 skip: 0 nrows: 112 row_num: 0 Processed variant: 112 All variants processed [1] "112 out of 112 SNPs passed." Scanning file to determine attributes. File attributes: meta lines: 37 header_line: 38 variant count: 112 column count: 86 Meta line 37 read in. All meta lines processed. gt matrix initialized. Character matrix gt created. Character matrix gt rows: 112 Character matrix gt cols: 86 skip: 0 nrows: 112 row_num: 0 Processed variant: 112 All variants processed [ FAIL 0 | WARN 2 | SKIP 0 | PASS 20 ] [ FAIL 0 | WARN 2 | SKIP 0 | PASS 20 ] > > # check test coverage with covr in Rstudio > # covr::package_coverage() > > proc.time() user system elapsed 23.540 0.836 24.369
cardelino.Rcheck/cardelino-Ex.timings
name | user | system | elapsed | |
assign_cells_to_clones | 0.082 | 0.000 | 0.082 | |
binaryPRC | 0.008 | 0.000 | 0.009 | |
binaryROC | 0.010 | 0.000 | 0.009 | |
clone_id | 12.750 | 0.296 | 13.046 | |
colMatch | 0.001 | 0.000 | 0.001 | |
get_snp_matrices | 14.338 | 1.236 | 15.576 | |
get_tree | 0.299 | 0.000 | 0.299 | |
heat_matrix | 0.548 | 0.000 | 0.548 | |
load_GT_vcf | 0.210 | 0.020 | 0.232 | |
load_cellSNP_vcf | 0.018 | 0.000 | 0.018 | |
mixBinom | 0.01 | 0.00 | 0.01 | |
mtx_to_df | 0.002 | 0.000 | 0.002 | |
plot_config_diffs | 0.125 | 0.000 | 0.125 | |
plot_tree | 0.205 | 0.004 | 0.209 | |
predMixBinom | 0.009 | 0.000 | 0.009 | |
prob_heatmap | 0.078 | 0.000 | 0.078 | |
pub.theme | 0.025 | 0.000 | 0.025 | |
read_vcf | 2.814 | 0.720 | 3.533 | |
rowArgmax | 0.001 | 0.000 | 0.000 | |
rowMax | 0 | 0 | 0 | |
sample_seq_depth | 0.011 | 0.000 | 0.011 | |
sample_tree_SNV | 0.004 | 0.000 | 0.004 | |
sim_read_count | 2.540 | 0.052 | 2.592 | |
vc_heatmap | 59.592 | 0.684 | 60.275 | |