Back to Multiple platform build/check report for BioC 3.17: simplified long |
|
This page was generated on 2023-10-16 11:36:53 -0400 (Mon, 16 Oct 2023).
Hostname | OS | Arch (*) | R version | Installed pkgs |
---|---|---|---|---|
nebbiolo1 | Linux (Ubuntu 22.04.2 LTS) | x86_64 | 4.3.1 (2023-06-16) -- "Beagle Scouts" | 4626 |
palomino3 | Windows Server 2022 Datacenter | x64 | 4.3.1 (2023-06-16 ucrt) -- "Beagle Scouts" | 4379 |
merida1 | macOS 12.6.4 Monterey | x86_64 | 4.3.1 (2023-06-16) -- "Beagle Scouts" | 4395 |
Click on any hostname to see more info about the system (e.g. compilers) (*) as reported by 'uname -p', except on Windows and Mac OS X |
Package 247/2230 | Hostname | OS / Arch | INSTALL | BUILD | CHECK | BUILD BIN | ||||||||
bugsigdbr 1.6.6 (landing page) Ludwig Geistlinger
| nebbiolo1 | Linux (Ubuntu 22.04.2 LTS) / x86_64 | OK | OK | OK | ![]() | ||||||||
palomino3 | Windows Server 2022 Datacenter / x64 | OK | OK | OK | OK | ![]() | ||||||||
merida1 | macOS 12.6.4 Monterey / x86_64 | OK | OK | ERROR | OK | |||||||||
kjohnson2 | macOS 12.6.1 Monterey / arm64 | see weekly results here | ||||||||||||
To the developers/maintainers of the bugsigdbr package: - Allow up to 24 hours (and sometimes 48 hours) for your latest push to git@git.bioconductor.org:packages/bugsigdbr.git to reflect on this report. See Troubleshooting Build Report for more information. - Use the following Renviron settings to reproduce errors and warnings. - If 'R CMD check' started to fail recently on the Linux builder(s) over a missing dependency, add the missing dependency to 'Suggests:' in your DESCRIPTION file. See Renviron.bioc for more information. |
Package: bugsigdbr |
Version: 1.6.6 |
Command: /Library/Frameworks/R.framework/Resources/bin/R CMD check --install=check:bugsigdbr.install-out.txt --library=/Library/Frameworks/R.framework/Resources/library --no-vignettes --timings bugsigdbr_1.6.6.tar.gz |
StartedAt: 2023-10-15 23:20:09 -0400 (Sun, 15 Oct 2023) |
EndedAt: 2023-10-15 23:23:57 -0400 (Sun, 15 Oct 2023) |
EllapsedTime: 228.6 seconds |
RetCode: 1 |
Status: ERROR |
CheckDir: bugsigdbr.Rcheck |
Warnings: NA |
############################################################################## ############################################################################## ### ### Running command: ### ### /Library/Frameworks/R.framework/Resources/bin/R CMD check --install=check:bugsigdbr.install-out.txt --library=/Library/Frameworks/R.framework/Resources/library --no-vignettes --timings bugsigdbr_1.6.6.tar.gz ### ############################################################################## ############################################################################## * using log directory ‘/Users/biocbuild/bbs-3.17-bioc/meat/bugsigdbr.Rcheck’ * using R version 4.3.1 (2023-06-16) * using platform: x86_64-apple-darwin20 (64-bit) * R was compiled by Apple clang version 14.0.3 (clang-1403.0.22.14.1) GNU Fortran (GCC) 12.2.0 * running under: macOS Monterey 12.6.4 * using session charset: UTF-8 * using option ‘--no-vignettes’ * checking for file ‘bugsigdbr/DESCRIPTION’ ... OK * this is package ‘bugsigdbr’ version ‘1.6.6’ * package encoding: UTF-8 * checking package namespace information ... OK * checking package dependencies ... OK * checking if this is a source package ... OK * checking if there is a namespace ... OK * checking for hidden files and directories ... OK * checking for portable file names ... OK * checking for sufficient/correct file permissions ... OK * checking whether package ‘bugsigdbr’ can be installed ... OK * checking installed package size ... OK * checking package directory ... OK * checking ‘build’ directory ... OK * checking DESCRIPTION meta-information ... OK * checking top-level files ... OK * checking for left-over files ... OK * checking index information ... OK * checking package subdirectories ... OK * checking R files for non-ASCII characters ... OK * checking R files for syntax errors ... OK * checking whether the package can be loaded ... OK * checking whether the package can be loaded with stated dependencies ... OK * checking whether the package can be unloaded cleanly ... OK * checking whether the namespace can be loaded with stated dependencies ... OK * checking whether the namespace can be unloaded cleanly ... OK * checking dependencies in R code ... NOTE Unexported object imported by a ':::' call: ‘BiocFileCache:::.sql_set_expires’ See the note in ?`:::` about the use of this operator. * checking S3 generic/method consistency ... OK * checking replacement functions ... OK * checking foreign function calls ... OK * checking R code for possible problems ... NOTE getMetaSignatures: no visible binding for global variable ‘Abundance in Group 1’ Undefined global functions or variables: Abundance in Group 1 * checking Rd files ... OK * checking Rd metadata ... OK * checking Rd cross-references ... OK * checking for missing documentation entries ... OK * checking for code/documentation mismatches ... OK * checking Rd \usage sections ... OK * checking Rd contents ... OK * checking for unstated dependencies in examples ... OK * checking files in ‘vignettes’ ... OK * checking examples ... OK Examples with CPU (user + system) or elapsed time > 5s user system elapsed subsetByOntology 4.105 0.287 6.038 getMetaSignatures 3.773 0.257 5.713 * checking for unstated dependencies in ‘tests’ ... OK * checking tests ... Running ‘testthat.R’ ERROR Running the tests in ‘tests/testthat.R’ failed. Last 13 lines of output: Backtrace: ▆ 1. └─bugsigdbr::importBugSigDB(version = "30383a9", cache = FALSE) at test-importBugSigDB.R:33:4 2. ├─base::suppressMessages(.getResourceFromCache(rname, FUN = .getdf)) 3. │ └─base::withCallingHandlers(...) 4. └─bugsigdbr:::.getResourceFromCache(rname, FUN = .getdf) 5. ├─base::suppressWarnings(...) 6. │ └─base::withCallingHandlers(...) 7. ├─BiocFileCache::bfcdownload(bfc, rid, ask = FALSE, ...) 8. └─BiocFileCache::bfcdownload(bfc, rid, ask = FALSE, ...) 9. └─BiocFileCache:::.util_download_and_rename(...) [ FAIL 3 | WARN 0 | SKIP 0 | PASS 210 ] Error: Test failures Execution halted * checking for unstated dependencies in vignettes ... OK * checking package vignettes in ‘inst/doc’ ... OK * checking running R code from vignettes ... SKIPPED * checking re-building of vignette outputs ... SKIPPED * checking PDF version of manual ... OK * DONE Status: 1 ERROR, 2 NOTEs See ‘/Users/biocbuild/bbs-3.17-bioc/meat/bugsigdbr.Rcheck/00check.log’ for details.
bugsigdbr.Rcheck/00install.out
############################################################################## ############################################################################## ### ### Running command: ### ### /Library/Frameworks/R.framework/Resources/bin/R CMD INSTALL bugsigdbr ### ############################################################################## ############################################################################## * installing to library ‘/Library/Frameworks/R.framework/Versions/4.3-x86_64/Resources/library’ * installing *source* package ‘bugsigdbr’ ... ** using staged installation ** R ** inst ** byte-compile and prepare package for lazy loading ** help *** installing help indices ** building package indices ** installing vignettes ** testing if installed package can be loaded from temporary location ** testing if installed package can be loaded from final location ** testing if installed package keeps a record of temporary installation path * DONE (bugsigdbr)
bugsigdbr.Rcheck/tests/testthat.Rout.fail
R version 4.3.1 (2023-06-16) -- "Beagle Scouts" Copyright (C) 2023 The R Foundation for Statistical Computing Platform: x86_64-apple-darwin20 (64-bit) R is free software and comes with ABSOLUTELY NO WARRANTY. You are welcome to redistribute it under certain conditions. Type 'license()' or 'licence()' for distribution details. R is a collaborative project with many contributors. Type 'contributors()' for more information and 'citation()' on how to cite R or R packages in publications. Type 'demo()' for some demos, 'help()' for on-line help, or 'help.start()' for an HTML browser interface to help. Type 'q()' to quit R. > library(testthat) > library(bugsigdbr) > > test_check("bugsigdbr") [ FAIL 3 | WARN 0 | SKIP 0 | PASS 210 ] ══ Failed tests ════════════════════════════════════════════════════════════════ ── Error ('test-importBugSigDB.R:21:5'): importBugSigDB from Zenodo ──────────── Error: download failed; see warnings() Backtrace: ▆ 1. └─bugsigdbr::importBugSigDB(...) at test-importBugSigDB.R:21:4 2. ├─base::suppressMessages(.getResourceFromCache(rname, FUN = .getdf)) 3. │ └─base::withCallingHandlers(...) 4. └─bugsigdbr:::.getResourceFromCache(rname, FUN = .getdf) 5. ├─base::suppressWarnings(...) 6. │ └─base::withCallingHandlers(...) 7. ├─BiocFileCache::bfcdownload(bfc, rid, ask = FALSE, ...) 8. └─BiocFileCache::bfcdownload(bfc, rid, ask = FALSE, ...) 9. └─BiocFileCache:::.util_download_and_rename(...) ── Error ('test-importBugSigDB.R:27:5'): importBugSigDB from the edge (devel) ── Error: download failed; see warnings() Backtrace: ▆ 1. └─bugsigdbr::importBugSigDB(version = "devel", cache = FALSE) at test-importBugSigDB.R:27:4 2. ├─base::suppressMessages(.getResourceFromCache(rname, FUN = .getdf)) 3. │ └─base::withCallingHandlers(...) 4. └─bugsigdbr:::.getResourceFromCache(rname, FUN = .getdf) 5. ├─base::suppressWarnings(...) 6. │ └─base::withCallingHandlers(...) 7. ├─BiocFileCache::bfcdownload(bfc, rid, ask = FALSE, ...) 8. └─BiocFileCache::bfcdownload(bfc, rid, ask = FALSE, ...) 9. └─BiocFileCache:::.util_download_and_rename(...) ── Error ('test-importBugSigDB.R:33:5'): importBugSigDB from github hash ─────── Error: download failed; see warnings() Backtrace: ▆ 1. └─bugsigdbr::importBugSigDB(version = "30383a9", cache = FALSE) at test-importBugSigDB.R:33:4 2. ├─base::suppressMessages(.getResourceFromCache(rname, FUN = .getdf)) 3. │ └─base::withCallingHandlers(...) 4. └─bugsigdbr:::.getResourceFromCache(rname, FUN = .getdf) 5. ├─base::suppressWarnings(...) 6. │ └─base::withCallingHandlers(...) 7. ├─BiocFileCache::bfcdownload(bfc, rid, ask = FALSE, ...) 8. └─BiocFileCache::bfcdownload(bfc, rid, ask = FALSE, ...) 9. └─BiocFileCache:::.util_download_and_rename(...) [ FAIL 3 | WARN 0 | SKIP 0 | PASS 210 ] Error: Test failures Execution halted
bugsigdbr.Rcheck/bugsigdbr-Ex.timings
name | user | system | elapsed | |
browseSignature | 0.001 | 0.001 | 0.001 | |
browseTaxon | 0.000 | 0.001 | 0.003 | |
extractTaxLevel | 0.002 | 0.001 | 0.004 | |
getMetaSignatures | 3.773 | 0.257 | 5.713 | |
getOntology | 1.278 | 0.058 | 1.723 | |
getSignatures | 1.101 | 0.063 | 1.754 | |
importBugSigDB | 0.437 | 0.040 | 0.915 | |
restrictTaxLevel | 2.448 | 0.108 | 3.569 | |
subsetByOntology | 4.105 | 0.287 | 6.038 | |
writeGMT | 1.060 | 0.143 | 2.010 | |