Back to Multiple platform build/check report for BioC 3.17
A[B]CDEFGHIJKLMNOPQRSTUVWXYZ

This page was generated on 2022-11-09 13:20:18 -0500 (Wed, 09 Nov 2022).

HostnameOSArch (*)R versionInstalled pkgs
nebbiolo1Linux (Ubuntu 20.04.5 LTS)x86_64R Under development (unstable) (2022-10-25 r83175) -- "Unsuffered Consequences" 4449
merida1macOS 10.14.6 Mojavex86_644.2.2 (2022-10-31) -- "Innocent and Trusting" 3992
Click on any hostname to see more info about the system (e.g. compilers)      (*) as reported by 'uname -p', except on Windows and Mac OS X

BUILD BIN results for baySeq on merida1


To the developers/maintainers of the baySeq package:
- Please allow up to 24 hours (and sometimes 48 hours) for your latest push to git@git.bioconductor.org:packages/baySeq.git to
reflect on this report. See How and When does the builder pull? When will my changes propagate? for more information.
- Make sure to use the following settings in order to reproduce any error or warning you see on this page.

raw results

Package 126/2151HostnameOS / ArchINSTALLBUILDCHECKBUILD BIN
baySeq 2.33.0  (landing page)
Thomas J. Hardcastle
Snapshot Date: 2022-11-08 13:55:08 -0500 (Tue, 08 Nov 2022)
git_url: https://git.bioconductor.org/packages/baySeq
git_branch: master
git_last_commit: fd24c8e
git_last_commit_date: 2022-11-01 11:04:42 -0500 (Tue, 01 Nov 2022)
nebbiolo1Linux (Ubuntu 20.04.5 LTS) / x86_64  OK    ERROR  skipped
merida1macOS 10.14.6 Mojave / x86_64  OK    OK    WARNINGS    OK  NO, package depends on 'GenomicRanges' which is not available

Summary

Package: baySeq
Version: 2.33.0
Command: rm -rf baySeq.buildbin-libdir && mkdir baySeq.buildbin-libdir && /Users/biocbuild/BBS/utils/build-universal.sh baySeq_2.33.0.tar.gz /Library/Frameworks/R.framework/Resources/bin/R baySeq.buildbin-libdir
StartedAt: 2022-11-09 08:40:07 -0500 (Wed, 09 Nov 2022)
EndedAt: 2022-11-09 08:41:10 -0500 (Wed, 09 Nov 2022)
EllapsedTime: 63.5 seconds
RetCode: 0
Status:   OK  
PackageFile: baySeq_2.33.0.tgz
PackageFileSize: 1.571 MiB

Command output

##############################################################################
##############################################################################
###
### Running command:
###
###   rm -rf baySeq.buildbin-libdir && mkdir baySeq.buildbin-libdir && /Users/biocbuild/BBS/utils/build-universal.sh baySeq_2.33.0.tar.gz /Library/Frameworks/R.framework/Resources/bin/R baySeq.buildbin-libdir
###
##############################################################################
##############################################################################


>>>>>>> 
>>>>>>> INSTALLATION WITH 'R CMD INSTALL --preclean --no-multiarch --library=baySeq.buildbin-libdir baySeq_2.33.0.tar.gz'
>>>>>>> 

* installing *source* package ‘baySeq’ ...
** using staged installation
** R
** data
** inst
** byte-compile and prepare package for lazy loading
Warning: S3 methods ‘effectiveLibSizes.default’, ‘effectiveLibSizes.DGEList’, ‘effectiveLibSizes.DGEGLM’, ‘effectiveLibSizes.DGELRT’ were declared in NAMESPACE but not found
** help
*** installing help indices
** building package indices
** installing vignettes
** testing if installed package can be loaded from temporary location
Warning: S3 methods ‘effectiveLibSizes.default’, ‘effectiveLibSizes.DGEList’, ‘effectiveLibSizes.DGEGLM’, ‘effectiveLibSizes.DGELRT’ were declared in NAMESPACE but not found
** testing if installed package can be loaded from final location
Warning: S3 methods ‘effectiveLibSizes.default’, ‘effectiveLibSizes.DGEList’, ‘effectiveLibSizes.DGEGLM’, ‘effectiveLibSizes.DGELRT’ were declared in NAMESPACE but not found
** testing if installed package keeps a record of temporary installation path
* DONE (baySeq)