| Back to Multiple platform build/check report for BioC 3.17: simplified long |
|
This page was generated on 2023-10-16 11:36:50 -0400 (Mon, 16 Oct 2023).
| Hostname | OS | Arch (*) | R version | Installed pkgs |
|---|---|---|---|---|
| nebbiolo1 | Linux (Ubuntu 22.04.2 LTS) | x86_64 | 4.3.1 (2023-06-16) -- "Beagle Scouts" | 4626 |
| palomino3 | Windows Server 2022 Datacenter | x64 | 4.3.1 (2023-06-16 ucrt) -- "Beagle Scouts" | 4379 |
| merida1 | macOS 12.6.4 Monterey | x86_64 | 4.3.1 (2023-06-16) -- "Beagle Scouts" | 4395 |
| Click on any hostname to see more info about the system (e.g. compilers) (*) as reported by 'uname -p', except on Windows and Mac OS X | ||||
| Package 83/2230 | Hostname | OS / Arch | INSTALL | BUILD | CHECK | BUILD BIN | ||||||||
| apComplex 2.66.0 (landing page) Denise Scholtens
| nebbiolo1 | Linux (Ubuntu 22.04.2 LTS) / x86_64 | OK | OK | OK | |||||||||
| palomino3 | Windows Server 2022 Datacenter / x64 | OK | OK | OK | OK | |||||||||
| merida1 | macOS 12.6.4 Monterey / x86_64 | OK | OK | OK | OK | |||||||||
| kjohnson2 | macOS 12.6.1 Monterey / arm64 | see weekly results here | ||||||||||||
|
To the developers/maintainers of the apComplex package: - Allow up to 24 hours (and sometimes 48 hours) for your latest push to git@git.bioconductor.org:packages/apComplex.git to reflect on this report. See Troubleshooting Build Report for more information. - Use the following Renviron settings to reproduce errors and warnings. - If 'R CMD check' started to fail recently on the Linux builder(s) over a missing dependency, add the missing dependency to 'Suggests:' in your DESCRIPTION file. See Renviron.bioc for more information. |
| Package: apComplex |
| Version: 2.66.0 |
| Command: /Library/Frameworks/R.framework/Resources/bin/R CMD check --install=check:apComplex.install-out.txt --library=/Library/Frameworks/R.framework/Resources/library --no-vignettes --timings apComplex_2.66.0.tar.gz |
| StartedAt: 2023-10-15 22:33:39 -0400 (Sun, 15 Oct 2023) |
| EndedAt: 2023-10-15 22:38:12 -0400 (Sun, 15 Oct 2023) |
| EllapsedTime: 273.2 seconds |
| RetCode: 0 |
| Status: OK |
| CheckDir: apComplex.Rcheck |
| Warnings: 0 |
##############################################################################
##############################################################################
###
### Running command:
###
### /Library/Frameworks/R.framework/Resources/bin/R CMD check --install=check:apComplex.install-out.txt --library=/Library/Frameworks/R.framework/Resources/library --no-vignettes --timings apComplex_2.66.0.tar.gz
###
##############################################################################
##############################################################################
* using log directory ‘/Users/biocbuild/bbs-3.17-bioc/meat/apComplex.Rcheck’
* using R version 4.3.1 (2023-06-16)
* using platform: x86_64-apple-darwin20 (64-bit)
* R was compiled by
Apple clang version 14.0.3 (clang-1403.0.22.14.1)
GNU Fortran (GCC) 12.2.0
* running under: macOS Monterey 12.6.4
* using session charset: UTF-8
* using option ‘--no-vignettes’
* checking for file ‘apComplex/DESCRIPTION’ ... OK
* this is package ‘apComplex’ version ‘2.66.0’
* checking package namespace information ... OK
* checking package dependencies ... OK
* checking if this is a source package ... OK
* checking if there is a namespace ... OK
* checking for hidden files and directories ... OK
* checking for portable file names ... OK
* checking for sufficient/correct file permissions ... OK
* checking whether package ‘apComplex’ can be installed ... OK
* checking installed package size ... OK
* checking package directory ... OK
* checking ‘build’ directory ... OK
* checking DESCRIPTION meta-information ... OK
* checking top-level files ... OK
* checking for left-over files ... OK
* checking index information ... OK
* checking package subdirectories ... OK
* checking R files for non-ASCII characters ... OK
* checking R files for syntax errors ... OK
* checking whether the package can be loaded ... OK
* checking whether the package can be loaded with stated dependencies ... OK
* checking whether the package can be unloaded cleanly ... OK
* checking whether the namespace can be loaded with stated dependencies ... OK
* checking whether the namespace can be unloaded cleanly ... OK
* checking dependencies in R code ... NOTE
Packages in Depends field not imported from:
‘RBGL’ ‘graph’
These packages need to be imported from (in the NAMESPACE file)
for when this namespace is loaded but not attached.
* checking S3 generic/method consistency ... OK
* checking replacement functions ... OK
* checking foreign function calls ... OK
* checking R code for possible problems ... NOTE
plotComplex: warning in mget(complexMembers, env = org.Sc.sgdGENENAME,
ifnotfound = NA): partial argument match of 'env' to 'envir'
bhmaxSubgraph: no visible global function definition for ‘as’
bhmaxSubgraph: no visible global function definition for ‘ugraph’
bhmaxSubgraph: no visible global function definition for ‘maxClique’
plotComplex: no visible global function definition for ‘subGraph’
plotComplex: no visible global function definition for
‘removeSelfLoops’
plotComplex: no visible global function definition for ‘edgeNames’
plotComplex: no visible global function definition for ‘numEdges’
plotComplex: no visible global function definition for ‘degree’
Undefined global functions or variables:
as degree edgeNames maxClique numEdges removeSelfLoops subGraph
ugraph
Consider adding
importFrom("methods", "as")
to your NAMESPACE file (and ensure that your DESCRIPTION Imports field
contains 'methods').
* checking Rd files ... OK
* checking Rd metadata ... OK
* checking Rd cross-references ... OK
* checking for missing documentation entries ... OK
* checking for code/documentation mismatches ... OK
* checking Rd \usage sections ... OK
* checking Rd contents ... OK
* checking for unstated dependencies in examples ... OK
* checking contents of ‘data’ directory ... OK
* checking data for non-ASCII characters ... OK
* checking data for ASCII and uncompressed saves ... OK
* checking sizes of PDF files under ‘inst/doc’ ... OK
* checking files in ‘vignettes’ ... OK
* checking examples ... OK
* checking for unstated dependencies in vignettes ... OK
* checking package vignettes in ‘inst/doc’ ... OK
* checking running R code from vignettes ... SKIPPED
* checking re-building of vignette outputs ... SKIPPED
* checking PDF version of manual ... OK
* DONE
Status: 2 NOTEs
See
‘/Users/biocbuild/bbs-3.17-bioc/meat/apComplex.Rcheck/00check.log’
for details.
apComplex.Rcheck/00install.out
############################################################################## ############################################################################## ### ### Running command: ### ### /Library/Frameworks/R.framework/Resources/bin/R CMD INSTALL apComplex ### ############################################################################## ############################################################################## * installing to library ‘/Library/Frameworks/R.framework/Versions/4.3-x86_64/Resources/library’ * installing *source* package ‘apComplex’ ... ** using staged installation ** R ** data ** byte-compile and prepare package for lazy loading ** help *** installing help indices ** building package indices ** installing vignettes ** testing if installed package can be loaded from temporary location ** testing if installed package can be loaded from final location ** testing if installed package keeps a record of temporary installation path * DONE (apComplex)
apComplex.Rcheck/apComplex-Ex.timings
| name | user | system | elapsed | |
| FilteredEstimates | 0.075 | 0.008 | 0.104 | |
| HMSPCI | 0.075 | 0.015 | 0.109 | |
| Krogan | 0.006 | 0.002 | 0.012 | |
| LCjoin | 0.652 | 0.019 | 0.847 | |
| MBMEcHMSPCI | 0.006 | 0.003 | 0.010 | |
| MBMEcKrogan | 0.003 | 0.002 | 0.005 | |
| MBMEcTAP | 0.009 | 0.005 | 0.018 | |
| TAP | 0.042 | 0.009 | 0.065 | |
| apEX | 0.004 | 0.006 | 0.012 | |
| bhmaxSubgraph | 0.098 | 0.008 | 0.132 | |
| findComplexes | 0.041 | 0.007 | 0.061 | |
| gavinBP2006 | 0.159 | 0.049 | 0.262 | |
| kroganBPMat2006 | 0.415 | 0.104 | 0.647 | |
| mergeComplexes | 0.373 | 0.020 | 0.505 | |
| plotComplex | 0.176 | 0.011 | 0.239 | |
| sortComplexes | 0.043 | 0.007 | 0.067 | |
| yNameTAP | 0.017 | 0.013 | 0.040 | |
| yTAP | 0.008 | 0.011 | 0.024 | |