| Back to Multiple platform build/check report for BioC 3.17: simplified long | 
  | 
This page was generated on 2023-10-16 11:36:44 -0400 (Mon, 16 Oct 2023).
| Hostname | OS | Arch (*) | R version | Installed pkgs | 
|---|---|---|---|---|
| nebbiolo1 | Linux (Ubuntu 22.04.2 LTS) | x86_64 | 4.3.1 (2023-06-16) -- "Beagle Scouts" | 4626 | 
| palomino3 | Windows Server 2022 Datacenter | x64 | 4.3.1 (2023-06-16 ucrt) -- "Beagle Scouts" | 4379 | 
| merida1 | macOS 12.6.4 Monterey | x86_64 | 4.3.1 (2023-06-16) -- "Beagle Scouts" | 4395 | 
| Click on any hostname to see more info about the system (e.g. compilers) (*) as reported by 'uname -p', except on Windows and Mac OS X | ||||
| Package 2077/2230 | Hostname | OS / Arch | INSTALL | BUILD | CHECK | BUILD BIN | ||||||||
| TCGAutils 1.20.4  (landing page) Marcel Ramos 
  | nebbiolo1 | Linux (Ubuntu 22.04.2 LTS) / x86_64 | OK | OK | OK | |||||||||
| palomino3 | Windows Server 2022 Datacenter / x64 | OK | OK | OK | OK | |||||||||
| merida1 | macOS 12.6.4 Monterey / x86_64 | OK | ERROR | skipped | skipped | |||||||||
| kjohnson2 | macOS 12.6.1 Monterey / arm64 | see weekly results here | ||||||||||||
| 
To the developers/maintainers of the TCGAutils package: - Allow up to 24 hours (and sometimes 48 hours) for your latest push to git@git.bioconductor.org:packages/TCGAutils.git to reflect on this report. See Troubleshooting Build Report for more information. - Use the following Renviron settings to reproduce errors and warnings. - If 'R CMD check' started to fail recently on the Linux builder(s) over a missing dependency, add the missing dependency to 'Suggests:' in your DESCRIPTION file. See Renviron.bioc for more information.  | 
| Package: TCGAutils | 
| Version: 1.20.4 | 
| Command: F:\biocbuild\bbs-3.17-bioc\R\bin\R.exe CMD check --no-multiarch --install=check:TCGAutils.install-out.txt --library=F:\biocbuild\bbs-3.17-bioc\R\library --no-vignettes --timings TCGAutils_1.20.4.tar.gz | 
| StartedAt: 2023-10-16 07:33:48 -0400 (Mon, 16 Oct 2023) | 
| EndedAt: 2023-10-16 07:40:14 -0400 (Mon, 16 Oct 2023) | 
| EllapsedTime: 386.0 seconds | 
| RetCode: 0 | 
| Status: OK | 
| CheckDir: TCGAutils.Rcheck | 
| Warnings: 0 | 
##############################################################################
##############################################################################
###
### Running command:
###
###   F:\biocbuild\bbs-3.17-bioc\R\bin\R.exe CMD check --no-multiarch --install=check:TCGAutils.install-out.txt --library=F:\biocbuild\bbs-3.17-bioc\R\library --no-vignettes --timings TCGAutils_1.20.4.tar.gz
###
##############################################################################
##############################################################################
* using log directory 'F:/biocbuild/bbs-3.17-bioc/meat/TCGAutils.Rcheck'
* using R version 4.3.1 (2023-06-16 ucrt)
* using platform: x86_64-w64-mingw32 (64-bit)
* R was compiled by
    gcc.exe (GCC) 12.2.0
    GNU Fortran (GCC) 12.2.0
* running under: Windows Server 2022 x64 (build 20348)
* using session charset: UTF-8
* using option '--no-vignettes'
* checking for file 'TCGAutils/DESCRIPTION' ... OK
* this is package 'TCGAutils' version '1.20.4'
* package encoding: UTF-8
* checking package namespace information ... OK
* checking package dependencies ... OK
* checking if this is a source package ... OK
* checking if there is a namespace ... OK
* checking for hidden files and directories ... OK
* checking for portable file names ... OK
* checking whether package 'TCGAutils' can be installed ... OK
* checking installed package size ... OK
* checking package directory ... OK
* checking 'build' directory ... OK
* checking DESCRIPTION meta-information ... OK
* checking top-level files ... OK
* checking for left-over files ... OK
* checking index information ... OK
* checking package subdirectories ... OK
* checking R files for non-ASCII characters ... OK
* checking R files for syntax errors ... OK
* checking whether the package can be loaded ... OK
* checking whether the package can be loaded with stated dependencies ... OK
* checking whether the package can be unloaded cleanly ... OK
* checking whether the namespace can be loaded with stated dependencies ... OK
* checking whether the namespace can be unloaded cleanly ... OK
* checking dependencies in R code ... NOTE
Unexported objects imported by ':::' calls:
  'BiocGenerics:::replaceSlots' 'GenomicRanges:::.normarg_field'
  See the note in ?`:::` about the use of this operator.
* checking S3 generic/method consistency ... OK
* checking replacement functions ... OK
* checking foreign function calls ... OK
* checking R code for possible problems ... OK
* checking Rd files ... OK
* checking Rd metadata ... OK
* checking Rd cross-references ... OK
* checking for missing documentation entries ... OK
* checking for code/documentation mismatches ... OK
* checking Rd \usage sections ... OK
* checking Rd contents ... OK
* checking for unstated dependencies in examples ... OK
* checking contents of 'data' directory ... OK
* checking data for non-ASCII characters ... OK
* checking data for ASCII and uncompressed saves ... OK
* checking files in 'vignettes' ... OK
* checking examples ... OK
Examples with CPU (user + system) or elapsed time > 5s
                         user system elapsed
simplifyTCGA            34.08   2.64   37.64
TCGAprimaryTumors       17.45   3.57   48.50
oncoPrintTCGA           11.87   2.05   14.64
trimColData             12.05   1.54   13.89
imputeAssay             11.84   1.31   13.45
curatedTCGAData-helpers 11.34   1.43   13.01
* checking for unstated dependencies in 'tests' ... OK
* checking tests ...
  Running 'testthat.R'
 OK
* checking for unstated dependencies in vignettes ... OK
* checking package vignettes in 'inst/doc' ... OK
* checking running R code from vignettes ... SKIPPED
* checking re-building of vignette outputs ... SKIPPED
* checking PDF version of manual ... OK
* DONE
Status: 1 NOTE
See
  'F:/biocbuild/bbs-3.17-bioc/meat/TCGAutils.Rcheck/00check.log'
for details.
TCGAutils.Rcheck/00install.out
############################################################################## ############################################################################## ### ### Running command: ### ### F:\biocbuild\bbs-3.17-bioc\R\bin\R.exe CMD INSTALL TCGAutils ### ############################################################################## ############################################################################## * installing to library 'F:/biocbuild/bbs-3.17-bioc/R/library' * installing *source* package 'TCGAutils' ... ** using staged installation ** R ** data ** inst ** byte-compile and prepare package for lazy loading ** help *** installing help indices ** building package indices ** installing vignettes ** testing if installed package can be loaded from temporary location ** testing if installed package can be loaded from final location ** testing if installed package keeps a record of temporary installation path * DONE (TCGAutils)
TCGAutils.Rcheck/tests/testthat.Rout
R version 4.3.1 (2023-06-16 ucrt) -- "Beagle Scouts"
Copyright (C) 2023 The R Foundation for Statistical Computing
Platform: x86_64-w64-mingw32/x64 (64-bit)
R is free software and comes with ABSOLUTELY NO WARRANTY.
You are welcome to redistribute it under certain conditions.
Type 'license()' or 'licence()' for distribution details.
R is a collaborative project with many contributors.
Type 'contributors()' for more information and
'citation()' on how to cite R or R packages in publications.
Type 'demo()' for some demos, 'help()' for on-line help, or
'help.start()' for an HTML browser interface to help.
Type 'q()' to quit R.
> library(testthat)
> 
> library(TCGAutils)
> 
> test_check("TCGAutils")
[ FAIL 0 | WARN 0 | SKIP 0 | PASS 49 ]
> 
> proc.time()
   user  system elapsed 
  13.32    0.76   16.73 
TCGAutils.Rcheck/TCGAutils-Ex.timings
| name | user | system | elapsed | |
| ID-translation | 1.91 | 0.08 | 3.88 | |
| TCGAbarcode | 0 | 0 | 0 | |
| TCGAbiospec | 0.05 | 0.00 | 0.05 | |
| TCGAprimaryTumors | 17.45 | 3.57 | 48.50 | |
| TCGAsampleSelect | 0.00 | 0.00 | 0.02 | |
| builds | 0.15 | 0.00 | 0.14 | |
| curatedTCGAData-helpers | 11.34 | 1.43 | 13.01 | |
| findGRangesCols | 0 | 0 | 0 | |
| generateMap | 0.01 | 0.01 | 0.04 | |
| getFileName | 0.02 | 0.00 | 0.42 | |
| imputeAssay | 11.84 | 1.31 | 13.45 | |
| makeGRangesListFromCopyNumber | 0.54 | 0.04 | 1.06 | |
| makeGRangesListFromExonFiles | 0.32 | 0.06 | 0.36 | |
| mergeColData | 0.27 | 0.01 | 0.28 | |
| oncoPrintTCGA | 11.87 | 2.05 | 14.64 | |
| simplifyTCGA | 34.08 | 2.64 | 37.64 | |
| trimColData | 12.05 | 1.54 | 13.89 | |