| Back to Multiple platform build/check report for BioC 3.17: simplified long |
|
This page was generated on 2023-08-30 11:37:43 -0400 (Wed, 30 Aug 2023).
| Hostname | OS | Arch (*) | R version | Installed pkgs |
|---|---|---|---|---|
| nebbiolo1 | Linux (Ubuntu 22.04.2 LTS) | x86_64 | 4.3.1 (2023-06-16) -- "Beagle Scouts" | 4621 |
| palomino3 | Windows Server 2022 Datacenter | x64 | 4.3.1 (2023-06-16 ucrt) -- "Beagle Scouts" | 4377 |
| merida1 | macOS 12.6.4 Monterey | x86_64 | 4.3.1 (2023-06-16) -- "Beagle Scouts" | 4384 |
| Click on any hostname to see more info about the system (e.g. compilers) (*) as reported by 'uname -p', except on Windows and Mac OS X | ||||
| Package 1975/2230 | Hostname | OS / Arch | INSTALL | BUILD | CHECK | BUILD BIN | ||||||||
| SpatialFeatureExperiment 1.2.3 (landing page) Lambda Moses
| nebbiolo1 | Linux (Ubuntu 22.04.2 LTS) / x86_64 | OK | OK | OK | |||||||||
| palomino3 | Windows Server 2022 Datacenter / x64 | OK | OK | OK | OK | |||||||||
| merida1 | macOS 12.6.4 Monterey / x86_64 | OK | OK | OK | OK | |||||||||
|
To the developers/maintainers of the SpatialFeatureExperiment package: - Allow up to 24 hours (and sometimes 48 hours) for your latest push to git@git.bioconductor.org:packages/SpatialFeatureExperiment.git to reflect on this report. See Troubleshooting Build Report for more information. - Use the following Renviron settings to reproduce errors and warnings. - If 'R CMD check' started to fail recently on the Linux builder(s) over a missing dependency, add the missing dependency to 'Suggests:' in your DESCRIPTION file. See Renviron.bioc for more information. |
| Package: SpatialFeatureExperiment |
| Version: 1.2.3 |
| Command: /Library/Frameworks/R.framework/Resources/bin/R CMD check --install=check:SpatialFeatureExperiment.install-out.txt --library=/Library/Frameworks/R.framework/Resources/library --no-vignettes --timings SpatialFeatureExperiment_1.2.3.tar.gz |
| StartedAt: 2023-08-30 07:33:26 -0400 (Wed, 30 Aug 2023) |
| EndedAt: 2023-08-30 07:55:40 -0400 (Wed, 30 Aug 2023) |
| EllapsedTime: 1334.1 seconds |
| RetCode: 0 |
| Status: OK |
| CheckDir: SpatialFeatureExperiment.Rcheck |
| Warnings: 0 |
##############################################################################
##############################################################################
###
### Running command:
###
### /Library/Frameworks/R.framework/Resources/bin/R CMD check --install=check:SpatialFeatureExperiment.install-out.txt --library=/Library/Frameworks/R.framework/Resources/library --no-vignettes --timings SpatialFeatureExperiment_1.2.3.tar.gz
###
##############################################################################
##############################################################################
* using log directory ‘/Users/biocbuild/bbs-3.17-bioc/meat/SpatialFeatureExperiment.Rcheck’
* using R version 4.3.1 (2023-06-16)
* using platform: x86_64-apple-darwin20 (64-bit)
* R was compiled by
Apple clang version 14.0.3 (clang-1403.0.22.14.1)
GNU Fortran (GCC) 12.2.0
* running under: macOS Monterey 12.6.4
* using session charset: UTF-8
* using option ‘--no-vignettes’
* checking for file ‘SpatialFeatureExperiment/DESCRIPTION’ ... OK
* checking extension type ... Package
* this is package ‘SpatialFeatureExperiment’ version ‘1.2.3’
* package encoding: UTF-8
* checking package namespace information ... OK
* checking package dependencies ... OK
* checking if this is a source package ... OK
* checking if there is a namespace ... OK
* checking for hidden files and directories ... OK
* checking for portable file names ... OK
* checking for sufficient/correct file permissions ... OK
* checking whether package ‘SpatialFeatureExperiment’ can be installed ... OK
* checking installed package size ... OK
* checking package directory ... OK
* checking ‘build’ directory ... OK
* checking DESCRIPTION meta-information ... OK
* checking top-level files ... OK
* checking for left-over files ... OK
* checking index information ... OK
* checking package subdirectories ... OK
* checking R files for non-ASCII characters ... OK
* checking R files for syntax errors ... OK
* checking whether the package can be loaded ... OK
* checking whether the package can be loaded with stated dependencies ... OK
* checking whether the package can be unloaded cleanly ... OK
* checking whether the namespace can be loaded with stated dependencies ... OK
* checking whether the namespace can be unloaded cleanly ... OK
* checking dependencies in R code ... NOTE
Unexported objects imported by ':::' calls:
‘S4Vectors:::disableValidity’ ‘spdep:::minmax.listw’
See the note in ?`:::` about the use of this operator.
* checking S3 generic/method consistency ... OK
* checking replacement functions ... OK
* checking foreign function calls ... OK
* checking R code for possible problems ... OK
* checking Rd files ... OK
* checking Rd metadata ... OK
* checking Rd cross-references ... OK
* checking for missing documentation entries ... OK
* checking for code/documentation mismatches ... OK
* checking Rd \usage sections ... OK
* checking Rd contents ... OK
* checking for unstated dependencies in examples ... OK
* checking contents of ‘data’ directory ... OK
* checking data for non-ASCII characters ... OK
* checking data for ASCII and uncompressed saves ... OK
* checking R/sysdata.rda ... OK
* checking files in ‘vignettes’ ... OK
* checking examples ... OK
Examples with CPU (user + system) or elapsed time > 5s
user system elapsed
SFE-image 10.388 1.814 15.955
dimGeometries 9.846 0.515 13.450
removeEmptySpace 8.656 0.451 11.508
spatialGraphs 8.181 0.447 11.446
findSpatialNeighbors-SpatialFeatureExperiment-method 7.194 0.542 10.396
findVisiumGraph 7.131 0.498 10.131
cbind-SpatialFeatureExperiment-method 6.694 0.478 9.333
SFE-transform 6.729 0.383 9.170
crop 6.627 0.288 8.790
SpatialFeatureExperiment-coercion 6.321 0.241 8.217
addVisiumSpotPoly 5.891 0.089 7.435
updateObject 4.302 0.263 5.973
read10xVisiumSFE 4.215 0.052 5.290
saveRDS-SpatialFeatureExperiment-method 4.086 0.055 5.076
localResults 4.051 0.072 5.080
* checking for unstated dependencies in ‘tests’ ... OK
* checking tests ...
Running ‘testthat.R’
OK
* checking for unstated dependencies in vignettes ... OK
* checking package vignettes in ‘inst/doc’ ... OK
* checking running R code from vignettes ... SKIPPED
* checking re-building of vignette outputs ... SKIPPED
* checking PDF version of manual ... OK
* DONE
Status: 1 NOTE
See
‘/Users/biocbuild/bbs-3.17-bioc/meat/SpatialFeatureExperiment.Rcheck/00check.log’
for details.
SpatialFeatureExperiment.Rcheck/00install.out
############################################################################## ############################################################################## ### ### Running command: ### ### /Library/Frameworks/R.framework/Resources/bin/R CMD INSTALL SpatialFeatureExperiment ### ############################################################################## ############################################################################## * installing to library ‘/Library/Frameworks/R.framework/Versions/4.3-x86_64/Resources/library’ * installing *source* package ‘SpatialFeatureExperiment’ ... ** using staged installation ** R ** data ** inst ** byte-compile and prepare package for lazy loading Creating a generic function for ‘saveRDS’ from package ‘base’ in package ‘SpatialFeatureExperiment’ ** help *** installing help indices ** building package indices ** installing vignettes ** testing if installed package can be loaded from temporary location ** testing if installed package can be loaded from final location ** testing if installed package keeps a record of temporary installation path * DONE (SpatialFeatureExperiment)
SpatialFeatureExperiment.Rcheck/tests/testthat.Rout
R version 4.3.1 (2023-06-16) -- "Beagle Scouts"
Copyright (C) 2023 The R Foundation for Statistical Computing
Platform: x86_64-apple-darwin20 (64-bit)
R is free software and comes with ABSOLUTELY NO WARRANTY.
You are welcome to redistribute it under certain conditions.
Type 'license()' or 'licence()' for distribution details.
R is a collaborative project with many contributors.
Type 'contributors()' for more information and
'citation()' on how to cite R or R packages in publications.
Type 'demo()' for some demos, 'help()' for on-line help, or
'help.start()' for an HTML browser interface to help.
Type 'q()' to quit R.
> library(testthat)
> library(SpatialFeatureExperiment)
The legacy packages maptools, rgdal, and rgeos, underpinning the sp package,
which was just loaded, will retire in October 2023.
Please refer to R-spatial evolution reports for details, especially
https://r-spatial.org/r/2023/05/15/evolution4.html.
It may be desirable to make the sf package available;
package maintainers should consider adding sf to Suggests:.
The sp package is now running under evolution status 2
(status 2 uses the sf package in place of rgdal)
>
> test_check("SpatialFeatureExperiment")
Linking to GEOS 3.11.0, GDAL 3.5.3, PROJ 9.1.0; sf_use_s2() is TRUE
Loading required package: SummarizedExperiment
Loading required package: MatrixGenerics
Loading required package: matrixStats
Attaching package: 'MatrixGenerics'
The following objects are masked from 'package:matrixStats':
colAlls, colAnyNAs, colAnys, colAvgsPerRowSet, colCollapse,
colCounts, colCummaxs, colCummins, colCumprods, colCumsums,
colDiffs, colIQRDiffs, colIQRs, colLogSumExps, colMadDiffs,
colMads, colMaxs, colMeans2, colMedians, colMins, colOrderStats,
colProds, colQuantiles, colRanges, colRanks, colSdDiffs, colSds,
colSums2, colTabulates, colVarDiffs, colVars, colWeightedMads,
colWeightedMeans, colWeightedMedians, colWeightedSds,
colWeightedVars, rowAlls, rowAnyNAs, rowAnys, rowAvgsPerColSet,
rowCollapse, rowCounts, rowCummaxs, rowCummins, rowCumprods,
rowCumsums, rowDiffs, rowIQRDiffs, rowIQRs, rowLogSumExps,
rowMadDiffs, rowMads, rowMaxs, rowMeans2, rowMedians, rowMins,
rowOrderStats, rowProds, rowQuantiles, rowRanges, rowRanks,
rowSdDiffs, rowSds, rowSums2, rowTabulates, rowVarDiffs, rowVars,
rowWeightedMads, rowWeightedMeans, rowWeightedMedians,
rowWeightedSds, rowWeightedVars
Loading required package: GenomicRanges
Loading required package: stats4
Loading required package: BiocGenerics
Attaching package: 'BiocGenerics'
The following objects are masked from 'package:stats':
IQR, mad, sd, var, xtabs
The following objects are masked from 'package:base':
Filter, Find, Map, Position, Reduce, anyDuplicated, aperm, append,
as.data.frame, basename, cbind, colnames, dirname, do.call,
duplicated, eval, evalq, get, grep, grepl, intersect, is.unsorted,
lapply, mapply, match, mget, order, paste, pmax, pmax.int, pmin,
pmin.int, rank, rbind, rownames, sapply, setdiff, sort, table,
tapply, union, unique, unsplit, which.max, which.min
Loading required package: S4Vectors
Attaching package: 'S4Vectors'
The following objects are masked from 'package:Matrix':
expand, unname
The following object is masked from 'package:utils':
findMatches
The following objects are masked from 'package:base':
I, expand.grid, unname
Loading required package: IRanges
Loading required package: GenomeInfoDb
Loading required package: Biobase
Welcome to Bioconductor
Vignettes contain introductory material; view with
'browseVignettes()'. To cite Bioconductor, see
'citation("Biobase")', and for packages 'citation("pkgname")'.
Attaching package: 'Biobase'
The following object is masked from 'package:MatrixGenerics':
rowMedians
The following objects are masked from 'package:matrixStats':
anyMissing, rowMedians
see ?SFEData and browseVignettes('SFEData') for documentation
loading from cache
see ?SFEData and browseVignettes('SFEData') for documentation
loading from cache
trying URL 'https://cf.10xgenomics.com/samples/spatial-exp/2.0.0/Visium_Mouse_Olfactory_Bulb/Visium_Mouse_Olfactory_Bulb_filtered_feature_bc_matrix.h5'
Content type 'binary/octet-stream' length 7521734 bytes (7.2 MB)
==================================================
downloaded 7.2 MB
trying URL 'https://cf.10xgenomics.com/samples/spatial-exp/2.0.0/Visium_Mouse_Olfactory_Bulb/Visium_Mouse_Olfactory_Bulb_spatial.tar.gz'
Content type 'application/x-tar' length 7806681 bytes (7.4 MB)
==================================================
downloaded 7.4 MB
terra 1.7.39
Attaching package: 'terra'
The following objects are masked from 'package:SummarizedExperiment':
distance, nearest, shift, trim, values, values<-, width
The following objects are masked from 'package:GenomicRanges':
distance, gaps, nearest, shift, trim, values, values<-, width
The following objects are masked from 'package:IRanges':
distance, gaps, nearest, shift, trim, width
The following objects are masked from 'package:S4Vectors':
values, values<-, width
The following object is masked from 'package:BiocGenerics':
width
The following objects are masked from 'package:SpatialFeatureExperiment':
centroids, crop
The following objects are masked from 'package:testthat':
compare, describe
see ?SFEData and browseVignettes('SFEData') for documentation
loading from cache
see ?SFEData and browseVignettes('SFEData') for documentation
loading from cache
Testing dist_type none style W
Testing dist_type idw style W
Testing dist_type exp style W
Testing dist_type dpd style W
Testing dist_type idw style raw
Testing dist_type idw style W
Testing dist_type idw style B
Testing dist_type idw style C
Testing dist_type idw style U
Testing dist_type idw style minmax
Testing dist_type idw style S
Testing dist_type none style W
Testing dist_type idw style W
Testing dist_type exp style W
Testing dist_type dpd style W
Testing dist_type idw style raw
Testing dist_type idw style W
Testing dist_type idw style B
Testing dist_type idw style C
Testing dist_type idw style U
Testing dist_type idw style minmax
Testing dist_type idw style S
see ?SFEData and browseVignettes('SFEData') for documentation
loading from cache
see ?SFEData and browseVignettes('SFEData') for documentation
loading from cache
trying URL 'https://cf.10xgenomics.com/samples/spatial-exp/1.0.0/V1_Mouse_Kidney/V1_Mouse_Kidney_filtered_feature_bc_matrix.h5'
Content type 'binary/octet-stream' length 10785331 bytes (10.3 MB)
==================================================
downloaded 10.3 MB
trying URL 'https://cf.10xgenomics.com/samples/spatial-exp/1.0.0/V1_Mouse_Kidney/V1_Mouse_Kidney_spatial.tar.gz'
Content type 'application/x-tar' length 8531653 bytes (8.1 MB)
==================================================
downloaded 8.1 MB
[updateObject] DFrame object is current.
[updateObject] Nothing to update.
updateObject(object="ANY") default for object of class 'NULL'
[updateObject] Validating the updated object ... OK
[updateObject] Validating the updated object ... OK
[updateObject] DFrame object is current.
[updateObject] Nothing to update.
updateObject(object="ANY") default for object of class 'NULL'
[updateObject] Validating the updated object ... OK
[updateObject] Validating the updated object ... OK
updateObject(object="ANY") default for object of class 'dgCMatrix'
updateObjectFromSlots(object = 'dgCMatrix' class = 'dgCMatrix')
updateObject(object="ANY") default for object of class 'integer'
[updateObject] Validating the updated object ... OK
updateObject(object="ANY") default for object of class 'integer'
[updateObject] Validating the updated object ... OK
updateObject(object="ANY") default for object of class 'integer'
[updateObject] Validating the updated object ... OK
updateObject(object = 'list')
updateObject(object="ANY") default for object of class 'character'
[updateObject] Validating the updated object ... OK
updateObject(object="ANY") default for object of class 'character'
[updateObject] Validating the updated object ... OK
[updateObject] Validating the updated object ... OK
updateObject(object="ANY") default for object of class 'numeric'
[updateObject] Validating the updated object ... OK
updateObject(object = 'list')
[updateObject] Validating the updated object ... OK
heuristic updateObjectFromSlots, method 1
[updateObject] Validating the updated object ... OK
[updateObject] Validating the updated object ... OK
[updateObject] DFrame object is current.
[updateObject] Nothing to update.
updateObject(object="ANY") default for object of class 'NULL'
[updateObject] Validating the updated object ... OK
[updateObject] Validating the updated object ... OK
[updateObject] DFrame object is current.
[updateObject] Nothing to update.
updateObject(object="ANY") default for object of class 'NULL'
[updateObject] Validating the updated object ... OK
[updateObject] Validating the updated object ... OK
[updateObject] CompressedGRangesList object is current.
[updateObject] Nothing to update.
[updateObject] Internal representation of GRanges object is current.
[updateObject] Nothing to update.
[updateObject] Internal representation of IRanges object is current.
[updateObject] Nothing to update.
updateObject(object="ANY") default for object of class 'NULL'
[updateObject] Validating the updated object ... OK
[updateObject] Validating the updated object ... OK
[updateObject] DFrame object is current.
[updateObject] Nothing to update.
updateObject(object="ANY") default for object of class 'NULL'
[updateObject] Validating the updated object ... OK
[updateObject] Validating the updated object ... OK
[updateObject] Validating the updated object ... OK
[updateObject] Internal representation of GRanges object is current.
[updateObject] Nothing to update.
[updateObject] Internal representation of IRanges object is current.
[updateObject] Nothing to update.
updateObject(object="ANY") default for object of class 'NULL'
[updateObject] Validating the updated object ... OK
[updateObject] Validating the updated object ... OK
[updateObject] DFrame object is current.
[updateObject] Nothing to update.
updateObject(object="ANY") default for object of class 'NULL'
[updateObject] Validating the updated object ... OK
[updateObject] Validating the updated object ... OK
[updateObject] Validating the updated object ... OK
[updateObject] Internal representation of PartitioningByEnd object is current.
[updateObject] Nothing to update.
updateObject(object="ANY") default for object of class 'NULL'
[updateObject] Validating the updated object ... OK
[updateObject] Validating the updated object ... OK
[updateObject] DFrame object is current.
[updateObject] Nothing to update.
updateObject(object="ANY") default for object of class 'NULL'
[updateObject] Validating the updated object ... OK
[updateObject] Validating the updated object ... OK
[updateObject] Validating the updated object ... OK
[updateObject] Validating the updated object ... OK
see ?SFEData and browseVignettes('SFEData') for documentation
loading from cache
[ FAIL 0 | WARN 0 | SKIP 0 | PASS 548 ]
>
> proc.time()
user system elapsed
296.721 20.228 405.754
SpatialFeatureExperiment.Rcheck/SpatialFeatureExperiment-Ex.timings
| name | user | system | elapsed | |
| SFE-image | 10.388 | 1.814 | 15.955 | |
| SFE-transform | 6.729 | 0.383 | 9.170 | |
| SpatialFeatureExperiment-coercion | 6.321 | 0.241 | 8.217 | |
| SpatialFeatureExperiment-subset | 3.507 | 0.244 | 4.885 | |
| SpatialFeatureExperiment | 1.455 | 0.020 | 1.821 | |
| addVisiumSpotPoly | 5.891 | 0.089 | 7.435 | |
| annotGeometries | 3.035 | 0.241 | 4.299 | |
| annotOp | 3.247 | 0.226 | 4.472 | |
| annotPred | 3.191 | 0.244 | 4.600 | |
| annotSummary | 3.018 | 0.242 | 4.367 | |
| bbox-SpatialFeatureExperiment-method | 3.217 | 0.233 | 4.557 | |
| cbind-SpatialFeatureExperiment-method | 6.694 | 0.478 | 9.333 | |
| changeSampleIDs | 2.894 | 0.281 | 4.224 | |
| crop | 6.627 | 0.288 | 8.790 | |
| df2sf | 0.151 | 0.007 | 0.197 | |
| dimGeometries | 9.846 | 0.515 | 13.450 | |
| findSpatialNeighbors-SpatialFeatureExperiment-method | 7.194 | 0.542 | 10.396 | |
| findVisiumGraph | 7.131 | 0.498 | 10.131 | |
| localResults | 4.051 | 0.072 | 5.080 | |
| read10xVisiumSFE | 4.215 | 0.052 | 5.290 | |
| readVizgen | 2.756 | 0.865 | 4.757 | |
| removeEmptySpace | 8.656 | 0.451 | 11.508 | |
| sampleIDs | 2.792 | 0.234 | 3.913 | |
| saveRDS-SpatialFeatureExperiment-method | 4.086 | 0.055 | 5.076 | |
| show-SpatialFeatureExperiment-method | 3.140 | 0.228 | 4.499 | |
| spatialGraphs | 8.181 | 0.447 | 11.446 | |
| st_any_pred | 0.040 | 0.003 | 0.061 | |
| unit-SpatialFeatureExperiment-method | 2.900 | 0.213 | 4.224 | |
| updateObject | 4.302 | 0.263 | 5.973 | |