| Back to Multiple platform build/check report for BioC 3.17: simplified long | 
 | 
This page was generated on 2023-10-16 11:35:46 -0400 (Mon, 16 Oct 2023).
| Hostname | OS | Arch (*) | R version | Installed pkgs | 
|---|---|---|---|---|
| nebbiolo1 | Linux (Ubuntu 22.04.2 LTS) | x86_64 | 4.3.1 (2023-06-16) -- "Beagle Scouts" | 4626 | 
| palomino3 | Windows Server 2022 Datacenter | x64 | 4.3.1 (2023-06-16 ucrt) -- "Beagle Scouts" | 4379 | 
| merida1 | macOS 12.6.4 Monterey | x86_64 | 4.3.1 (2023-06-16) -- "Beagle Scouts" | 4395 | 
| Click on any hostname to see more info about the system (e.g. compilers) (*) as reported by 'uname -p', except on Windows and Mac OS X | ||||
| Package 1909/2230 | Hostname | OS / Arch | INSTALL | BUILD | CHECK | BUILD BIN | ||||||||
| SigCheck 2.32.1  (landing page) Rory Stark 
 | nebbiolo1 | Linux (Ubuntu 22.04.2 LTS) / x86_64 | OK | OK | OK |  | ||||||||
| palomino3 | Windows Server 2022 Datacenter / x64 | OK | OK | OK | OK |  | ||||||||
| merida1 | macOS 12.6.4 Monterey / x86_64 | OK | OK | OK | OK |  | ||||||||
| kjohnson2 | macOS 12.6.1 Monterey / arm64 | see weekly results here | ||||||||||||
| To the developers/maintainers of the SigCheck package: - Allow up to 24 hours (and sometimes 48 hours) for your latest push to git@git.bioconductor.org:packages/SigCheck.git to reflect on this report. See Troubleshooting Build Report for more information. - Use the following Renviron settings to reproduce errors and warnings. - If 'R CMD check' started to fail recently on the Linux builder(s) over a missing dependency, add the missing dependency to 'Suggests:' in your DESCRIPTION file. See Renviron.bioc for more information. | 
| Package: SigCheck | 
| Version: 2.32.1 | 
| Command: /home/biocbuild/bbs-3.17-bioc/R/bin/R CMD check --install=check:SigCheck.install-out.txt --library=/home/biocbuild/bbs-3.17-bioc/R/site-library --timings SigCheck_2.32.1.tar.gz | 
| StartedAt: 2023-10-16 01:06:19 -0400 (Mon, 16 Oct 2023) | 
| EndedAt: 2023-10-16 01:14:18 -0400 (Mon, 16 Oct 2023) | 
| EllapsedTime: 478.5 seconds | 
| RetCode: 0 | 
| Status: OK | 
| CheckDir: SigCheck.Rcheck | 
| Warnings: 0 | 
##############################################################################
##############################################################################
###
### Running command:
###
###   /home/biocbuild/bbs-3.17-bioc/R/bin/R CMD check --install=check:SigCheck.install-out.txt --library=/home/biocbuild/bbs-3.17-bioc/R/site-library --timings SigCheck_2.32.1.tar.gz
###
##############################################################################
##############################################################################
* using log directory ‘/home/biocbuild/bbs-3.17-bioc/meat/SigCheck.Rcheck’
* using R version 4.3.1 (2023-06-16)
* using platform: x86_64-pc-linux-gnu (64-bit)
* R was compiled by
    gcc (Ubuntu 11.3.0-1ubuntu1~22.04.1) 11.3.0
    GNU Fortran (Ubuntu 11.3.0-1ubuntu1~22.04.1) 11.3.0
* running under: Ubuntu 22.04.3 LTS
* using session charset: UTF-8
* checking for file ‘SigCheck/DESCRIPTION’ ... OK
* checking extension type ... Package
* this is package ‘SigCheck’ version ‘2.32.1’
* checking package namespace information ... OK
* checking package dependencies ... OK
* checking if this is a source package ... OK
* checking if there is a namespace ... OK
* checking for hidden files and directories ... OK
* checking for portable file names ... OK
* checking for sufficient/correct file permissions ... OK
* checking whether package ‘SigCheck’ can be installed ... OK
* checking installed package size ... OK
* checking package directory ... OK
* checking ‘build’ directory ... OK
* checking DESCRIPTION meta-information ... OK
* checking top-level files ... OK
* checking for left-over files ... OK
* checking index information ... OK
* checking package subdirectories ... OK
* checking R files for non-ASCII characters ... OK
* checking R files for syntax errors ... OK
* checking whether the package can be loaded ... OK
* checking whether the package can be loaded with stated dependencies ... OK
* checking whether the package can be unloaded cleanly ... OK
* checking whether the namespace can be loaded with stated dependencies ... OK
* checking whether the namespace can be unloaded cleanly ... OK
* checking loading without being on the library search path ... OK
* checking dependencies in R code ... OK
* checking S3 generic/method consistency ... OK
* checking replacement functions ... OK
* checking foreign function calls ... OK
* checking R code for possible problems ... NOTE
sigCheckKnown: no visible binding for global variable ‘knownSignatures’
Undefined global functions or variables:
  knownSignatures
* checking Rd files ... OK
* checking Rd metadata ... OK
* checking Rd cross-references ... OK
* checking for missing documentation entries ... OK
* checking for code/documentation mismatches ... OK
* checking Rd \usage sections ... OK
* checking Rd contents ... OK
* checking for unstated dependencies in examples ... OK
* checking contents of ‘data’ directory ... OK
* checking data for non-ASCII characters ... OK
* checking data for ASCII and uncompressed saves ... OK
* checking files in ‘vignettes’ ... OK
* checking examples ... OK
Examples with CPU (user + system) or elapsed time > 5s
                    user system elapsed
sigCheckAll      114.771  8.032 122.805
sigCheckKnown     57.540  2.112  59.652
sigCheck          14.290  0.931  15.223
sigCheckPermuted  14.194  0.992  15.186
sigCheckPlot      11.999  0.800  12.800
sigCheckRandom     8.581  0.675   9.256
* checking for unstated dependencies in vignettes ... OK
* checking package vignettes in ‘inst/doc’ ... OK
* checking running R code from vignettes ...
  ‘SigCheck.Rnw’... OK
 OK
* checking re-building of vignette outputs ... OK
* checking PDF version of manual ... OK
* DONE
Status: 1 NOTE
See
  ‘/home/biocbuild/bbs-3.17-bioc/meat/SigCheck.Rcheck/00check.log’
for details.
SigCheck.Rcheck/00install.out
############################################################################## ############################################################################## ### ### Running command: ### ### /home/biocbuild/bbs-3.17-bioc/R/bin/R CMD INSTALL SigCheck ### ############################################################################## ############################################################################## * installing to library ‘/home/biocbuild/bbs-3.17-bioc/R/site-library’ * installing *source* package ‘SigCheck’ ... ** using staged installation ** R ** data ** inst ** byte-compile and prepare package for lazy loading Creating a new generic function for ‘signature’ in package ‘SigCheck’ ** help *** installing help indices ** building package indices ** installing vignettes ** testing if installed package can be loaded from temporary location ** testing if installed package can be loaded from final location ** testing if installed package keeps a record of temporary installation path * DONE (SigCheck)
SigCheck.Rcheck/SigCheck-Ex.timings
| name | user | system | elapsed | |
| SigCheckObject-class | 0.003 | 0.000 | 0.003 | |
| classifyResults | 0.032 | 0.000 | 0.032 | |
| knownSignatures | 0.011 | 0.004 | 0.015 | |
| nkiResults | 0.02 | 0.00 | 0.02 | |
| sigCheck | 14.290 | 0.931 | 15.223 | |
| sigCheckAll | 114.771 | 8.032 | 122.805 | |
| sigCheckKnown | 57.540 | 2.112 | 59.652 | |
| sigCheckPermuted | 14.194 | 0.992 | 15.186 | |
| sigCheckPlot | 11.999 | 0.800 | 12.800 | |
| sigCheckRandom | 8.581 | 0.675 | 9.256 | |