| Back to Multiple platform build/check report for BioC 3.17: simplified long | 
 | 
This page was generated on 2023-10-16 11:35:48 -0400 (Mon, 16 Oct 2023).
| Hostname | OS | Arch (*) | R version | Installed pkgs | 
|---|---|---|---|---|
| nebbiolo1 | Linux (Ubuntu 22.04.2 LTS) | x86_64 | 4.3.1 (2023-06-16) -- "Beagle Scouts" | 4626 | 
| palomino3 | Windows Server 2022 Datacenter | x64 | 4.3.1 (2023-06-16 ucrt) -- "Beagle Scouts" | 4379 | 
| merida1 | macOS 12.6.4 Monterey | x86_64 | 4.3.1 (2023-06-16) -- "Beagle Scouts" | 4395 | 
| Click on any hostname to see more info about the system (e.g. compilers) (*) as reported by 'uname -p', except on Windows and Mac OS X | ||||
| Package 2001/2230 | Hostname | OS / Arch | INSTALL | BUILD | CHECK | BUILD BIN | ||||||||
| SPOTlight 1.4.1  (landing page) Marc Elosua-Bayes 
 | nebbiolo1 | Linux (Ubuntu 22.04.2 LTS) / x86_64 | OK | OK | OK |  | ||||||||
| palomino3 | Windows Server 2022 Datacenter / x64 | OK | OK | OK | OK |  | ||||||||
| merida1 | macOS 12.6.4 Monterey / x86_64 | OK | OK | OK | OK |  | ||||||||
| kjohnson2 | macOS 12.6.1 Monterey / arm64 | see weekly results here | ||||||||||||
| To the developers/maintainers of the SPOTlight package: - Allow up to 24 hours (and sometimes 48 hours) for your latest push to git@git.bioconductor.org:packages/SPOTlight.git to reflect on this report. See Troubleshooting Build Report for more information. - Use the following Renviron settings to reproduce errors and warnings. - If 'R CMD check' started to fail recently on the Linux builder(s) over a missing dependency, add the missing dependency to 'Suggests:' in your DESCRIPTION file. See Renviron.bioc for more information. | 
| Package: SPOTlight | 
| Version: 1.4.1 | 
| Command: /home/biocbuild/bbs-3.17-bioc/R/bin/R CMD check --install=check:SPOTlight.install-out.txt --library=/home/biocbuild/bbs-3.17-bioc/R/site-library --timings SPOTlight_1.4.1.tar.gz | 
| StartedAt: 2023-10-16 01:25:01 -0400 (Mon, 16 Oct 2023) | 
| EndedAt: 2023-10-16 01:32:24 -0400 (Mon, 16 Oct 2023) | 
| EllapsedTime: 443.0 seconds | 
| RetCode: 0 | 
| Status: OK | 
| CheckDir: SPOTlight.Rcheck | 
| Warnings: 0 | 
##############################################################################
##############################################################################
###
### Running command:
###
###   /home/biocbuild/bbs-3.17-bioc/R/bin/R CMD check --install=check:SPOTlight.install-out.txt --library=/home/biocbuild/bbs-3.17-bioc/R/site-library --timings SPOTlight_1.4.1.tar.gz
###
##############################################################################
##############################################################################
* using log directory ‘/home/biocbuild/bbs-3.17-bioc/meat/SPOTlight.Rcheck’
* using R version 4.3.1 (2023-06-16)
* using platform: x86_64-pc-linux-gnu (64-bit)
* R was compiled by
    gcc (Ubuntu 11.3.0-1ubuntu1~22.04.1) 11.3.0
    GNU Fortran (Ubuntu 11.3.0-1ubuntu1~22.04.1) 11.3.0
* running under: Ubuntu 22.04.3 LTS
* using session charset: UTF-8
* checking for file ‘SPOTlight/DESCRIPTION’ ... OK
* checking extension type ... Package
* this is package ‘SPOTlight’ version ‘1.4.1’
* package encoding: UTF-8
* checking package namespace information ... OK
* checking package dependencies ... OK
* checking if this is a source package ... OK
* checking if there is a namespace ... OK
* checking for hidden files and directories ... OK
* checking for portable file names ... OK
* checking for sufficient/correct file permissions ... OK
* checking whether package ‘SPOTlight’ can be installed ... OK
* checking installed package size ... OK
* checking package directory ... OK
* checking ‘build’ directory ... OK
* checking DESCRIPTION meta-information ... OK
* checking top-level files ... OK
* checking for left-over files ... OK
* checking index information ... OK
* checking package subdirectories ... OK
* checking R files for non-ASCII characters ... OK
* checking R files for syntax errors ... OK
* checking whether the package can be loaded ... OK
* checking whether the package can be loaded with stated dependencies ... OK
* checking whether the package can be unloaded cleanly ... OK
* checking whether the namespace can be loaded with stated dependencies ... OK
* checking whether the namespace can be unloaded cleanly ... OK
* checking loading without being on the library search path ... OK
* checking dependencies in R code ... OK
* checking S3 generic/method consistency ... OK
* checking replacement functions ... OK
* checking foreign function calls ... OK
* checking R code for possible problems ... OK
* checking Rd files ... OK
* checking Rd metadata ... OK
* checking Rd cross-references ... OK
* checking for missing documentation entries ... OK
* checking for code/documentation mismatches ... OK
* checking Rd \usage sections ... OK
* checking Rd contents ... OK
* checking for unstated dependencies in examples ... OK
* checking files in ‘vignettes’ ... OK
* checking examples ... OK
Examples with CPU (user + system) or elapsed time > 5s
                   user system elapsed
SPOTlight         8.052  0.424   8.477
plotTopicProfiles 6.866  0.132   6.998
trainNMF          5.427  0.080   5.507
runDeconvolution  5.442  0.055   5.497
* checking for unstated dependencies in ‘tests’ ... OK
* checking tests ...
  Running ‘testthat.R’
 OK
* checking for unstated dependencies in vignettes ... OK
* checking package vignettes in ‘inst/doc’ ... OK
* checking running R code from vignettes ...
  ‘SPOTlight_kidney.Rmd’ using ‘UTF-8’... OK
 NONE
* checking re-building of vignette outputs ... OK
* checking PDF version of manual ... OK
* DONE
Status: OK
SPOTlight.Rcheck/00install.out
############################################################################## ############################################################################## ### ### Running command: ### ### /home/biocbuild/bbs-3.17-bioc/R/bin/R CMD INSTALL SPOTlight ### ############################################################################## ############################################################################## * installing to library ‘/home/biocbuild/bbs-3.17-bioc/R/site-library’ * installing *source* package ‘SPOTlight’ ... ** using staged installation ** R ** inst ** byte-compile and prepare package for lazy loading ** help *** installing help indices ** building package indices ** installing vignettes ** testing if installed package can be loaded from temporary location ** testing if installed package can be loaded from final location ** testing if installed package keeps a record of temporary installation path * DONE (SPOTlight)
SPOTlight.Rcheck/tests/testthat.Rout
R version 4.3.1 (2023-06-16) -- "Beagle Scouts"
Copyright (C) 2023 The R Foundation for Statistical Computing
Platform: x86_64-pc-linux-gnu (64-bit)
R is free software and comes with ABSOLUTELY NO WARRANTY.
You are welcome to redistribute it under certain conditions.
Type 'license()' or 'licence()' for distribution details.
R is a collaborative project with many contributors.
Type 'contributors()' for more information and
'citation()' on how to cite R or R packages in publications.
Type 'demo()' for some demos, 'help()' for on-line help, or
'help.start()' for an HTML browser interface to help.
Type 'q()' to quit R.
> set.seed(321)
> library(testthat)
> library(SPOTlight)
> # plotImage() ----
> test_check("SPOTlight")
[ FAIL 0 | WARN 2 | SKIP 0 | PASS 354 ]
[ FAIL 0 | WARN 2 | SKIP 0 | PASS 354 ]
> 
> proc.time()
   user  system elapsed 
 95.080   5.403 101.625 
SPOTlight.Rcheck/SPOTlight-Ex.timings
| name | user | system | elapsed | |
| SPOTlight | 8.052 | 0.424 | 8.477 | |
| data | 4.643 | 0.076 | 4.718 | |
| plotCorrelationMatrix | 0.726 | 0.036 | 0.762 | |
| plotImage | 2.090 | 0.160 | 2.251 | |
| plotInteractions | 0.496 | 0.008 | 0.504 | |
| plotSpatialScatterpie | 0.661 | 0.012 | 0.674 | |
| plotTopicProfiles | 6.866 | 0.132 | 6.998 | |
| runDeconvolution | 5.442 | 0.055 | 5.497 | |
| trainNMF | 5.427 | 0.080 | 5.507 | |