| Back to Multiple platform build/check report for BioC 3.17: simplified long |
|
This page was generated on 2023-10-16 11:35:48 -0400 (Mon, 16 Oct 2023).
| Hostname | OS | Arch (*) | R version | Installed pkgs |
|---|---|---|---|---|
| nebbiolo1 | Linux (Ubuntu 22.04.2 LTS) | x86_64 | 4.3.1 (2023-06-16) -- "Beagle Scouts" | 4626 |
| palomino3 | Windows Server 2022 Datacenter | x64 | 4.3.1 (2023-06-16 ucrt) -- "Beagle Scouts" | 4379 |
| merida1 | macOS 12.6.4 Monterey | x86_64 | 4.3.1 (2023-06-16) -- "Beagle Scouts" | 4395 |
| Click on any hostname to see more info about the system (e.g. compilers) (*) as reported by 'uname -p', except on Windows and Mac OS X | ||||
| Package 1997/2230 | Hostname | OS / Arch | INSTALL | BUILD | CHECK | BUILD BIN | ||||||||
| SPLINTER 1.26.0 (landing page) Diana Low
| nebbiolo1 | Linux (Ubuntu 22.04.2 LTS) / x86_64 | OK | OK | OK | |||||||||
| palomino3 | Windows Server 2022 Datacenter / x64 | OK | OK | WARNINGS | OK | |||||||||
| merida1 | macOS 12.6.4 Monterey / x86_64 | OK | OK | OK | OK | |||||||||
| kjohnson2 | macOS 12.6.1 Monterey / arm64 | see weekly results here | ||||||||||||
|
To the developers/maintainers of the SPLINTER package: - Allow up to 24 hours (and sometimes 48 hours) for your latest push to git@git.bioconductor.org:packages/SPLINTER.git to reflect on this report. See Troubleshooting Build Report for more information. - Use the following Renviron settings to reproduce errors and warnings. - If 'R CMD check' started to fail recently on the Linux builder(s) over a missing dependency, add the missing dependency to 'Suggests:' in your DESCRIPTION file. See Renviron.bioc for more information. |
| Package: SPLINTER |
| Version: 1.26.0 |
| Command: /home/biocbuild/bbs-3.17-bioc/R/bin/R CMD check --install=check:SPLINTER.install-out.txt --library=/home/biocbuild/bbs-3.17-bioc/R/site-library --timings SPLINTER_1.26.0.tar.gz |
| StartedAt: 2023-10-16 01:24:34 -0400 (Mon, 16 Oct 2023) |
| EndedAt: 2023-10-16 01:30:51 -0400 (Mon, 16 Oct 2023) |
| EllapsedTime: 377.0 seconds |
| RetCode: 0 |
| Status: OK |
| CheckDir: SPLINTER.Rcheck |
| Warnings: 0 |
##############################################################################
##############################################################################
###
### Running command:
###
### /home/biocbuild/bbs-3.17-bioc/R/bin/R CMD check --install=check:SPLINTER.install-out.txt --library=/home/biocbuild/bbs-3.17-bioc/R/site-library --timings SPLINTER_1.26.0.tar.gz
###
##############################################################################
##############################################################################
* using log directory ‘/home/biocbuild/bbs-3.17-bioc/meat/SPLINTER.Rcheck’
* using R version 4.3.1 (2023-06-16)
* using platform: x86_64-pc-linux-gnu (64-bit)
* R was compiled by
gcc (Ubuntu 11.3.0-1ubuntu1~22.04.1) 11.3.0
GNU Fortran (Ubuntu 11.3.0-1ubuntu1~22.04.1) 11.3.0
* running under: Ubuntu 22.04.3 LTS
* using session charset: UTF-8
* checking for file ‘SPLINTER/DESCRIPTION’ ... OK
* checking extension type ... Package
* this is package ‘SPLINTER’ version ‘1.26.0’
* package encoding: UTF-8
* checking package namespace information ... OK
* checking package dependencies ... OK
* checking if this is a source package ... OK
* checking if there is a namespace ... OK
* checking for hidden files and directories ... OK
* checking for portable file names ... OK
* checking for sufficient/correct file permissions ... OK
* checking whether package ‘SPLINTER’ can be installed ... OK
* checking installed package size ... OK
* checking package directory ... OK
* checking ‘build’ directory ... OK
* checking DESCRIPTION meta-information ... OK
* checking top-level files ... OK
* checking for left-over files ... OK
* checking index information ... OK
* checking package subdirectories ... OK
* checking R files for non-ASCII characters ... OK
* checking R files for syntax errors ... OK
* checking whether the package can be loaded ... OK
* checking whether the package can be loaded with stated dependencies ... OK
* checking whether the package can be unloaded cleanly ... OK
* checking whether the namespace can be loaded with stated dependencies ... OK
* checking whether the namespace can be unloaded cleanly ... OK
* checking loading without being on the library search path ... OK
* checking dependencies in R code ... OK
* checking S3 generic/method consistency ... OK
* checking replacement functions ... OK
* checking foreign function calls ... OK
* checking R code for possible problems ... OK
* checking Rd files ... OK
* checking Rd metadata ... OK
* checking Rd cross-references ... OK
* checking for missing documentation entries ... OK
* checking for code/documentation mismatches ... OK
* checking Rd \usage sections ... OK
* checking Rd contents ... OK
* checking for unstated dependencies in examples ... OK
* checking contents of ‘data’ directory ... OK
* checking data for non-ASCII characters ... OK
* checking LazyData ... OK
* checking data for ASCII and uncompressed saves ... OK
* checking files in ‘vignettes’ ... OK
* checking examples ... OK
Examples with CPU (user + system) or elapsed time > 5s
user system elapsed
eventPlot 10.987 0.408 11.398
* checking for unstated dependencies in vignettes ... OK
* checking package vignettes in ‘inst/doc’ ... OK
* checking running R code from vignettes ...
‘vignette.Rmd’ using ‘UTF-8’... OK
NONE
* checking re-building of vignette outputs ... OK
* checking PDF version of manual ... OK
* DONE
Status: OK
SPLINTER.Rcheck/00install.out
############################################################################## ############################################################################## ### ### Running command: ### ### /home/biocbuild/bbs-3.17-bioc/R/bin/R CMD INSTALL SPLINTER ### ############################################################################## ############################################################################## * installing to library ‘/home/biocbuild/bbs-3.17-bioc/R/site-library’ * installing *source* package ‘SPLINTER’ ... ** using staged installation ** R ** data *** moving datasets to lazyload DB ** inst ** byte-compile and prepare package for lazy loading ** help *** installing help indices ** building package indices ** installing vignettes ** testing if installed package can be loaded from temporary location ** testing if installed package can be loaded from final location ** testing if installed package keeps a record of temporary installation path * DONE (SPLINTER)
SPLINTER.Rcheck/SPLINTER-Ex.timings
| name | user | system | elapsed | |
| acceptor.m | 0.003 | 0.000 | 0.002 | |
| addEnsemblAnnotation | 0.006 | 0.000 | 0.006 | |
| callPrimer3 | 0.000 | 0.000 | 0.001 | |
| checkPrimer | 0.067 | 0.000 | 0.067 | |
| compatible_cds | 0.001 | 0.000 | 0.001 | |
| compatible_tx | 0.001 | 0.000 | 0.001 | |
| donor.m | 0.001 | 0.000 | 0.000 | |
| eventOutcomeCompare | 1.115 | 0.115 | 1.231 | |
| eventOutcomeTranslate | 0.310 | 0.011 | 0.322 | |
| eventPlot | 10.987 | 0.408 | 11.398 | |
| extendROI | 0.604 | 0.012 | 0.616 | |
| extractSpliceEvents | 0.000 | 0.004 | 0.003 | |
| extractSpliceSites | 0.077 | 0.000 | 0.078 | |
| findCompatibleEvents | 0.286 | 0.000 | 0.285 | |
| findCompatibleExon | 0.194 | 0.003 | 0.198 | |
| findTX | 0.013 | 0.000 | 0.013 | |
| getPCRsizes | 2.275 | 0.168 | 2.443 | |
| getRegionDNA | 0.254 | 0.012 | 0.265 | |
| insertRegion | 1.31 | 0.14 | 1.45 | |
| makeROI | 0.243 | 0.000 | 0.242 | |
| makeUniqueIDs | 0.003 | 0.000 | 0.003 | |
| pcr_result1 | 0.001 | 0.000 | 0.001 | |
| plot_seqlogo | 0.038 | 0.004 | 0.041 | |
| primers | 0.001 | 0.000 | 0.001 | |
| psiPlot | 0.242 | 0.004 | 0.246 | |
| region_minus_exon | 0.001 | 0.000 | 0.000 | |
| roi | 0.001 | 0.000 | 0.001 | |
| shapiroAcceptor | 0.387 | 0.016 | 0.403 | |
| shapiroDonor | 0.359 | 0.028 | 0.387 | |
| splice_data | 0.001 | 0.000 | 0.001 | |
| splice_fasta | 0.000 | 0.000 | 0.001 | |
| splitPCRhit | 0.002 | 0.000 | 0.002 | |
| thecds | 0.001 | 0.000 | 0.001 | |
| theexons | 0 | 0 | 0 | |
| valid_cds | 0.000 | 0.001 | 0.001 | |
| valid_tx | 0.000 | 0.001 | 0.001 | |