Back to Multiple platform build/check report for BioC 3.17: simplified long |
|
This page was generated on 2023-10-16 11:37:34 -0400 (Mon, 16 Oct 2023).
Hostname | OS | Arch (*) | R version | Installed pkgs |
---|---|---|---|---|
nebbiolo1 | Linux (Ubuntu 22.04.2 LTS) | x86_64 | 4.3.1 (2023-06-16) -- "Beagle Scouts" | 4626 |
palomino3 | Windows Server 2022 Datacenter | x64 | 4.3.1 (2023-06-16 ucrt) -- "Beagle Scouts" | 4379 |
merida1 | macOS 12.6.4 Monterey | x86_64 | 4.3.1 (2023-06-16) -- "Beagle Scouts" | 4395 |
Click on any hostname to see more info about the system (e.g. compilers) (*) as reported by 'uname -p', except on Windows and Mac OS X |
Package 1986/2230 | Hostname | OS / Arch | INSTALL | BUILD | CHECK | BUILD BIN | ||||||||
SPIAT 1.2.3 (landing page) Yuzhou Feng
| nebbiolo1 | Linux (Ubuntu 22.04.2 LTS) / x86_64 | OK | OK | OK | ![]() | ||||||||
palomino3 | Windows Server 2022 Datacenter / x64 | OK | OK | OK | OK | ![]() | ||||||||
merida1 | macOS 12.6.4 Monterey / x86_64 | OK | OK | OK | OK | ![]() | ||||||||
kjohnson2 | macOS 12.6.1 Monterey / arm64 | see weekly results here | ||||||||||||
To the developers/maintainers of the SPIAT package: - Allow up to 24 hours (and sometimes 48 hours) for your latest push to git@git.bioconductor.org:packages/SPIAT.git to reflect on this report. See Troubleshooting Build Report for more information. - Use the following Renviron settings to reproduce errors and warnings. - If 'R CMD check' started to fail recently on the Linux builder(s) over a missing dependency, add the missing dependency to 'Suggests:' in your DESCRIPTION file. See Renviron.bioc for more information. |
Package: SPIAT |
Version: 1.2.3 |
Command: /Library/Frameworks/R.framework/Resources/bin/R CMD check --install=check:SPIAT.install-out.txt --library=/Library/Frameworks/R.framework/Resources/library --no-vignettes --timings SPIAT_1.2.3.tar.gz |
StartedAt: 2023-10-16 07:29:03 -0400 (Mon, 16 Oct 2023) |
EndedAt: 2023-10-16 07:43:38 -0400 (Mon, 16 Oct 2023) |
EllapsedTime: 875.3 seconds |
RetCode: 0 |
Status: OK |
CheckDir: SPIAT.Rcheck |
Warnings: 0 |
############################################################################## ############################################################################## ### ### Running command: ### ### /Library/Frameworks/R.framework/Resources/bin/R CMD check --install=check:SPIAT.install-out.txt --library=/Library/Frameworks/R.framework/Resources/library --no-vignettes --timings SPIAT_1.2.3.tar.gz ### ############################################################################## ############################################################################## * using log directory ‘/Users/biocbuild/bbs-3.17-bioc/meat/SPIAT.Rcheck’ * using R version 4.3.1 (2023-06-16) * using platform: x86_64-apple-darwin20 (64-bit) * R was compiled by Apple clang version 14.0.3 (clang-1403.0.22.14.1) GNU Fortran (GCC) 12.2.0 * running under: macOS Monterey 12.6.4 * using session charset: UTF-8 * using option ‘--no-vignettes’ * checking for file ‘SPIAT/DESCRIPTION’ ... OK * checking extension type ... Package * this is package ‘SPIAT’ version ‘1.2.3’ * package encoding: UTF-8 * checking package namespace information ... OK * checking package dependencies ... OK * checking if this is a source package ... OK * checking if there is a namespace ... OK * checking for hidden files and directories ... OK * checking for portable file names ... OK * checking for sufficient/correct file permissions ... OK * checking whether package ‘SPIAT’ can be installed ... OK * checking installed package size ... OK * checking package directory ... OK * checking ‘build’ directory ... OK * checking DESCRIPTION meta-information ... OK * checking top-level files ... NOTE File LICENSE is not mentioned in the DESCRIPTION file. * checking for left-over files ... OK * checking index information ... OK * checking package subdirectories ... OK * checking R files for non-ASCII characters ... OK * checking R files for syntax errors ... OK * checking whether the package can be loaded ... OK * checking whether the package can be loaded with stated dependencies ... OK * checking whether the package can be unloaded cleanly ... OK * checking whether the namespace can be loaded with stated dependencies ... OK * checking whether the namespace can be unloaded cleanly ... OK * checking dependencies in R code ... OK * checking S3 generic/method consistency ... OK * checking replacement functions ... OK * checking foreign function calls ... OK * checking R code for possible problems ... OK * checking Rd files ... OK * checking Rd metadata ... OK * checking Rd cross-references ... OK * checking for missing documentation entries ... OK * checking for code/documentation mismatches ... OK * checking Rd \usage sections ... OK * checking Rd contents ... OK * checking for unstated dependencies in examples ... OK * checking contents of ‘data’ directory ... OK * checking data for non-ASCII characters ... OK * checking LazyData ... OK * checking data for ASCII and uncompressed saves ... OK * checking files in ‘vignettes’ ... OK * checking examples ... OK Examples with CPU (user + system) or elapsed time > 5s user system elapsed dimensionality_reduction_plot 35.174 1.168 45.343 calculate_percentage_of_grids 21.741 0.246 27.291 calculate_spatial_autocorrelation 10.581 0.068 13.004 grid_metrics 9.854 0.076 12.538 calculate_pairwise_distances_between_celltypes 6.853 1.857 10.732 plot_composition_heatmap 7.268 0.350 9.454 define_structure 3.968 0.154 5.046 calculate_summary_distances_between_celltypes 3.820 0.281 5.039 * checking for unstated dependencies in ‘tests’ ... OK * checking tests ... Running ‘testthat.R’ OK * checking for unstated dependencies in vignettes ... OK * checking package vignettes in ‘inst/doc’ ... OK * checking running R code from vignettes ... SKIPPED * checking re-building of vignette outputs ... SKIPPED * checking PDF version of manual ... OK * DONE Status: 1 NOTE See ‘/Users/biocbuild/bbs-3.17-bioc/meat/SPIAT.Rcheck/00check.log’ for details.
SPIAT.Rcheck/00install.out
############################################################################## ############################################################################## ### ### Running command: ### ### /Library/Frameworks/R.framework/Resources/bin/R CMD INSTALL SPIAT ### ############################################################################## ############################################################################## * installing to library ‘/Library/Frameworks/R.framework/Versions/4.3-x86_64/Resources/library’ * installing *source* package ‘SPIAT’ ... ** using staged installation ** R ** data *** moving datasets to lazyload DB ** inst ** byte-compile and prepare package for lazy loading ** help *** installing help indices ** building package indices ** installing vignettes ** testing if installed package can be loaded from temporary location ** testing if installed package can be loaded from final location ** testing if installed package keeps a record of temporary installation path * DONE (SPIAT)
SPIAT.Rcheck/tests/testthat.Rout
R version 4.3.1 (2023-06-16) -- "Beagle Scouts" Copyright (C) 2023 The R Foundation for Statistical Computing Platform: x86_64-apple-darwin20 (64-bit) R is free software and comes with ABSOLUTELY NO WARRANTY. You are welcome to redistribute it under certain conditions. Type 'license()' or 'licence()' for distribution details. R is a collaborative project with many contributors. Type 'contributors()' for more information and 'citation()' on how to cite R or R packages in publications. Type 'demo()' for some demos, 'help()' for on-line help, or 'help.start()' for an HTML browser interface to help. Type 'q()' to quit R. > library(testthat) > library(SPIAT) Loading required package: SpatialExperiment Loading required package: SingleCellExperiment Loading required package: SummarizedExperiment Loading required package: MatrixGenerics Loading required package: matrixStats Attaching package: 'MatrixGenerics' The following objects are masked from 'package:matrixStats': colAlls, colAnyNAs, colAnys, colAvgsPerRowSet, colCollapse, colCounts, colCummaxs, colCummins, colCumprods, colCumsums, colDiffs, colIQRDiffs, colIQRs, colLogSumExps, colMadDiffs, colMads, colMaxs, colMeans2, colMedians, colMins, colOrderStats, colProds, colQuantiles, colRanges, colRanks, colSdDiffs, colSds, colSums2, colTabulates, colVarDiffs, colVars, colWeightedMads, colWeightedMeans, colWeightedMedians, colWeightedSds, colWeightedVars, rowAlls, rowAnyNAs, rowAnys, rowAvgsPerColSet, rowCollapse, rowCounts, rowCummaxs, rowCummins, rowCumprods, rowCumsums, rowDiffs, rowIQRDiffs, rowIQRs, rowLogSumExps, rowMadDiffs, rowMads, rowMaxs, rowMeans2, rowMedians, rowMins, rowOrderStats, rowProds, rowQuantiles, rowRanges, rowRanks, rowSdDiffs, rowSds, rowSums2, rowTabulates, rowVarDiffs, rowVars, rowWeightedMads, rowWeightedMeans, rowWeightedMedians, rowWeightedSds, rowWeightedVars Loading required package: GenomicRanges Loading required package: stats4 Loading required package: BiocGenerics Attaching package: 'BiocGenerics' The following objects are masked from 'package:stats': IQR, mad, sd, var, xtabs The following objects are masked from 'package:base': Filter, Find, Map, Position, Reduce, anyDuplicated, aperm, append, as.data.frame, basename, cbind, colnames, dirname, do.call, duplicated, eval, evalq, get, grep, grepl, intersect, is.unsorted, lapply, mapply, match, mget, order, paste, pmax, pmax.int, pmin, pmin.int, rank, rbind, rownames, sapply, setdiff, sort, table, tapply, union, unique, unsplit, which.max, which.min Loading required package: S4Vectors Attaching package: 'S4Vectors' The following object is masked from 'package:utils': findMatches The following objects are masked from 'package:base': I, expand.grid, unname Loading required package: IRanges Loading required package: GenomeInfoDb Loading required package: Biobase Welcome to Bioconductor Vignettes contain introductory material; view with 'browseVignettes()'. To cite Bioconductor, see 'citation("Biobase")', and for packages 'citation("pkgname")'. Attaching package: 'Biobase' The following object is masked from 'package:MatrixGenerics': rowMedians The following objects are masked from 'package:matrixStats': anyMissing, rowMedians > > test_check("SPIAT") [1] "Markers had been selected in minimum distance calculation: " [1] "Immune1" "Tumour" [1] "Crossing of cross K function is detected for this image, indicating a potential immune ring." [1] "The crossing happens at the 50% of the specified distance." [1] "The alpha of Polygon is: 63.24375" [1] "Markers had been selected in minimum distance calculation: " [1] "Non-border" "Border" [1] "Tumour_marker" [1] "Immune_marker1" [1] "Immune_marker2" [1] "Immune_marker3" [1] "Immune_marker4" [1] "Tumour_marker" [1] "Immune_marker1" [1] "Immune_marker2" [1] "Immune_marker3" [1] "Immune_marker4" [1] "Tumour_marker threshold intensity: 0.445450443784465" [1] "Immune_marker1 threshold intensity: 0.116980867970434" [1] "Immune_marker2 threshold intensity: 0.124283809517202" [1] "Immune_marker3 threshold intensity: 0.0166413130263845" [1] "Immune_marker4 threshold intensity: 0.00989731350898589" [ FAIL 0 | WARN 0 | SKIP 0 | PASS 80 ] > > proc.time() user system elapsed 123.367 4.839 157.325
SPIAT.Rcheck/SPIAT-Ex.timings
name | user | system | elapsed | |
AUC_of_cross_function | 0.478 | 0.023 | 0.625 | |
R_BC | 3.574 | 0.125 | 4.608 | |
average_marker_intensity_within_radius | 0.112 | 0.010 | 0.189 | |
average_minimum_distance | 0.032 | 0.004 | 0.045 | |
average_nearest_neighbor_index | 0.757 | 0.083 | 1.185 | |
average_percentage_of_cells_within_radius | 2.887 | 0.033 | 3.545 | |
calculate_cell_proportions | 0.023 | 0.001 | 0.029 | |
calculate_cross_functions | 0.387 | 0.007 | 0.488 | |
calculate_distance_to_margin | 3.137 | 0.043 | 3.915 | |
calculate_entropy | 0.022 | 0.001 | 0.026 | |
calculate_minimum_distances_between_celltypes | 0.034 | 0.002 | 0.045 | |
calculate_pairwise_distances_between_celltypes | 6.853 | 1.857 | 10.732 | |
calculate_percentage_of_grids | 21.741 | 0.246 | 27.291 | |
calculate_proportions_of_cells_in_structure | 3.262 | 0.047 | 4.047 | |
calculate_spatial_autocorrelation | 10.581 | 0.068 | 13.004 | |
calculate_summary_distances_between_celltypes | 3.820 | 0.281 | 5.039 | |
calculate_summary_distances_of_cells_to_borders | 3.098 | 0.133 | 3.837 | |
composition_of_neighborhoods | 2.840 | 0.356 | 4.051 | |
compute_gradient | 0.120 | 0.001 | 0.135 | |
crossing_of_crossK | 0.267 | 0.005 | 0.329 | |
define_celltypes | 1.894 | 0.056 | 2.423 | |
define_structure | 3.968 | 0.154 | 5.046 | |
dimensionality_reduction_plot | 35.174 | 1.168 | 45.343 | |
entropy_gradient_aggregated | 0.923 | 0.071 | 1.275 | |
format_cellprofiler_to_spe | 0.411 | 0.005 | 0.555 | |
format_codex_to_spe | 0.378 | 0.005 | 0.515 | |
format_colData_to_spe | 0.396 | 0.006 | 0.518 | |
format_halo_to_spe | 1.131 | 0.136 | 1.556 | |
format_image_to_spe | 0.392 | 0.003 | 0.514 | |
format_inform_to_spe | 0.567 | 0.039 | 0.747 | |
format_spe_to_ppp | 0.033 | 0.001 | 0.044 | |
grid_metrics | 9.854 | 0.076 | 12.538 | |
identify_bordering_cells | 1.678 | 0.023 | 2.200 | |
identify_neighborhoods | 1.523 | 0.204 | 2.131 | |
image_splitter | 3.386 | 0.028 | 4.140 | |
marker_intensity_boxplot | 0.631 | 0.007 | 0.749 | |
marker_prediction_plot | 1.310 | 0.037 | 1.605 | |
marker_surface_plot | 0.462 | 0.084 | 0.664 | |
marker_surface_plot_stack | 0.540 | 0.087 | 0.766 | |
measure_association_to_cell_properties | 0.852 | 0.012 | 1.199 | |
mixing_score_summary | 0.034 | 0.001 | 0.040 | |
number_of_cells_within_radius | 0.022 | 0.001 | 0.027 | |
plot_average_intensity | 0.642 | 0.005 | 0.781 | |
plot_cell_categories | 0.606 | 0.020 | 0.807 | |
plot_cell_distances_violin | 2.080 | 0.159 | 2.780 | |
plot_cell_marker_levels | 0.370 | 0.008 | 0.468 | |
plot_cell_percentages | 1.512 | 0.015 | 1.886 | |
plot_composition_heatmap | 7.268 | 0.350 | 9.454 | |
plot_distance_heatmap | 3.191 | 0.202 | 4.180 | |
plot_marker_level_heatmap | 0.843 | 0.057 | 1.113 | |
predict_phenotypes | 2.268 | 0.023 | 2.814 | |
select_celltypes | 0.110 | 0.003 | 0.136 | |