Back to Multiple platform build/check report for BioC 3.17: simplified long |
|
This page was generated on 2023-10-16 11:37:32 -0400 (Mon, 16 Oct 2023).
Hostname | OS | Arch (*) | R version | Installed pkgs |
---|---|---|---|---|
nebbiolo1 | Linux (Ubuntu 22.04.2 LTS) | x86_64 | 4.3.1 (2023-06-16) -- "Beagle Scouts" | 4626 |
palomino3 | Windows Server 2022 Datacenter | x64 | 4.3.1 (2023-06-16 ucrt) -- "Beagle Scouts" | 4379 |
merida1 | macOS 12.6.4 Monterey | x86_64 | 4.3.1 (2023-06-16) -- "Beagle Scouts" | 4395 |
Click on any hostname to see more info about the system (e.g. compilers) (*) as reported by 'uname -p', except on Windows and Mac OS X |
Package 1921/2230 | Hostname | OS / Arch | INSTALL | BUILD | CHECK | BUILD BIN | ||||||||
SIMAT 1.32.0 (landing page) M. R. Nezami Ranjbar
| nebbiolo1 | Linux (Ubuntu 22.04.2 LTS) / x86_64 | OK | OK | OK | ![]() | ||||||||
palomino3 | Windows Server 2022 Datacenter / x64 | OK | OK | OK | OK | ![]() | ||||||||
merida1 | macOS 12.6.4 Monterey / x86_64 | OK | OK | OK | OK | ![]() | ||||||||
kjohnson2 | macOS 12.6.1 Monterey / arm64 | see weekly results here | ||||||||||||
To the developers/maintainers of the SIMAT package: - Allow up to 24 hours (and sometimes 48 hours) for your latest push to git@git.bioconductor.org:packages/SIMAT.git to reflect on this report. See Troubleshooting Build Report for more information. - Use the following Renviron settings to reproduce errors and warnings. - If 'R CMD check' started to fail recently on the Linux builder(s) over a missing dependency, add the missing dependency to 'Suggests:' in your DESCRIPTION file. See Renviron.bioc for more information. |
Package: SIMAT |
Version: 1.32.0 |
Command: /Library/Frameworks/R.framework/Resources/bin/R CMD check --install=check:SIMAT.install-out.txt --library=/Library/Frameworks/R.framework/Resources/library --no-vignettes --timings SIMAT_1.32.0.tar.gz |
StartedAt: 2023-10-16 07:10:45 -0400 (Mon, 16 Oct 2023) |
EndedAt: 2023-10-16 07:13:38 -0400 (Mon, 16 Oct 2023) |
EllapsedTime: 172.7 seconds |
RetCode: 0 |
Status: OK |
CheckDir: SIMAT.Rcheck |
Warnings: 0 |
############################################################################## ############################################################################## ### ### Running command: ### ### /Library/Frameworks/R.framework/Resources/bin/R CMD check --install=check:SIMAT.install-out.txt --library=/Library/Frameworks/R.framework/Resources/library --no-vignettes --timings SIMAT_1.32.0.tar.gz ### ############################################################################## ############################################################################## * using log directory ‘/Users/biocbuild/bbs-3.17-bioc/meat/SIMAT.Rcheck’ * using R version 4.3.1 (2023-06-16) * using platform: x86_64-apple-darwin20 (64-bit) * R was compiled by Apple clang version 14.0.3 (clang-1403.0.22.14.1) GNU Fortran (GCC) 12.2.0 * running under: macOS Monterey 12.6.4 * using session charset: UTF-8 * using option ‘--no-vignettes’ * checking for file ‘SIMAT/DESCRIPTION’ ... OK * checking extension type ... Package * this is package ‘SIMAT’ version ‘1.32.0’ * checking package namespace information ... OK * checking package dependencies ... OK * checking if this is a source package ... OK * checking if there is a namespace ... OK * checking for hidden files and directories ... OK * checking for portable file names ... OK * checking for sufficient/correct file permissions ... OK * checking whether package ‘SIMAT’ can be installed ... OK * checking installed package size ... OK * checking package directory ... OK * checking ‘build’ directory ... OK * checking DESCRIPTION meta-information ... OK * checking top-level files ... OK * checking for left-over files ... OK * checking index information ... OK * checking package subdirectories ... OK * checking R files for non-ASCII characters ... OK * checking R files for syntax errors ... OK * checking whether the package can be loaded ... OK * checking whether the package can be loaded with stated dependencies ... OK * checking whether the package can be unloaded cleanly ... OK * checking whether the namespace can be loaded with stated dependencies ... OK * checking whether the namespace can be unloaded cleanly ... OK * checking dependencies in R code ... OK * checking S3 generic/method consistency ... OK * checking replacement functions ... OK * checking foreign function calls ... OK * checking R code for possible problems ... OK * checking Rd files ... OK * checking Rd metadata ... OK * checking Rd cross-references ... OK * checking for missing documentation entries ... OK * checking for code/documentation mismatches ... OK * checking Rd \usage sections ... OK * checking Rd contents ... OK * checking for unstated dependencies in examples ... OK * checking contents of ‘data’ directory ... OK * checking data for non-ASCII characters ... OK * checking data for ASCII and uncompressed saves ... OK * checking sizes of PDF files under ‘inst/doc’ ... OK * checking files in ‘vignettes’ ... OK * checking examples ... OK Examples with CPU (user + system) or elapsed time > 5s user system elapsed getTarget 4.070 0.610 6.169 optFrag 3.974 0.398 5.644 readCDF 3.619 0.052 5.019 * checking for unstated dependencies in ‘tests’ ... OK * checking tests ... Running ‘runTests.R’ OK * checking for unstated dependencies in vignettes ... OK * checking package vignettes in ‘inst/doc’ ... OK * checking running R code from vignettes ... SKIPPED * checking re-building of vignette outputs ... SKIPPED * checking PDF version of manual ... OK * DONE Status: OK
SIMAT.Rcheck/00install.out
############################################################################## ############################################################################## ### ### Running command: ### ### /Library/Frameworks/R.framework/Resources/bin/R CMD INSTALL SIMAT ### ############################################################################## ############################################################################## * installing to library ‘/Library/Frameworks/R.framework/Versions/4.3-x86_64/Resources/library’ * installing *source* package ‘SIMAT’ ... ** using staged installation ** R ** data ** inst ** byte-compile and prepare package for lazy loading ** help *** installing help indices ** building package indices ** installing vignettes ** testing if installed package can be loaded from temporary location ** testing if installed package can be loaded from final location ** testing if installed package keeps a record of temporary installation path * DONE (SIMAT)
SIMAT.Rcheck/tests/runTests.Rout
R version 4.3.1 (2023-06-16) -- "Beagle Scouts" Copyright (C) 2023 The R Foundation for Statistical Computing Platform: x86_64-apple-darwin20 (64-bit) R is free software and comes with ABSOLUTELY NO WARRANTY. You are welcome to redistribute it under certain conditions. Type 'license()' or 'licence()' for distribution details. R is a collaborative project with many contributors. Type 'contributors()' for more information and 'citation()' on how to cite R or R packages in publications. Type 'demo()' for some demos, 'help()' for on-line help, or 'help.start()' for an HTML browser interface to help. Type 'q()' to quit R. > ## function for RUnit tests > > BiocGenerics:::testPackage("SIMAT") RUNIT TEST PROTOCOL -- Mon Oct 16 07:13:21 2023 *********************************************** Number of test functions: 16 Number of errors: 0 Number of failures: 0 1 Test Suite : SIMAT RUnit Tests - 16 test functions, 0 errors, 0 failures Number of test functions: 16 Number of errors: 0 Number of failures: 0 > > proc.time() user system elapsed 3.943 0.323 5.283
SIMAT.Rcheck/SIMAT-Ex.timings
name | user | system | elapsed | |
Library | 0.009 | 0.003 | 0.017 | |
RItable | 0.002 | 0.002 | 0.005 | |
Run | 0.129 | 0.010 | 0.187 | |
Targets | 0.002 | 0.003 | 0.006 | |
getEIC | 0.173 | 0.014 | 0.250 | |
getPeak | 0.827 | 0.068 | 1.248 | |
getPeakScore | 0.811 | 0.018 | 1.108 | |
getRI | 0.002 | 0.003 | 0.004 | |
getRIStandard | 0.005 | 0.002 | 0.011 | |
getScore | 0.000 | 0.001 | 0.001 | |
getTarget | 4.070 | 0.610 | 6.169 | |
getTargetTable | 0.005 | 0.002 | 0.010 | |
optFrag | 3.974 | 0.398 | 5.644 | |
plotEIC | 1.905 | 0.037 | 2.462 | |
plotTIC | 0.435 | 0.013 | 0.596 | |
putTargetTable | 0.002 | 0.003 | 0.007 | |
readCDF | 3.619 | 0.052 | 5.019 | |
readMSL | 0.028 | 0.002 | 0.038 | |
target.table | 0.002 | 0.003 | 0.004 | |
writeMSL | 0.005 | 0.003 | 0.012 | |
writeResult | 0.796 | 0.013 | 1.084 | |