Back to Multiple platform build/check report for BioC 3.17: simplified long |
|
This page was generated on 2023-10-16 11:35:42 -0400 (Mon, 16 Oct 2023).
Hostname | OS | Arch (*) | R version | Installed pkgs |
---|---|---|---|---|
nebbiolo1 | Linux (Ubuntu 22.04.2 LTS) | x86_64 | 4.3.1 (2023-06-16) -- "Beagle Scouts" | 4626 |
palomino3 | Windows Server 2022 Datacenter | x64 | 4.3.1 (2023-06-16 ucrt) -- "Beagle Scouts" | 4379 |
merida1 | macOS 12.6.4 Monterey | x86_64 | 4.3.1 (2023-06-16) -- "Beagle Scouts" | 4395 |
Click on any hostname to see more info about the system (e.g. compilers) (*) as reported by 'uname -p', except on Windows and Mac OS X |
Package 1715/2230 | Hostname | OS / Arch | INSTALL | BUILD | CHECK | BUILD BIN | ||||||||
RiboDiPA 1.8.0 (landing page) Ji-Ping Wang
| nebbiolo1 | Linux (Ubuntu 22.04.2 LTS) / x86_64 | OK | OK | OK | ![]() | ||||||||
palomino3 | Windows Server 2022 Datacenter / x64 | OK | OK | OK | OK | ![]() | ||||||||
merida1 | macOS 12.6.4 Monterey / x86_64 | OK | OK | OK | OK | ![]() | ||||||||
kjohnson2 | macOS 12.6.1 Monterey / arm64 | see weekly results here | ||||||||||||
To the developers/maintainers of the RiboDiPA package: - Allow up to 24 hours (and sometimes 48 hours) for your latest push to git@git.bioconductor.org:packages/RiboDiPA.git to reflect on this report. See Troubleshooting Build Report for more information. - Use the following Renviron settings to reproduce errors and warnings. - If 'R CMD check' started to fail recently on the Linux builder(s) over a missing dependency, add the missing dependency to 'Suggests:' in your DESCRIPTION file. See Renviron.bioc for more information. |
Package: RiboDiPA |
Version: 1.8.0 |
Command: /home/biocbuild/bbs-3.17-bioc/R/bin/R CMD check --install=check:RiboDiPA.install-out.txt --library=/home/biocbuild/bbs-3.17-bioc/R/site-library --timings RiboDiPA_1.8.0.tar.gz |
StartedAt: 2023-10-16 00:25:09 -0400 (Mon, 16 Oct 2023) |
EndedAt: 2023-10-16 00:42:41 -0400 (Mon, 16 Oct 2023) |
EllapsedTime: 1052.3 seconds |
RetCode: 0 |
Status: OK |
CheckDir: RiboDiPA.Rcheck |
Warnings: 0 |
############################################################################## ############################################################################## ### ### Running command: ### ### /home/biocbuild/bbs-3.17-bioc/R/bin/R CMD check --install=check:RiboDiPA.install-out.txt --library=/home/biocbuild/bbs-3.17-bioc/R/site-library --timings RiboDiPA_1.8.0.tar.gz ### ############################################################################## ############################################################################## * using log directory ‘/home/biocbuild/bbs-3.17-bioc/meat/RiboDiPA.Rcheck’ * using R version 4.3.1 (2023-06-16) * using platform: x86_64-pc-linux-gnu (64-bit) * R was compiled by gcc (Ubuntu 11.3.0-1ubuntu1~22.04.1) 11.3.0 GNU Fortran (Ubuntu 11.3.0-1ubuntu1~22.04.1) 11.3.0 * running under: Ubuntu 22.04.3 LTS * using session charset: UTF-8 * checking for file ‘RiboDiPA/DESCRIPTION’ ... OK * checking extension type ... Package * this is package ‘RiboDiPA’ version ‘1.8.0’ * package encoding: UTF-8 * checking package namespace information ... OK * checking package dependencies ... OK * checking if this is a source package ... OK * checking if there is a namespace ... OK * checking for hidden files and directories ... OK * checking for portable file names ... OK * checking for sufficient/correct file permissions ... OK * checking whether package ‘RiboDiPA’ can be installed ... OK * used C++ compiler: ‘g++ (Ubuntu 11.4.0-1ubuntu1~22.04) 11.4.0’ * checking installed package size ... OK * checking package directory ... OK * checking ‘build’ directory ... OK * checking DESCRIPTION meta-information ... OK * checking top-level files ... OK * checking for left-over files ... OK * checking index information ... OK * checking package subdirectories ... OK * checking R files for non-ASCII characters ... OK * checking R files for syntax errors ... OK * checking whether the package can be loaded ... OK * checking whether the package can be loaded with stated dependencies ... OK * checking whether the package can be unloaded cleanly ... OK * checking whether the namespace can be loaded with stated dependencies ... OK * checking whether the namespace can be unloaded cleanly ... OK * checking loading without being on the library search path ... OK * checking dependencies in R code ... OK * checking S3 generic/method consistency ... OK * checking replacement functions ... OK * checking foreign function calls ... OK * checking R code for possible problems ... OK * checking Rd files ... OK * checking Rd metadata ... OK * checking Rd cross-references ... OK * checking for missing documentation entries ... OK * checking for code/documentation mismatches ... OK * checking Rd \usage sections ... OK * checking Rd contents ... OK * checking for unstated dependencies in examples ... OK * checking contents of ‘data’ directory ... OK * checking data for non-ASCII characters ... OK * checking LazyData ... OK * checking data for ASCII and uncompressed saves ... OK * checking line endings in C/C++/Fortran sources/headers ... OK * checking compiled code ... OK * checking files in ‘vignettes’ ... OK * checking examples ... OK Examples with CPU (user + system) or elapsed time > 5s user system elapsed PsiteMapping 30.693 1.133 117.033 binTrack 27.727 0.558 28.285 diffPatternTestExon 5.018 0.099 5.118 DataBinning 2.705 0.320 197.014 data.psite 0.561 0.077 81.420 * checking for unstated dependencies in vignettes ... OK * checking package vignettes in ‘inst/doc’ ... OK * checking running R code from vignettes ... ‘RiboDiPA.Rmd’ using ‘UTF-8’... OK NONE * checking re-building of vignette outputs ... OK * checking PDF version of manual ... OK * DONE Status: OK
RiboDiPA.Rcheck/00install.out
############################################################################## ############################################################################## ### ### Running command: ### ### /home/biocbuild/bbs-3.17-bioc/R/bin/R CMD INSTALL RiboDiPA ### ############################################################################## ############################################################################## * installing to library ‘/home/biocbuild/bbs-3.17-bioc/R/site-library’ * installing *source* package ‘RiboDiPA’ ... ** using staged installation ** libs using C++ compiler: ‘g++ (Ubuntu 11.4.0-1ubuntu1~22.04) 11.4.0’ g++ -std=gnu++17 -I"/home/biocbuild/bbs-3.17-bioc/R/include" -DNDEBUG -I'/home/biocbuild/bbs-3.17-bioc/R/site-library/Rcpp/include' -I/usr/local/include -fpic -g -O2 -Wall -c RcppExports.cpp -o RcppExports.o g++ -std=gnu++17 -I"/home/biocbuild/bbs-3.17-bioc/R/include" -DNDEBUG -I'/home/biocbuild/bbs-3.17-bioc/R/site-library/Rcpp/include' -I/usr/local/include -fpic -g -O2 -Wall -c centerCPP.cpp -o centerCPP.o g++ -std=gnu++17 -shared -L/home/biocbuild/bbs-3.17-bioc/R/lib -L/usr/local/lib -o RiboDiPA.so RcppExports.o centerCPP.o -L/home/biocbuild/bbs-3.17-bioc/R/lib -lR installing to /home/biocbuild/bbs-3.17-bioc/R/site-library/00LOCK-RiboDiPA/00new/RiboDiPA/libs ** R ** data *** moving datasets to lazyload DB ** inst ** byte-compile and prepare package for lazy loading ** help *** installing help indices ** building package indices ** installing vignettes ** testing if installed package can be loaded from temporary location ** checking absolute paths in shared objects and dynamic libraries ** testing if installed package can be loaded from final location ** testing if installed package keeps a record of temporary installation path * DONE (RiboDiPA)
RiboDiPA.Rcheck/RiboDiPA-Ex.timings
name | user | system | elapsed | |
DataBinning | 2.705 | 0.320 | 197.014 | |
PsiteMapping | 30.693 | 1.133 | 117.033 | |
RiboDiPA | 0 | 0 | 0 | |
binTrack | 27.727 | 0.558 | 28.285 | |
bpTrack | 0.552 | 0.023 | 0.577 | |
data.binned | 2.762 | 0.048 | 2.810 | |
data.psite | 0.561 | 0.077 | 81.420 | |
diffPatternTest | 3.678 | 0.209 | 3.887 | |
diffPatternTestExon | 5.018 | 0.099 | 5.118 | |
exonTrack | 0.072 | 0.000 | 0.071 | |
normFactor | 0.006 | 0.000 | 0.005 | |
plotTest | 0.913 | 0.016 | 0.928 | |
plotTrack | 1.510 | 0.044 | 1.554 | |
psitecal | 0 | 0 | 0 | |
result.exon | 0.09 | 0.00 | 0.09 | |
result.pst | 2.394 | 0.145 | 2.539 | |