Back to Multiple platform build/check report for BioC 3.17:   simplified   long
ABCDEFGHIJKLMNOPQ[R]STUVWXYZ

This page was generated on 2023-02-28 11:06:27 -0500 (Tue, 28 Feb 2023).

HostnameOSArch (*)R versionInstalled pkgs
nebbiolo1Linux (Ubuntu 22.04.1 LTS)x86_64R Under development (unstable) (2023-01-10 r83596) -- "Unsuffered Consequences" 4508
palomino3Windows Server 2022 Datacenterx64R Under development (unstable) (2023-01-10 r83596 ucrt) -- "Unsuffered Consequences" 4272
merida1macOS 10.14.6 Mojavex86_64R Under development (unstable) (2023-01-10 r83596) -- "Unsuffered Consequences" 4299
Click on any hostname to see more info about the system (e.g. compilers)      (*) as reported by 'uname -p', except on Windows and Mac OS X

BUILD results for ReUseData on palomino3


To the developers/maintainers of the ReUseData package:
- Please allow up to 24 hours (and sometimes 48 hours) for your latest push to git@git.bioconductor.org:packages/ReUseData.git to
reflect on this report. See How and When does the builder pull? When will my changes propagate? for more information.
- Make sure to use the following settings in order to reproduce any error or warning you see on this page.

raw results

Package 1646/2171HostnameOS / ArchINSTALLBUILDCHECKBUILD BIN
ReUseData 0.99.36  (landing page)
Qian Liu
Snapshot Date: 2023-02-27 14:00:21 -0500 (Mon, 27 Feb 2023)
git_url: https://git.bioconductor.org/packages/ReUseData
git_branch: master
git_last_commit: af599d9
git_last_commit_date: 2023-02-09 22:28:03 -0500 (Thu, 09 Feb 2023)
nebbiolo1Linux (Ubuntu 22.04.1 LTS) / x86_64  OK    OK    ERROR  
palomino3Windows Server 2022 Datacenter / x64  ERROR    ERROR  skippedskipped
merida1macOS 10.14.6 Mojave / x86_64  OK    ERROR  skippedskipped

Summary

Package: ReUseData
Version: 0.99.36
Command: chmod a+r ReUseData -R && F:\biocbuild\bbs-3.17-bioc\R\bin\R.exe CMD build --keep-empty-dirs --no-resave-data ReUseData
StartedAt: 2023-02-27 21:16:17 -0500 (Mon, 27 Feb 2023)
EndedAt: 2023-02-27 21:16:19 -0500 (Mon, 27 Feb 2023)
EllapsedTime: 2.0 seconds
RetCode: 1
Status:   ERROR  
PackageFile: None
PackageFileSize: NA

Command output

##############################################################################
##############################################################################
###
### Running command:
###
###   chmod a+r ReUseData -R && F:\biocbuild\bbs-3.17-bioc\R\bin\R.exe CMD build --keep-empty-dirs --no-resave-data ReUseData
###
##############################################################################
##############################################################################


* checking for file 'ReUseData/DESCRIPTION' ... OK
* preparing 'ReUseData':
* checking DESCRIPTION meta-information ... OK
* installing the package to build vignettes
      -----------------------------------
ERROR: dependencies 'Rcwl', 'RcwlPipelines' are not available for package 'ReUseData'
* removing 'F:/biocbuild/bbs-3.17-bioc/tmpdir/Rtmp6NL7Is/Rinst2d4865e47219/ReUseData'
      -----------------------------------
ERROR: package installation failed