Back to Multiple platform build/check report for BioC 3.17: simplified long |
|
This page was generated on 2023-10-16 11:35:42 -0400 (Mon, 16 Oct 2023).
Hostname | OS | Arch (*) | R version | Installed pkgs |
---|---|---|---|---|
nebbiolo1 | Linux (Ubuntu 22.04.2 LTS) | x86_64 | 4.3.1 (2023-06-16) -- "Beagle Scouts" | 4626 |
palomino3 | Windows Server 2022 Datacenter | x64 | 4.3.1 (2023-06-16 ucrt) -- "Beagle Scouts" | 4379 |
merida1 | macOS 12.6.4 Monterey | x86_64 | 4.3.1 (2023-06-16) -- "Beagle Scouts" | 4395 |
Click on any hostname to see more info about the system (e.g. compilers) (*) as reported by 'uname -p', except on Windows and Mac OS X |
Package 1722/2230 | Hostname | OS / Arch | INSTALL | BUILD | CHECK | BUILD BIN | ||||||||
RImmPort 1.28.0 (landing page) Zicheng Hu
| nebbiolo1 | Linux (Ubuntu 22.04.2 LTS) / x86_64 | OK | OK | OK | ![]() | ||||||||
palomino3 | Windows Server 2022 Datacenter / x64 | OK | OK | OK | OK | ![]() | ||||||||
merida1 | macOS 12.6.4 Monterey / x86_64 | OK | OK | OK | OK | ![]() | ||||||||
kjohnson2 | macOS 12.6.1 Monterey / arm64 | see weekly results here | ||||||||||||
To the developers/maintainers of the RImmPort package: - Allow up to 24 hours (and sometimes 48 hours) for your latest push to git@git.bioconductor.org:packages/RImmPort.git to reflect on this report. See Troubleshooting Build Report for more information. - Use the following Renviron settings to reproduce errors and warnings. - If 'R CMD check' started to fail recently on the Linux builder(s) over a missing dependency, add the missing dependency to 'Suggests:' in your DESCRIPTION file. See Renviron.bioc for more information. |
Package: RImmPort |
Version: 1.28.0 |
Command: /home/biocbuild/bbs-3.17-bioc/R/bin/R CMD check --install=check:RImmPort.install-out.txt --library=/home/biocbuild/bbs-3.17-bioc/R/site-library --timings RImmPort_1.28.0.tar.gz |
StartedAt: 2023-10-16 00:27:20 -0400 (Mon, 16 Oct 2023) |
EndedAt: 2023-10-16 00:28:03 -0400 (Mon, 16 Oct 2023) |
EllapsedTime: 42.3 seconds |
RetCode: 0 |
Status: OK |
CheckDir: RImmPort.Rcheck |
Warnings: 0 |
############################################################################## ############################################################################## ### ### Running command: ### ### /home/biocbuild/bbs-3.17-bioc/R/bin/R CMD check --install=check:RImmPort.install-out.txt --library=/home/biocbuild/bbs-3.17-bioc/R/site-library --timings RImmPort_1.28.0.tar.gz ### ############################################################################## ############################################################################## * using log directory ‘/home/biocbuild/bbs-3.17-bioc/meat/RImmPort.Rcheck’ * using R version 4.3.1 (2023-06-16) * using platform: x86_64-pc-linux-gnu (64-bit) * R was compiled by gcc (Ubuntu 11.3.0-1ubuntu1~22.04.1) 11.3.0 GNU Fortran (Ubuntu 11.3.0-1ubuntu1~22.04.1) 11.3.0 * running under: Ubuntu 22.04.3 LTS * using session charset: UTF-8 * checking for file ‘RImmPort/DESCRIPTION’ ... OK * checking extension type ... Package * this is package ‘RImmPort’ version ‘1.28.0’ * checking package namespace information ... OK * checking package dependencies ... OK * checking if this is a source package ... OK * checking if there is a namespace ... OK * checking for hidden files and directories ... OK * checking for portable file names ... OK * checking for sufficient/correct file permissions ... OK * checking whether package ‘RImmPort’ can be installed ... OK * checking installed package size ... OK * checking package directory ... OK * checking ‘build’ directory ... OK * checking DESCRIPTION meta-information ... OK * checking top-level files ... OK * checking for left-over files ... OK * checking index information ... OK * checking package subdirectories ... OK * checking R files for non-ASCII characters ... OK * checking R files for syntax errors ... OK * checking whether the package can be loaded ... OK * checking whether the package can be loaded with stated dependencies ... OK * checking whether the package can be unloaded cleanly ... OK * checking whether the namespace can be loaded with stated dependencies ... OK * checking whether the namespace can be unloaded cleanly ... OK * checking loading without being on the library search path ... OK * checking dependencies in R code ... OK * checking S3 generic/method consistency ... OK * checking replacement functions ... OK * checking foreign function calls ... OK * checking R code for possible problems ... NOTE buildNewSqliteDb: no visible global function definition for ‘dbListTables’ Undefined global functions or variables: dbListTables * checking Rd files ... OK * checking Rd metadata ... OK * checking Rd cross-references ... OK * checking for missing documentation entries ... OK * checking for code/documentation mismatches ... OK * checking Rd \usage sections ... OK * checking Rd contents ... OK * checking for unstated dependencies in examples ... OK * checking files in ‘vignettes’ ... OK * checking examples ... OK * checking for unstated dependencies in vignettes ... OK * checking package vignettes in ‘inst/doc’ ... OK * checking running R code from vignettes ... ‘RImmPort_Article.Rmd’ using ‘UTF-8’... OK ‘RImmPort_QuickStart.Rmd’ using ‘UTF-8’... OK NONE * checking re-building of vignette outputs ... OK * checking PDF version of manual ... OK * DONE Status: 1 NOTE See ‘/home/biocbuild/bbs-3.17-bioc/meat/RImmPort.Rcheck/00check.log’ for details.
RImmPort.Rcheck/00install.out
############################################################################## ############################################################################## ### ### Running command: ### ### /home/biocbuild/bbs-3.17-bioc/R/bin/R CMD INSTALL RImmPort ### ############################################################################## ############################################################################## * installing to library ‘/home/biocbuild/bbs-3.17-bioc/R/site-library’ * installing *source* package ‘RImmPort’ ... ** using staged installation ** R ** inst ** byte-compile and prepare package for lazy loading ** help *** installing help indices ** building package indices ** installing vignettes ** testing if installed package can be loaded from temporary location ** testing if installed package can be loaded from final location ** testing if installed package keeps a record of temporary installation path * DONE (RImmPort)
RImmPort.Rcheck/RImmPort-Ex.timings
name | user | system | elapsed | |
Events-class | 0.346 | 0.023 | 0.419 | |
Findings-class | 0.196 | 0.020 | 0.216 | |
Interventions-class | 0.190 | 0.016 | 0.205 | |
SpecialPurpose-class | 0.172 | 0.016 | 0.188 | |
Study-class | 0.237 | 0.003 | 0.241 | |
TrialDesign-class | 0.189 | 0.000 | 0.189 | |
buildNewSqliteDb | 0.001 | 0.000 | 0.001 | |
getAssayDataOfStudies | 0.068 | 0.008 | 0.076 | |
getDomainCode | 0 | 0 | 0 | |
getDomainDataOfStudies | 0.028 | 0.004 | 0.032 | |
getListOfAssayTypes | 0 | 0 | 0 | |
getListOfDomains | 0 | 0 | 0 | |
getListOfStudies | 0.028 | 0.004 | 0.032 | |
getStudiesWithSpecificAssayData | 0.039 | 0.000 | 0.039 | |
getStudiesWithSpecificDomainData | 0.033 | 0.000 | 0.033 | |
getStudy | 0.184 | 0.000 | 0.183 | |
loadSerializedStudyData | 0.004 | 0.000 | 0.004 | |
mergeDomainAndSupplemental | 0.136 | 0.000 | 0.135 | |
serialzeStudyData | 0.332 | 0.012 | 0.344 | |
setImmPortDataSource | 0.032 | 0.000 | 0.032 | |