| Back to Multiple platform build/check report for BioC 3.17: simplified long | 
 | 
This page was generated on 2023-10-16 11:35:39 -0400 (Mon, 16 Oct 2023).
| Hostname | OS | Arch (*) | R version | Installed pkgs | 
|---|---|---|---|---|
| nebbiolo1 | Linux (Ubuntu 22.04.2 LTS) | x86_64 | 4.3.1 (2023-06-16) -- "Beagle Scouts" | 4626 | 
| palomino3 | Windows Server 2022 Datacenter | x64 | 4.3.1 (2023-06-16 ucrt) -- "Beagle Scouts" | 4379 | 
| merida1 | macOS 12.6.4 Monterey | x86_64 | 4.3.1 (2023-06-16) -- "Beagle Scouts" | 4395 | 
| Click on any hostname to see more info about the system (e.g. compilers) (*) as reported by 'uname -p', except on Windows and Mac OS X | ||||
| Package 1604/2230 | Hostname | OS / Arch | INSTALL | BUILD | CHECK | BUILD BIN | ||||||||
| QSutils 1.18.0  (landing page) Mercedes Guerrero-Murillo 
 | nebbiolo1 | Linux (Ubuntu 22.04.2 LTS) / x86_64 | OK | OK | OK |  | ||||||||
| palomino3 | Windows Server 2022 Datacenter / x64 | OK | OK | OK | OK |  | ||||||||
| merida1 | macOS 12.6.4 Monterey / x86_64 | OK | OK | OK | OK |  | ||||||||
| kjohnson2 | macOS 12.6.1 Monterey / arm64 | see weekly results here | ||||||||||||
| To the developers/maintainers of the QSutils package: - Allow up to 24 hours (and sometimes 48 hours) for your latest push to git@git.bioconductor.org:packages/QSutils.git to reflect on this report. See Troubleshooting Build Report for more information. - Use the following Renviron settings to reproduce errors and warnings. - If 'R CMD check' started to fail recently on the Linux builder(s) over a missing dependency, add the missing dependency to 'Suggests:' in your DESCRIPTION file. See Renviron.bioc for more information. | 
| Package: QSutils | 
| Version: 1.18.0 | 
| Command: /home/biocbuild/bbs-3.17-bioc/R/bin/R CMD check --install=check:QSutils.install-out.txt --library=/home/biocbuild/bbs-3.17-bioc/R/site-library --timings QSutils_1.18.0.tar.gz | 
| StartedAt: 2023-10-16 00:08:39 -0400 (Mon, 16 Oct 2023) | 
| EndedAt: 2023-10-16 00:10:45 -0400 (Mon, 16 Oct 2023) | 
| EllapsedTime: 126.3 seconds | 
| RetCode: 0 | 
| Status: OK | 
| CheckDir: QSutils.Rcheck | 
| Warnings: 0 | 
##############################################################################
##############################################################################
###
### Running command:
###
###   /home/biocbuild/bbs-3.17-bioc/R/bin/R CMD check --install=check:QSutils.install-out.txt --library=/home/biocbuild/bbs-3.17-bioc/R/site-library --timings QSutils_1.18.0.tar.gz
###
##############################################################################
##############################################################################
* using log directory ‘/home/biocbuild/bbs-3.17-bioc/meat/QSutils.Rcheck’
* using R version 4.3.1 (2023-06-16)
* using platform: x86_64-pc-linux-gnu (64-bit)
* R was compiled by
    gcc (Ubuntu 11.3.0-1ubuntu1~22.04.1) 11.3.0
    GNU Fortran (Ubuntu 11.3.0-1ubuntu1~22.04.1) 11.3.0
* running under: Ubuntu 22.04.3 LTS
* using session charset: UTF-8
* checking for file ‘QSutils/DESCRIPTION’ ... OK
* checking extension type ... Package
* this is package ‘QSutils’ version ‘1.18.0’
* package encoding: UTF-8
* checking package namespace information ... OK
* checking package dependencies ... OK
* checking if this is a source package ... OK
* checking if there is a namespace ... OK
* checking for hidden files and directories ... OK
* checking for portable file names ... OK
* checking for sufficient/correct file permissions ... OK
* checking whether package ‘QSutils’ can be installed ... OK
* checking installed package size ... OK
* checking package directory ... OK
* checking ‘build’ directory ... OK
* checking DESCRIPTION meta-information ... OK
* checking top-level files ... OK
* checking for left-over files ... OK
* checking index information ... OK
* checking package subdirectories ... NOTE
Problems with news in ‘NEWS’:
  Cannot process chunk/lines:
    CHANGES IN VERSION 0.99.8
    	Internal changes:
    		- QSutils review correction:
    			· Add exports to NAMESPACE
  Cannot process chunk/lines:
    CHANGES IN VERSION 0.99.4,5, and 7
    	Internal changes:
    		- QSutils review correction:
    			· fn.ab function correction
  Cannot process chunk/lines:
    CHANGES IN VERSION 0.99.3
    	Internal changes:
    	  - QSutils review correction:
    	  		· Vignette: add chunk names
    			· R Change class -> is()
    			· R hide helper functions
    			· R join more than one function in one file
    			· R vectorize some apply
    			· R Change fn.ab.1,fn.ab.2 and fn.ab.3 -> fn.ab with 3 agruments in fn
  Cannot process chunk/lines:
    CHANGES IN VERSION 0.99.2
    	Internal changes:
    	  - Biocheck NOTEs correction:
    	  		· Change sapply()->vapply()
    			· Change 1:... -> seq_len()
  Cannot process chunk/lines:
    CHANGES IN VERSION 0.99.1
    	Internal changes:
    	  - Correction of WARNINGS and ERRORS
    	    with Biocheck:
    		  · Collapse() example ERROR.
    		  · Change class == -> is() or !is()
    		  · Update R version dependency from 3.4.0 to 3.5.
    		  · Correct -> 'VignetteIndexEntry{VignetteTitle}' in QSUtils-Alignment.Rmd
* checking R files for non-ASCII characters ... OK
* checking R files for syntax errors ... OK
* checking whether the package can be loaded ... OK
* checking whether the package can be loaded with stated dependencies ... OK
* checking whether the package can be unloaded cleanly ... OK
* checking whether the namespace can be loaded with stated dependencies ... OK
* checking whether the namespace can be unloaded cleanly ... OK
* checking loading without being on the library search path ... OK
* checking dependencies in R code ... OK
* checking S3 generic/method consistency ... OK
* checking replacement functions ... OK
* checking foreign function calls ... OK
* checking R code for possible problems ... OK
* checking Rd files ... OK
* checking Rd metadata ... OK
* checking Rd cross-references ... OK
* checking for missing documentation entries ... OK
* checking for code/documentation mismatches ... OK
* checking Rd \usage sections ... OK
* checking Rd contents ... OK
* checking for unstated dependencies in examples ... OK
* checking files in ‘vignettes’ ... OK
* checking examples ... OK
* checking for unstated dependencies in vignettes ... OK
* checking package vignettes in ‘inst/doc’ ... OK
* checking running R code from vignettes ...
  ‘QSUtils-Alignment.Rmd’ using ‘UTF-8’... OK
  ‘QSutils-Diversity.Rmd’ using ‘UTF-8’... OK
  ‘QSutils-Simulation.Rmd’ using ‘UTF-8’... OK
 NONE
* checking re-building of vignette outputs ... OK
* checking PDF version of manual ... OK
* DONE
Status: 1 NOTE
See
  ‘/home/biocbuild/bbs-3.17-bioc/meat/QSutils.Rcheck/00check.log’
for details.
QSutils.Rcheck/00install.out
############################################################################## ############################################################################## ### ### Running command: ### ### /home/biocbuild/bbs-3.17-bioc/R/bin/R CMD INSTALL QSutils ### ############################################################################## ############################################################################## * installing to library ‘/home/biocbuild/bbs-3.17-bioc/R/site-library’ * installing *source* package ‘QSutils’ ... ** using staged installation ** R ** inst ** byte-compile and prepare package for lazy loading ** help *** installing help indices ** building package indices ** installing vignettes ** testing if installed package can be loaded from temporary location ** testing if installed package can be loaded from final location ** testing if installed package keeps a record of temporary installation path * DONE (QSutils)
QSutils.Rcheck/QSutils-Ex.timings
| name | user | system | elapsed | |
| Collapse | 0.102 | 0.016 | 0.119 | |
| ConsSeq | 0.021 | 0.000 | 0.020 | |
| CorrectGapsAndNs | 0.006 | 0.001 | 0.006 | |
| DBrule | 0.043 | 0.004 | 0.047 | |
| DNA.dist | 0.004 | 0.004 | 0.008 | |
| DSFT | 0.006 | 0.000 | 0.006 | |
| Diverge | 0.003 | 0.000 | 0.003 | |
| DottedAlignment | 0.009 | 0.000 | 0.008 | |
| FAD | 0.002 | 0.004 | 0.006 | |
| FreqMat | 0.013 | 0.004 | 0.017 | |
| GenerateVars | 0.000 | 0.003 | 0.004 | |
| GenotypeStandards_A-H.fas | 0.006 | 0.000 | 0.006 | |
| GetInfProfile | 0.018 | 0.000 | 0.017 | |
| GetQSData | 0.547 | 0.016 | 0.563 | |
| GetRandomSeq | 0.000 | 0.000 | 0.001 | |
| GiniSimpson | 0.001 | 0.000 | 0.001 | |
| HCq | 0.005 | 0.000 | 0.005 | |
| Hill | 0.004 | 0.000 | 0.004 | |
| IntersectStrandHpls | 0.057 | 0.003 | 0.063 | |
| MutationFreq | 0.452 | 0.025 | 0.476 | |
| MutsTbl | 0.010 | 0.003 | 0.015 | |
| NucleotideDiversity | 0.006 | 0.001 | 0.007 | |
| PolyDist | 0.015 | 0.004 | 0.019 | |
| Rao | 0.011 | 0.000 | 0.011 | |
| ReadAmplSeqs | 0.018 | 0.003 | 0.022 | |
| Renyi | 0.004 | 0.001 | 0.003 | |
| ReportVariants | 0.014 | 0.000 | 0.013 | |
| SegSites | 0.009 | 0.000 | 0.008 | |
| Shannon | 0.001 | 0.000 | 0.001 | |
| SortByMutations | 0.219 | 0.011 | 0.231 | |
| SummaryMuts | 0.013 | 0.000 | 0.013 | |
| TotalMutations | 0.008 | 0.004 | 0.012 | |
| Toy.GapsAndNs.fna | 0.040 | 0.000 | 0.041 | |
| ToyData_10_50_1000.fna | 0.021 | 0.000 | 0.022 | |
| ToyData_FWReads.fna | 0.055 | 0.003 | 0.058 | |
| ToyData_RVReads.fna | 0.043 | 0.008 | 0.050 | |
| UniqueMutations | 0.008 | 0.000 | 0.008 | |
| Unknown-Genotype.fna | 0.008 | 0.001 | 0.008 | |
| fn.ab | 0.004 | 0.000 | 0.004 | |
| geom.series | 0.002 | 0.000 | 0.002 | |