Back to Multiple platform build/check report for BioC 3.17: simplified long |
|
This page was generated on 2023-10-16 11:35:35 -0400 (Mon, 16 Oct 2023).
Hostname | OS | Arch (*) | R version | Installed pkgs |
---|---|---|---|---|
nebbiolo1 | Linux (Ubuntu 22.04.2 LTS) | x86_64 | 4.3.1 (2023-06-16) -- "Beagle Scouts" | 4626 |
palomino3 | Windows Server 2022 Datacenter | x64 | 4.3.1 (2023-06-16 ucrt) -- "Beagle Scouts" | 4379 |
merida1 | macOS 12.6.4 Monterey | x86_64 | 4.3.1 (2023-06-16) -- "Beagle Scouts" | 4395 |
Click on any hostname to see more info about the system (e.g. compilers) (*) as reported by 'uname -p', except on Windows and Mac OS X |
Package 1425/2230 | Hostname | OS / Arch | INSTALL | BUILD | CHECK | BUILD BIN | ||||||||
OmnipathR 3.8.2 (landing page) Denes Turei
| nebbiolo1 | Linux (Ubuntu 22.04.2 LTS) / x86_64 | OK | OK | OK | ![]() | ||||||||
palomino3 | Windows Server 2022 Datacenter / x64 | OK | OK | OK | OK | ![]() | ||||||||
merida1 | macOS 12.6.4 Monterey / x86_64 | OK | OK | OK | OK | ![]() | ||||||||
kjohnson2 | macOS 12.6.1 Monterey / arm64 | see weekly results here | ||||||||||||
To the developers/maintainers of the OmnipathR package: - Allow up to 24 hours (and sometimes 48 hours) for your latest push to git@git.bioconductor.org:packages/OmnipathR.git to reflect on this report. See Troubleshooting Build Report for more information. - Use the following Renviron settings to reproduce errors and warnings. - If 'R CMD check' started to fail recently on the Linux builder(s) over a missing dependency, add the missing dependency to 'Suggests:' in your DESCRIPTION file. See Renviron.bioc for more information. |
Package: OmnipathR |
Version: 3.8.2 |
Command: /home/biocbuild/bbs-3.17-bioc/R/bin/R CMD check --install=check:OmnipathR.install-out.txt --library=/home/biocbuild/bbs-3.17-bioc/R/site-library --timings OmnipathR_3.8.2.tar.gz |
StartedAt: 2023-10-15 23:26:17 -0400 (Sun, 15 Oct 2023) |
EndedAt: 2023-10-15 23:55:15 -0400 (Sun, 15 Oct 2023) |
EllapsedTime: 1737.7 seconds |
RetCode: 0 |
Status: OK |
CheckDir: OmnipathR.Rcheck |
Warnings: 0 |
############################################################################## ############################################################################## ### ### Running command: ### ### /home/biocbuild/bbs-3.17-bioc/R/bin/R CMD check --install=check:OmnipathR.install-out.txt --library=/home/biocbuild/bbs-3.17-bioc/R/site-library --timings OmnipathR_3.8.2.tar.gz ### ############################################################################## ############################################################################## * using log directory ‘/home/biocbuild/bbs-3.17-bioc/meat/OmnipathR.Rcheck’ * using R version 4.3.1 (2023-06-16) * using platform: x86_64-pc-linux-gnu (64-bit) * R was compiled by gcc (Ubuntu 11.3.0-1ubuntu1~22.04.1) 11.3.0 GNU Fortran (Ubuntu 11.3.0-1ubuntu1~22.04.1) 11.3.0 * running under: Ubuntu 22.04.3 LTS * using session charset: UTF-8 * checking for file ‘OmnipathR/DESCRIPTION’ ... OK * checking extension type ... Package * this is package ‘OmnipathR’ version ‘3.8.2’ * package encoding: UTF-8 * checking package namespace information ... OK * checking package dependencies ... OK * checking if this is a source package ... OK * checking if there is a namespace ... OK * checking for hidden files and directories ... OK * checking for portable file names ... OK * checking for sufficient/correct file permissions ... OK * checking whether package ‘OmnipathR’ can be installed ... OK * checking installed package size ... OK * checking package directory ... OK * checking DESCRIPTION meta-information ... OK * checking top-level files ... OK * checking for left-over files ... OK * checking index information ... OK * checking package subdirectories ... OK * checking R files for non-ASCII characters ... OK * checking R files for syntax errors ... OK * checking whether the package can be loaded ... OK * checking whether the package can be loaded with stated dependencies ... OK * checking whether the package can be unloaded cleanly ... OK * checking whether the namespace can be loaded with stated dependencies ... OK * checking whether the namespace can be unloaded cleanly ... OK * checking loading without being on the library search path ... OK * checking startup messages can be suppressed ... NOTE [2023-10-15 23:26:34] [TRACE] [OmnipathR] Reading JSON from `/home/biocbuild/.cache/OmnipathR/cache.json` (encoding: UTF-8). [2023-10-15 23:26:34] [TRACE] [OmnipathR] JSON validation successful: TRUE [2023-10-15 23:26:34] [INFO] [OmnipathR] Initialized cache: `/home/biocbuild/.cache/OmnipathR`. [2023-10-15 23:26:34] [TRACE] [OmnipathR] Running on a build server, wiping cache. [2023-10-15 23:26:34] [TRACE] [OmnipathR] Cache is at `/home/biocbuild/.cache/OmnipathR`. [2023-10-15 23:26:34] [TRACE] [OmnipathR] Contains 1 files. [2023-10-15 23:26:34] [TRACE] [OmnipathR] Cache is locked: FALSE. [2023-10-15 23:26:34] [TRACE] [OmnipathR] Reading JSON from `/home/biocbuild/.cache/OmnipathR/cache.json` (encoding: UTF-8). [2023-10-15 23:26:34] [TRACE] [OmnipathR] JSON validation successful: TRUE [2023-10-15 23:26:34] [SUCCESS] [OmnipathR] Removing all cache contents from `/home/biocbuild/.cache/OmnipathR`. [2023-10-15 23:26:34] [TRACE] [OmnipathR] Pandoc version: `2.7.3`. [2023-10-15 23:26:34] [TRACE] [OmnipathR] Reading JSON from `/home/biocbuild/bbs-3.17-bioc/R/site-library/OmnipathR/db/db_def.json` (encoding: UTF-8). [2023-10-15 23:26:34] [TRACE] [OmnipathR] JSON validation successful: TRUE [2023-10-15 23:26:34] [TRACE] [OmnipathR] Reading JSON from `/home/biocbuild/bbs-3.17-bioc/R/site-library/OmnipathR/internal/magic_bytes.json` (encoding: UTF-8). [2023-10-15 23:26:34] [TRACE] [OmnipathR] JSON validation successful: TRUE [2023-10-15 23:26:34] [TRACE] [OmnipathR] Reading JSON from `/home/biocbuild/bbs-3.17-bioc/R/site-library/OmnipathR/internal/urls.json` (encoding: UTF-8). [2023-10-15 23:26:34] [TRACE] [OmnipathR] JSON validation successful: TRUE [2023-10-15 23:26:34] [TRACE] [OmnipathR] Reading JSON from `/home/biocbuild/bbs-3.17-bioc/R/site-library/OmnipathR/internal/id_types.json` (encoding: UTF-8). [2023-10-15 23:26:34] [TRACE] [OmnipathR] JSON validation successful: TRUE [2023-10-15 23:26:34] [TRACE] [OmnipathR] Cache locked: FALSE It looks like this package (or a package it requires) has a startup message which cannot be suppressed: see ?packageStartupMessage. * checking dependencies in R code ... OK * checking S3 generic/method consistency ... OK * checking replacement functions ... OK * checking foreign function calls ... OK * checking R code for possible problems ... NOTE [2023-10-15 23:26:42] [TRACE] [OmnipathR] Reading JSON from `/home/biocbuild/.cache/OmnipathR/cache.json` (encoding: UTF-8). [2023-10-15 23:26:42] [TRACE] [OmnipathR] JSON validation successful: TRUE [2023-10-15 23:26:43] [INFO] [OmnipathR] Initialized cache: `/home/biocbuild/.cache/OmnipathR`. [2023-10-15 23:26:43] [TRACE] [OmnipathR] Running on a build server, wiping cache. [2023-10-15 23:26:43] [TRACE] [OmnipathR] Cache is at `/home/biocbuild/.cache/OmnipathR`. [2023-10-15 23:26:43] [TRACE] [OmnipathR] Contains 1 files. [2023-10-15 23:26:43] [TRACE] [OmnipathR] Cache is locked: FALSE. [2023-10-15 23:26:43] [TRACE] [OmnipathR] Reading JSON from `/home/biocbuild/.cache/OmnipathR/cache.json` (encoding: UTF-8). [2023-10-15 23:26:43] [TRACE] [OmnipathR] JSON validation successful: TRUE [2023-10-15 23:26:43] [SUCCESS] [OmnipathR] Removing all cache contents from `/home/biocbuild/.cache/OmnipathR`. [2023-10-15 23:26:43] [TRACE] [OmnipathR] Pandoc version: `2.7.3`. [2023-10-15 23:26:43] [TRACE] [OmnipathR] Reading JSON from `/home/biocbuild/bbs-3.17-bioc/R/site-library/OmnipathR/db/db_def.json` (encoding: UTF-8). [2023-10-15 23:26:43] [TRACE] [OmnipathR] JSON validation successful: TRUE [2023-10-15 23:26:43] [TRACE] [OmnipathR] Reading JSON from `/home/biocbuild/bbs-3.17-bioc/R/site-library/OmnipathR/internal/magic_bytes.json` (encoding: UTF-8). [2023-10-15 23:26:43] [TRACE] [OmnipathR] JSON validation successful: TRUE [2023-10-15 23:26:43] [TRACE] [OmnipathR] Reading JSON from `/home/biocbuild/bbs-3.17-bioc/R/site-library/OmnipathR/internal/urls.json` (encoding: UTF-8). [2023-10-15 23:26:43] [TRACE] [OmnipathR] JSON validation successful: TRUE [2023-10-15 23:26:43] [TRACE] [OmnipathR] Reading JSON from `/home/biocbuild/bbs-3.17-bioc/R/site-library/OmnipathR/internal/id_types.json` (encoding: UTF-8). [2023-10-15 23:26:43] [TRACE] [OmnipathR] JSON validation successful: TRUE [2023-10-15 23:26:43] [TRACE] [OmnipathR] Cache locked: FALSE uniprot_idmapping_id_types: no visible binding for global variable ‘groups’ uniprot_idmapping_id_types: no visible binding for global variable ‘items’ Undefined global functions or variables: groups items * checking Rd files ... OK * checking Rd metadata ... OK * checking Rd cross-references ... OK * checking for missing documentation entries ... OK * checking for code/documentation mismatches ... OK * checking Rd \usage sections ... OK * checking Rd contents ... OK * checking for unstated dependencies in examples ... OK * checking R/sysdata.rda ... OK * checking files in ‘vignettes’ ... OK * checking examples ... OK Examples with CPU (user + system) or elapsed time > 5s user system elapsed collectri 92.628 0.712 96.414 dorothea 64.003 1.240 69.669 annotation_categories 65.140 0.072 66.715 curated_ligrec_stats 42.446 2.237 130.656 filter_extra_attrs 35.974 0.128 37.495 nichenet_gr_network_omnipath 21.242 0.755 42.666 pivot_annotations 17.466 1.331 40.047 giant_component 17.718 0.233 31.554 go_annot_download 14.326 1.976 18.580 extra_attrs_to_cols 16.090 0.075 16.614 nichenet_signaling_network_omnipath 15.523 0.287 27.795 extra_attr_values 12.661 0.423 18.438 has_extra_attrs 10.839 0.453 19.333 print_interactions 10.297 0.653 19.885 filter_by_resource 10.259 0.107 15.537 extra_attrs 10.098 0.175 10.281 filter_intercell 9.218 0.231 14.496 find_all_paths 8.666 0.070 9.321 curated_ligand_receptor_interactions 8.125 0.587 25.491 pubmed_open 7.635 0.452 10.225 with_extra_attrs 7.094 0.157 9.420 get_signed_ptms 6.665 0.011 7.371 omnipath 6.224 0.022 9.140 database_summary 2.350 2.065 7.214 import_transcriptional_interactions 2.526 1.783 12.811 intercell_consensus_filter 2.530 0.511 7.406 enzsub_graph 2.976 0.061 6.041 print_path_vs 2.564 0.140 5.963 import_tf_target_interactions 1.269 0.997 19.546 import_omnipath_enzsub 2.123 0.141 7.836 get_complex_genes 1.987 0.031 5.276 import_pathwayextra_interactions 1.764 0.192 7.349 import_mirnatarget_interactions 1.643 0.159 7.162 import_ligrecextra_interactions 1.354 0.115 5.535 omnipath_cache_load 1.352 0.101 6.644 ensembl_id_mapping_table 1.333 0.084 21.344 import_post_translational_interactions 1.108 0.283 6.604 biomart_query 1.197 0.064 10.677 import_omnipath_complexes 1.121 0.061 6.256 kegg_picture 0.343 0.065 6.981 * checking for unstated dependencies in ‘tests’ ... OK * checking tests ... Running ‘testthat.R’ OK * checking for unstated dependencies in vignettes ... OK * checking package vignettes in ‘inst/doc’ ... OK * checking running R code from vignettes ... ‘bioc_workshop.Rmd’ using ‘UTF-8’... OK ‘db_manager.Rmd’ using ‘UTF-8’... OK ‘drug_targets.Rmd’ using ‘UTF-8’... OK ‘extra_attrs.Rmd’ using ‘UTF-8’... OK ‘nichenet.Rmd’ using ‘UTF-8’... OK ‘omnipath_intro.Rmd’ using ‘UTF-8’... OK ‘paths.Rmd’ using ‘UTF-8’... OK NONE * checking re-building of vignette outputs ... OK * checking PDF version of manual ... OK * DONE Status: 2 NOTEs See ‘/home/biocbuild/bbs-3.17-bioc/meat/OmnipathR.Rcheck/00check.log’ for details.
OmnipathR.Rcheck/00install.out
############################################################################## ############################################################################## ### ### Running command: ### ### /home/biocbuild/bbs-3.17-bioc/R/bin/R CMD INSTALL OmnipathR ### ############################################################################## ############################################################################## * installing to library ‘/home/biocbuild/bbs-3.17-bioc/R/site-library’ * installing *source* package ‘OmnipathR’ ... ** using staged installation ** R ** inst ** byte-compile and prepare package for lazy loading ** help *** installing help indices *** copying figures ** building package indices ** installing vignettes ** testing if installed package can be loaded from temporary location [2023-10-15 15:30:10] [TRACE] [OmnipathR] Reading JSON from `/home/biocbuild/.cache/OmnipathR/cache.json` (encoding: UTF-8). [2023-10-15 15:30:10] [TRACE] [OmnipathR] JSON validation successful: TRUE [2023-10-15 15:30:10] [INFO] [OmnipathR] Initialized cache: `/home/biocbuild/.cache/OmnipathR`. [2023-10-15 15:30:10] [TRACE] [OmnipathR] Running on a build server, wiping cache. [2023-10-15 15:30:10] [TRACE] [OmnipathR] Cache is at `/home/biocbuild/.cache/OmnipathR`. [2023-10-15 15:30:10] [TRACE] [OmnipathR] Contains 6 files. [2023-10-15 15:30:10] [TRACE] [OmnipathR] Cache is locked: FALSE. [2023-10-15 15:30:10] [TRACE] [OmnipathR] Reading JSON from `/home/biocbuild/.cache/OmnipathR/cache.json` (encoding: UTF-8). [2023-10-15 15:30:10] [TRACE] [OmnipathR] JSON validation successful: TRUE [2023-10-15 15:30:10] [SUCCESS] [OmnipathR] Removing all cache contents from `/home/biocbuild/.cache/OmnipathR`. [2023-10-15 15:30:10] [TRACE] [OmnipathR] Pandoc version: `2.7.3`. [2023-10-15 15:30:10] [TRACE] [OmnipathR] Reading JSON from `/home/biocbuild/bbs-3.17-bioc/R/site-library/00LOCK-OmnipathR/00new/OmnipathR/db/db_def.json` (encoding: UTF-8). [2023-10-15 15:30:10] [TRACE] [OmnipathR] JSON validation successful: TRUE [2023-10-15 15:30:10] [TRACE] [OmnipathR] Reading JSON from `/home/biocbuild/bbs-3.17-bioc/R/site-library/00LOCK-OmnipathR/00new/OmnipathR/internal/magic_bytes.json` (encoding: UTF-8). [2023-10-15 15:30:10] [TRACE] [OmnipathR] JSON validation successful: TRUE [2023-10-15 15:30:10] [TRACE] [OmnipathR] Reading JSON from `/home/biocbuild/bbs-3.17-bioc/R/site-library/00LOCK-OmnipathR/00new/OmnipathR/internal/urls.json` (encoding: UTF-8). [2023-10-15 15:30:10] [TRACE] [OmnipathR] JSON validation successful: TRUE [2023-10-15 15:30:10] [TRACE] [OmnipathR] Reading JSON from `/home/biocbuild/bbs-3.17-bioc/R/site-library/00LOCK-OmnipathR/00new/OmnipathR/internal/id_types.json` (encoding: UTF-8). [2023-10-15 15:30:10] [TRACE] [OmnipathR] JSON validation successful: TRUE [2023-10-15 15:30:10] [TRACE] [OmnipathR] Cache locked: FALSE ** testing if installed package can be loaded from final location [2023-10-15 15:30:11] [TRACE] [OmnipathR] Reading JSON from `/home/biocbuild/.cache/OmnipathR/cache.json` (encoding: UTF-8). [2023-10-15 15:30:11] [TRACE] [OmnipathR] JSON validation successful: TRUE [2023-10-15 15:30:12] [INFO] [OmnipathR] Initialized cache: `/home/biocbuild/.cache/OmnipathR`. [2023-10-15 15:30:12] [TRACE] [OmnipathR] Running on a build server, wiping cache. [2023-10-15 15:30:12] [TRACE] [OmnipathR] Cache is at `/home/biocbuild/.cache/OmnipathR`. [2023-10-15 15:30:12] [TRACE] [OmnipathR] Contains 1 files. [2023-10-15 15:30:12] [TRACE] [OmnipathR] Cache is locked: FALSE. [2023-10-15 15:30:12] [TRACE] [OmnipathR] Reading JSON from `/home/biocbuild/.cache/OmnipathR/cache.json` (encoding: UTF-8). [2023-10-15 15:30:12] [TRACE] [OmnipathR] JSON validation successful: TRUE [2023-10-15 15:30:12] [SUCCESS] [OmnipathR] Removing all cache contents from `/home/biocbuild/.cache/OmnipathR`. [2023-10-15 15:30:12] [TRACE] [OmnipathR] Pandoc version: `2.7.3`. [2023-10-15 15:30:12] [TRACE] [OmnipathR] Reading JSON from `/home/biocbuild/bbs-3.17-bioc/R/site-library/OmnipathR/db/db_def.json` (encoding: UTF-8). [2023-10-15 15:30:12] [TRACE] [OmnipathR] JSON validation successful: TRUE [2023-10-15 15:30:12] [TRACE] [OmnipathR] Reading JSON from `/home/biocbuild/bbs-3.17-bioc/R/site-library/OmnipathR/internal/magic_bytes.json` (encoding: UTF-8). [2023-10-15 15:30:12] [TRACE] [OmnipathR] JSON validation successful: TRUE [2023-10-15 15:30:12] [TRACE] [OmnipathR] Reading JSON from `/home/biocbuild/bbs-3.17-bioc/R/site-library/OmnipathR/internal/urls.json` (encoding: UTF-8). [2023-10-15 15:30:12] [TRACE] [OmnipathR] JSON validation successful: TRUE [2023-10-15 15:30:12] [TRACE] [OmnipathR] Reading JSON from `/home/biocbuild/bbs-3.17-bioc/R/site-library/OmnipathR/internal/id_types.json` (encoding: UTF-8). [2023-10-15 15:30:12] [TRACE] [OmnipathR] JSON validation successful: TRUE [2023-10-15 15:30:12] [TRACE] [OmnipathR] Cache locked: FALSE ** testing if installed package keeps a record of temporary installation path * DONE (OmnipathR)
OmnipathR.Rcheck/tests/testthat.Rout
R version 4.3.1 (2023-06-16) -- "Beagle Scouts" Copyright (C) 2023 The R Foundation for Statistical Computing Platform: x86_64-pc-linux-gnu (64-bit) R is free software and comes with ABSOLUTELY NO WARRANTY. You are welcome to redistribute it under certain conditions. Type 'license()' or 'licence()' for distribution details. R is a collaborative project with many contributors. Type 'contributors()' for more information and 'citation()' on how to cite R or R packages in publications. Type 'demo()' for some demos, 'help()' for on-line help, or 'help.start()' for an HTML browser interface to help. Type 'q()' to quit R. > #!/usr/bin/env Rscript > > # > # This file is part of the `OmnipathR` R package > # > # Copyright > # 2018-2023 > # Saez Lab, Uniklinik RWTH Aachen, Heidelberg University > # > # File author(s): Alberto Valdeolivas > # Dénes Türei (turei.denes@gmail.com) > # Attila Gábor > # > # Distributed under the MIT (Expat) License. > # See accompanying file `LICENSE` or find a copy at > # https://directory.fsf.org/wiki/License:Expat > # > # Website: https://r.omnipathdb.org/ > # Git repo: https://github.com/saezlab/OmnipathR > # > > > library(testthat) > library(OmnipathR) [2023-10-15 23:43:33] [TRACE] [OmnipathR] Reading JSON from `/home/biocbuild/.cache/OmnipathR/cache.json` (encoding: UTF-8). [2023-10-15 23:43:33] [TRACE] [OmnipathR] JSON validation successful: TRUE [2023-10-15 23:43:33] [INFO] [OmnipathR] Initialized cache: `/home/biocbuild/.cache/OmnipathR`. [2023-10-15 23:43:33] [TRACE] [OmnipathR] Running on a build server, wiping cache. [2023-10-15 23:43:33] [TRACE] [OmnipathR] Cache is at `/home/biocbuild/.cache/OmnipathR`. [2023-10-15 23:43:33] [TRACE] [OmnipathR] Contains 16 files. [2023-10-15 23:43:33] [TRACE] [OmnipathR] Cache is locked: FALSE. [2023-10-15 23:43:33] [TRACE] [OmnipathR] Reading JSON from `/home/biocbuild/.cache/OmnipathR/cache.json` (encoding: UTF-8). [2023-10-15 23:43:33] [TRACE] [OmnipathR] JSON validation successful: TRUE [2023-10-15 23:43:33] [SUCCESS] [OmnipathR] Removing all cache contents from `/home/biocbuild/.cache/OmnipathR`. [2023-10-15 23:43:33] [TRACE] [OmnipathR] Pandoc version: `2.7.3`. [2023-10-15 23:43:33] [TRACE] [OmnipathR] Reading JSON from `/home/biocbuild/bbs-3.17-bioc/R/site-library/OmnipathR/db/db_def.json` (encoding: UTF-8). [2023-10-15 23:43:33] [TRACE] [OmnipathR] JSON validation successful: TRUE [2023-10-15 23:43:33] [TRACE] [OmnipathR] Reading JSON from `/home/biocbuild/bbs-3.17-bioc/R/site-library/OmnipathR/internal/magic_bytes.json` (encoding: UTF-8). [2023-10-15 23:43:33] [TRACE] [OmnipathR] JSON validation successful: TRUE [2023-10-15 23:43:33] [TRACE] [OmnipathR] Reading JSON from `/home/biocbuild/bbs-3.17-bioc/R/site-library/OmnipathR/internal/urls.json` (encoding: UTF-8). [2023-10-15 23:43:34] [TRACE] [OmnipathR] JSON validation successful: TRUE [2023-10-15 23:43:34] [TRACE] [OmnipathR] Reading JSON from `/home/biocbuild/bbs-3.17-bioc/R/site-library/OmnipathR/internal/id_types.json` (encoding: UTF-8). [2023-10-15 23:43:34] [TRACE] [OmnipathR] JSON validation successful: TRUE [2023-10-15 23:43:34] [TRACE] [OmnipathR] Cache locked: FALSE > > test_check('OmnipathR') [ FAIL 0 | WARN 0 | SKIP 0 | PASS 34 ] > > proc.time() user system elapsed 20.910 1.241 63.840
OmnipathR.Rcheck/OmnipathR-Ex.timings
name | user | system | elapsed | |
OmnipathR | 0.000 | 0.000 | 0.001 | |
all_uniprot_acs | 0.025 | 0.000 | 0.025 | |
all_uniprots | 0.01 | 0.00 | 0.01 | |
ancestors | 0.01 | 0.00 | 0.01 | |
annotated_network | 1.208 | 0.072 | 4.933 | |
annotation_categories | 65.140 | 0.072 | 66.715 | |
biomart_query | 1.197 | 0.064 | 10.677 | |
bioplex1 | 0.035 | 0.000 | 0.034 | |
bioplex2 | 0.010 | 0.000 | 0.009 | |
bioplex3 | 0.009 | 0.000 | 0.010 | |
bioplex_all | 0.009 | 0.000 | 0.010 | |
bioplex_hct116_1 | 0.010 | 0.000 | 0.009 | |
bma_motif_es | 0.423 | 0.024 | 1.482 | |
bma_motif_vs | 0.284 | 0.000 | 0.949 | |
collectri | 92.628 | 0.712 | 96.414 | |
common_name | 0.066 | 0.000 | 0.066 | |
consensuspathdb_download | 0 | 0 | 0 | |
consensuspathdb_raw_table | 0.023 | 0.000 | 0.024 | |
curated_ligand_receptor_interactions | 8.125 | 0.587 | 25.491 | |
curated_ligrec_stats | 42.446 | 2.237 | 130.656 | |
database_summary | 2.350 | 2.065 | 7.214 | |
descendants | 0.020 | 0.004 | 0.024 | |
dorothea | 64.003 | 1.240 | 69.669 | |
ensembl_dataset | 0.023 | 0.004 | 0.027 | |
ensembl_id_mapping_table | 1.333 | 0.084 | 21.344 | |
ensembl_id_type | 0.009 | 0.000 | 0.009 | |
ensembl_name | 0.108 | 0.000 | 0.108 | |
ensembl_organisms | 0.262 | 0.008 | 0.270 | |
ensembl_organisms_raw | 0.247 | 0.000 | 0.249 | |
ensembl_orthology | 0.000 | 0.000 | 0.001 | |
enzsub_graph | 2.976 | 0.061 | 6.041 | |
evex_download | 0.026 | 0.003 | 0.030 | |
evidences | 0.001 | 0.001 | 0.000 | |
extra_attr_values | 12.661 | 0.423 | 18.438 | |
extra_attrs | 10.098 | 0.175 | 10.281 | |
extra_attrs_to_cols | 16.090 | 0.075 | 16.614 | |
filter_by_resource | 10.259 | 0.107 | 15.537 | |
filter_extra_attrs | 35.974 | 0.128 | 37.495 | |
filter_intercell | 9.218 | 0.231 | 14.496 | |
filter_intercell_network | 0.038 | 0.004 | 0.042 | |
find_all_paths | 8.666 | 0.070 | 9.321 | |
from_evidences | 0.001 | 0.000 | 0.000 | |
get_annotation_resources | 0.303 | 0.004 | 1.163 | |
get_complex_genes | 1.987 | 0.031 | 5.276 | |
get_complex_resources | 0.252 | 0.000 | 1.424 | |
get_db | 0.001 | 0.000 | 0.001 | |
get_enzsub_resources | 0.244 | 0.004 | 0.993 | |
get_interaction_resources | 0.251 | 0.000 | 1.087 | |
get_intercell_categories | 1.101 | 0.028 | 1.445 | |
get_intercell_generic_categories | 0.029 | 0.008 | 0.037 | |
get_intercell_resources | 0.203 | 0.003 | 1.123 | |
get_ontology_db | 0.019 | 0.000 | 0.019 | |
get_resources | 0.210 | 0.008 | 0.939 | |
get_signed_ptms | 6.665 | 0.011 | 7.371 | |
giant_component | 17.718 | 0.233 | 31.554 | |
go_annot_download | 14.326 | 1.976 | 18.580 | |
go_annot_slim | 0 | 0 | 0 | |
go_ontology_download | 0.025 | 0.000 | 0.025 | |
guide2pharma_download | 0.029 | 0.008 | 0.037 | |
harmonizome_download | 0.022 | 0.008 | 0.030 | |
has_extra_attrs | 10.839 | 0.453 | 19.333 | |
homologene_download | 0.022 | 0.000 | 0.022 | |
homologene_raw | 0.037 | 0.008 | 0.046 | |
homologene_uniprot_orthology | 0.022 | 0.000 | 0.022 | |
homology_translate | 0 | 0 | 0 | |
hpo_download | 2.557 | 0.366 | 4.428 | |
htridb_download | 0.008 | 0.004 | 0.012 | |
import_all_interactions | 0.906 | 0.116 | 2.934 | |
import_intercell_network | 0.011 | 0.000 | 0.011 | |
import_kinaseextra_interactions | 1.301 | 0.125 | 4.175 | |
import_ligrecextra_interactions | 1.354 | 0.115 | 5.535 | |
import_lncrna_mrna_interactions | 1.018 | 0.078 | 3.657 | |
import_mirnatarget_interactions | 1.643 | 0.159 | 7.162 | |
import_omnipath_annotations | 1.043 | 0.133 | 4.887 | |
import_omnipath_complexes | 1.121 | 0.061 | 6.256 | |
import_omnipath_enzsub | 2.123 | 0.141 | 7.836 | |
import_omnipath_interactions | 0.545 | 0.024 | 2.103 | |
import_omnipath_intercell | 0.966 | 0.135 | 3.339 | |
import_pathwayextra_interactions | 1.764 | 0.192 | 7.349 | |
import_post_translational_interactions | 1.108 | 0.283 | 6.604 | |
import_small_molecule_protein_interactions | 0.460 | 0.056 | 1.102 | |
import_tf_mirna_interactions | 0.791 | 0.077 | 3.296 | |
import_tf_target_interactions | 1.269 | 0.997 | 19.546 | |
import_transcriptional_interactions | 2.526 | 1.783 | 12.811 | |
inbiomap_download | 0 | 0 | 0 | |
inbiomap_raw | 0 | 0 | 0 | |
interaction_datasets | 0.626 | 0.055 | 1.606 | |
interaction_graph | 0.581 | 0.008 | 1.300 | |
interaction_types | 0.043 | 0.003 | 0.047 | |
intercell_categories | 0.076 | 0.009 | 0.085 | |
intercell_consensus_filter | 2.530 | 0.511 | 7.406 | |
is_ontology_id | 0.000 | 0.000 | 0.001 | |
is_swissprot | 0.106 | 0.013 | 0.237 | |
is_trembl | 0.108 | 0.024 | 0.275 | |
is_uniprot | 0.041 | 0.004 | 0.112 | |
kegg_info | 0.035 | 0.020 | 0.141 | |
kegg_open | 0.036 | 0.000 | 0.094 | |
kegg_pathway_annotations | 0.001 | 0.000 | 0.000 | |
kegg_pathway_download | 0.036 | 0.000 | 0.088 | |
kegg_pathway_list | 0.025 | 0.008 | 0.082 | |
kegg_pathways_download | 0.000 | 0.000 | 0.001 | |
kegg_picture | 0.343 | 0.065 | 6.981 | |
kegg_process | 0.054 | 0.016 | 0.201 | |
latin_name | 0.156 | 0.029 | 0.531 | |
load_db | 0.222 | 0.028 | 0.498 | |
ncbi_taxid | 0.259 | 0.048 | 0.475 | |
nichenet_build_model | 0.001 | 0.000 | 0.000 | |
nichenet_expression_data | 0.025 | 0.012 | 0.081 | |
nichenet_gr_network | 0.078 | 0.026 | 0.196 | |
nichenet_gr_network_evex | 0.028 | 0.004 | 0.065 | |
nichenet_gr_network_harmonizome | 0.033 | 0.000 | 0.065 | |
nichenet_gr_network_htridb | 0.030 | 0.000 | 0.058 | |
nichenet_gr_network_omnipath | 21.242 | 0.755 | 42.666 | |
nichenet_gr_network_pathwaycommons | 0.031 | 0.000 | 0.062 | |
nichenet_gr_network_regnetwork | 0.130 | 0.000 | 0.258 | |
nichenet_gr_network_remap | 0.024 | 0.004 | 0.060 | |
nichenet_gr_network_trrust | 0.029 | 0.000 | 0.061 | |
nichenet_ligand_activities | 0.001 | 0.000 | 0.001 | |
nichenet_ligand_target_links | 0.000 | 0.000 | 0.001 | |
nichenet_ligand_target_matrix | 0 | 0 | 0 | |
nichenet_lr_network | 0.083 | 0.000 | 0.168 | |
nichenet_lr_network_guide2pharma | 0.024 | 0.004 | 0.060 | |
nichenet_lr_network_omnipath | 0.065 | 0.004 | 0.069 | |
nichenet_lr_network_ramilowski | 0.024 | 0.004 | 0.028 | |
nichenet_main | 0.001 | 0.000 | 0.001 | |
nichenet_networks | 0.139 | 0.012 | 0.300 | |
nichenet_optimization | 0 | 0 | 0 | |
nichenet_remove_orphan_ligands | 0.074 | 0.012 | 0.134 | |
nichenet_results_dir | 0.000 | 0.001 | 0.000 | |
nichenet_signaling_network | 0.063 | 0.010 | 0.073 | |
nichenet_signaling_network_cpdb | 0.022 | 0.000 | 0.022 | |
nichenet_signaling_network_evex | 0.023 | 0.000 | 0.039 | |
nichenet_signaling_network_harmonizome | 0.030 | 0.000 | 0.062 | |
nichenet_signaling_network_inbiomap | 0.001 | 0.000 | 0.000 | |
nichenet_signaling_network_omnipath | 15.523 | 0.287 | 27.795 | |
nichenet_signaling_network_pathwaycommons | 0.037 | 0.000 | 0.046 | |
nichenet_signaling_network_vinayagam | 0.034 | 0.000 | 0.034 | |
nichenet_test | 0 | 0 | 0 | |
nichenet_workarounds | 0 | 0 | 0 | |
obo_parser | 0.297 | 0.024 | 0.905 | |
omnipath | 6.224 | 0.022 | 9.140 | |
omnipath_cache_autoclean | 0 | 0 | 0 | |
omnipath_cache_clean | 0.012 | 0.001 | 0.013 | |
omnipath_cache_clean_db | 0.162 | 0.008 | 0.259 | |
omnipath_cache_download_ready | 1.101 | 0.088 | 1.726 | |
omnipath_cache_filter_versions | 0.256 | 0.016 | 0.387 | |
omnipath_cache_get | 0.221 | 0.016 | 0.237 | |
omnipath_cache_key | 0.000 | 0.003 | 0.003 | |
omnipath_cache_latest_or_new | 0.185 | 0.008 | 0.341 | |
omnipath_cache_load | 1.352 | 0.101 | 6.644 | |
omnipath_cache_move_in | 0.473 | 0.053 | 1.250 | |
omnipath_cache_remove | 0.351 | 0.028 | 0.790 | |
omnipath_cache_save | 0.762 | 0.020 | 1.904 | |
omnipath_cache_search | 0.000 | 0.002 | 0.001 | |
omnipath_cache_set_ext | 0.226 | 0.008 | 0.460 | |
omnipath_cache_update_status | 0.279 | 0.016 | 0.599 | |
omnipath_cache_wipe | 0.000 | 0.000 | 0.001 | |
omnipath_get_config_path | 0.000 | 0.001 | 0.001 | |
omnipath_load_config | 0.001 | 0.000 | 0.000 | |
omnipath_log | 0.000 | 0.000 | 0.001 | |
omnipath_logfile | 0.002 | 0.000 | 0.014 | |
omnipath_msg | 0.019 | 0.000 | 0.030 | |
omnipath_reset_config | 0.001 | 0.000 | 0.001 | |
omnipath_save_config | 0 | 0 | 0 | |
omnipath_set_cachedir | 0.073 | 0.001 | 0.074 | |
omnipath_set_console_loglevel | 0.001 | 0.001 | 0.003 | |
omnipath_set_logfile_loglevel | 0.000 | 0.002 | 0.003 | |
omnipath_set_loglevel | 0.001 | 0.002 | 0.013 | |
omnipath_show_db | 0.148 | 0.004 | 0.152 | |
omnipath_unlock_cache_db | 0.001 | 0.000 | 0.001 | |
only_from | 0.000 | 0.000 | 0.001 | |
ontology_ensure_id | 0.002 | 0.000 | 0.017 | |
ontology_ensure_name | 0.002 | 0.000 | 0.001 | |
ontology_name_id | 0.002 | 0.000 | 0.002 | |
pathwaycommons_download | 0.002 | 0.000 | 0.016 | |
pivot_annotations | 17.466 | 1.331 | 40.047 | |
preppi_download | 0.001 | 0.000 | 0.001 | |
preppi_filter | 0.002 | 0.000 | 0.018 | |
print_bma_motif_es | 0.584 | 0.046 | 2.136 | |
print_bma_motif_vs | 0.337 | 0.009 | 1.349 | |
print_interactions | 10.297 | 0.653 | 19.885 | |
print_path_es | 0.723 | 0.122 | 2.732 | |
print_path_vs | 2.564 | 0.140 | 5.963 | |
pubmed_open | 7.635 | 0.452 | 10.225 | |
query_info | 0.193 | 0.029 | 0.584 | |
ramilowski_download | 0.002 | 0.000 | 0.001 | |
regnetwork_directions | 0.001 | 0.000 | 0.001 | |
regnetwork_download | 0.001 | 0.000 | 0.002 | |
relations_list_to_table | 0.161 | 0.004 | 0.180 | |
relations_table_to_graph | 0 | 0 | 0 | |
relations_table_to_list | 0.115 | 0.003 | 0.120 | |
remap_dorothea_download | 0.001 | 0.000 | 0.000 | |
remap_filtered | 0 | 0 | 0 | |
remap_tf_target_download | 0 | 0 | 0 | |
resource_info | 0.234 | 0.068 | 0.967 | |
resources_colname | 0.794 | 0.121 | 2.726 | |
simplify_intercell_network | 0.001 | 0.000 | 0.002 | |
swap_relations | 0.141 | 0.004 | 0.146 | |
swissprots_only | 0.067 | 0.004 | 0.071 | |
tfcensus_download | 0.424 | 0.016 | 0.582 | |
translate_ids | 0.001 | 0.000 | 0.002 | |
trembls_only | 0.060 | 0.000 | 0.059 | |
trrust_download | 0.000 | 0.001 | 0.002 | |
uniprot_full_id_mapping_table | 0.000 | 0.002 | 0.002 | |
uniprot_genesymbol_cleanup | 0 | 0 | 0 | |
uniprot_id_mapping_table | 0.001 | 0.000 | 0.001 | |
uniprot_id_type | 0.008 | 0.000 | 0.009 | |
uniprot_idmapping_id_types | 0.327 | 0.004 | 1.322 | |
unique_intercell_network | 0.002 | 0.000 | 0.002 | |
unnest_evidences | 0.000 | 0.000 | 0.001 | |
uploadlists_id_type | 0.005 | 0.004 | 0.008 | |
vinayagam_download | 0.001 | 0.000 | 0.001 | |
walk_ontology_tree | 0.002 | 0.000 | 0.002 | |
with_extra_attrs | 7.094 | 0.157 | 9.420 | |
with_references | 0.658 | 0.055 | 2.575 | |
zenodo_download | 0.001 | 0.000 | 0.002 | |