Back to Multiple platform build/check report for BioC 3.17: simplified long |
|
This page was generated on 2023-10-16 11:37:20 -0400 (Mon, 16 Oct 2023).
Hostname | OS | Arch (*) | R version | Installed pkgs |
---|---|---|---|---|
nebbiolo1 | Linux (Ubuntu 22.04.2 LTS) | x86_64 | 4.3.1 (2023-06-16) -- "Beagle Scouts" | 4626 |
palomino3 | Windows Server 2022 Datacenter | x64 | 4.3.1 (2023-06-16 ucrt) -- "Beagle Scouts" | 4379 |
merida1 | macOS 12.6.4 Monterey | x86_64 | 4.3.1 (2023-06-16) -- "Beagle Scouts" | 4395 |
Click on any hostname to see more info about the system (e.g. compilers) (*) as reported by 'uname -p', except on Windows and Mac OS X |
Package 1452/2230 | Hostname | OS / Arch | INSTALL | BUILD | CHECK | BUILD BIN | ||||||||
OUTRIDER 1.18.1 (landing page) Christian Mertes
| nebbiolo1 | Linux (Ubuntu 22.04.2 LTS) / x86_64 | OK | OK | OK | ![]() | ||||||||
palomino3 | Windows Server 2022 Datacenter / x64 | OK | OK | OK | OK | ![]() | ||||||||
merida1 | macOS 12.6.4 Monterey / x86_64 | OK | OK | OK | OK | ![]() | ||||||||
kjohnson2 | macOS 12.6.1 Monterey / arm64 | see weekly results here | ||||||||||||
To the developers/maintainers of the OUTRIDER package: - Allow up to 24 hours (and sometimes 48 hours) for your latest push to git@git.bioconductor.org:packages/OUTRIDER.git to reflect on this report. See Troubleshooting Build Report for more information. - Use the following Renviron settings to reproduce errors and warnings. - If 'R CMD check' started to fail recently on the Linux builder(s) over a missing dependency, add the missing dependency to 'Suggests:' in your DESCRIPTION file. See Renviron.bioc for more information. |
Package: OUTRIDER |
Version: 1.18.1 |
Command: /Library/Frameworks/R.framework/Resources/bin/R CMD check --install=check:OUTRIDER.install-out.txt --library=/Library/Frameworks/R.framework/Resources/library --no-vignettes --timings OUTRIDER_1.18.1.tar.gz |
StartedAt: 2023-10-16 04:56:56 -0400 (Mon, 16 Oct 2023) |
EndedAt: 2023-10-16 05:15:05 -0400 (Mon, 16 Oct 2023) |
EllapsedTime: 1088.6 seconds |
RetCode: 0 |
Status: OK |
CheckDir: OUTRIDER.Rcheck |
Warnings: 0 |
############################################################################## ############################################################################## ### ### Running command: ### ### /Library/Frameworks/R.framework/Resources/bin/R CMD check --install=check:OUTRIDER.install-out.txt --library=/Library/Frameworks/R.framework/Resources/library --no-vignettes --timings OUTRIDER_1.18.1.tar.gz ### ############################################################################## ############################################################################## * using log directory ‘/Users/biocbuild/bbs-3.17-bioc/meat/OUTRIDER.Rcheck’ * using R version 4.3.1 (2023-06-16) * using platform: x86_64-apple-darwin20 (64-bit) * R was compiled by Apple clang version 14.0.3 (clang-1403.0.22.14.1) GNU Fortran (GCC) 12.2.0 * running under: macOS Monterey 12.6.4 * using session charset: UTF-8 * using option ‘--no-vignettes’ * checking for file ‘OUTRIDER/DESCRIPTION’ ... OK * checking extension type ... Package * this is package ‘OUTRIDER’ version ‘1.18.1’ * package encoding: UTF-8 * checking package namespace information ... OK * checking package dependencies ... OK * checking if this is a source package ... OK * checking if there is a namespace ... OK * checking for hidden files and directories ... OK * checking for portable file names ... OK * checking for sufficient/correct file permissions ... OK * checking whether package ‘OUTRIDER’ can be installed ... OK * used C++ compiler: ‘Apple clang version 14.0.0 (clang-1400.0.29.202)’ * used SDK: ‘MacOSX11.3.sdk’ * checking C++ specification ... NOTE Specified C++11: please drop specification unless essential * checking installed package size ... OK * checking package directory ... OK * checking ‘build’ directory ... OK * checking DESCRIPTION meta-information ... OK * checking top-level files ... OK * checking for left-over files ... OK * checking index information ... OK * checking package subdirectories ... OK * checking R files for non-ASCII characters ... OK * checking R files for syntax errors ... OK * checking whether the package can be loaded ... OK * checking whether the package can be loaded with stated dependencies ... OK * checking whether the package can be unloaded cleanly ... OK * checking whether the namespace can be loaded with stated dependencies ... OK * checking whether the namespace can be unloaded cleanly ... OK * checking dependencies in R code ... OK * checking S3 generic/method consistency ... OK * checking replacement functions ... OK * checking foreign function calls ... OK * checking R code for possible problems ... NOTE padjOnSubset: no visible global function definition for ‘bpmapply’ Undefined global functions or variables: bpmapply * checking Rd files ... OK * checking Rd metadata ... OK * checking Rd cross-references ... OK * checking for missing documentation entries ... OK * checking for code/documentation mismatches ... OK * checking Rd \usage sections ... OK * checking Rd contents ... OK * checking for unstated dependencies in examples ... OK * checking line endings in C/C++/Fortran sources/headers ... OK * checking line endings in Makefiles ... OK * checking compilation flags in Makevars ... OK * checking for GNU extensions in Makefiles ... OK * checking for portable use of $(BLAS_LIBS) and $(LAPACK_LIBS) ... OK * checking use of PKG_*FLAGS in Makefiles ... OK * checking compiled code ... NOTE Note: information on .o files is not available * checking sizes of PDF files under ‘inst/doc’ ... OK * checking files in ‘vignettes’ ... OK * checking examples ... OK Examples with CPU (user + system) or elapsed time > 5s user system elapsed findEncodingDim 25.308 0.344 33.059 OUTRIDER 19.068 4.016 25.326 plotFunctions 17.238 0.608 22.696 results 7.496 0.074 9.721 computePvalues 5.134 2.349 6.547 getter_setter_functions 6.984 0.034 8.691 aberrant 4.261 1.079 4.641 * checking for unstated dependencies in ‘tests’ ... OK * checking tests ... Running ‘testthat.R’ OK * checking for unstated dependencies in vignettes ... OK * checking package vignettes in ‘inst/doc’ ... OK * checking running R code from vignettes ... SKIPPED * checking re-building of vignette outputs ... SKIPPED * checking PDF version of manual ... OK * DONE Status: 3 NOTEs See ‘/Users/biocbuild/bbs-3.17-bioc/meat/OUTRIDER.Rcheck/00check.log’ for details.
OUTRIDER.Rcheck/00install.out
############################################################################## ############################################################################## ### ### Running command: ### ### /Library/Frameworks/R.framework/Resources/bin/R CMD INSTALL OUTRIDER ### ############################################################################## ############################################################################## * installing to library ‘/Library/Frameworks/R.framework/Versions/4.3-x86_64/Resources/library’ * installing *source* package ‘OUTRIDER’ ... ** using staged installation ** libs using C++ compiler: ‘Apple clang version 14.0.0 (clang-1400.0.29.202)’ using C++11 using SDK: ‘MacOSX11.3.sdk’ clang++ -arch x86_64 -std=gnu++11 -I"/Library/Frameworks/R.framework/Resources/include" -DNDEBUG -I'/Library/Frameworks/R.framework/Versions/4.3-x86_64/Resources/library/Rcpp/include' -I'/Library/Frameworks/R.framework/Versions/4.3-x86_64/Resources/library/RcppArmadillo/include' -I/opt/R/x86_64/include -DARMA_DONT_USE_OPENMP -fPIC -falign-functions=64 -Wall -g -O2 -c RcppExports.cpp -o RcppExports.o clang++ -arch x86_64 -std=gnu++11 -I"/Library/Frameworks/R.framework/Resources/include" -DNDEBUG -I'/Library/Frameworks/R.framework/Versions/4.3-x86_64/Resources/library/Rcpp/include' -I'/Library/Frameworks/R.framework/Versions/4.3-x86_64/Resources/library/RcppArmadillo/include' -I/opt/R/x86_64/include -DARMA_DONT_USE_OPENMP -fPIC -falign-functions=64 -Wall -g -O2 -c loss_n_gradient_functions.cpp -o loss_n_gradient_functions.o clang++ -arch x86_64 -std=gnu++11 -dynamiclib -Wl,-headerpad_max_install_names -undefined dynamic_lookup -single_module -multiply_defined suppress -L/Library/Frameworks/R.framework/Resources/lib -L/opt/R/x86_64/lib -o OUTRIDER.so RcppExports.o loss_n_gradient_functions.o -L/Library/Frameworks/R.framework/Resources/lib -lRlapack -L/Library/Frameworks/R.framework/Resources/lib -lRblas -L/opt/gfortran/lib/gcc/x86_64-apple-darwin20.0/12.2.0 -L/opt/gfortran/lib -lgfortran -lquadmath -F/Library/Frameworks/R.framework/.. -framework R -Wl,-framework -Wl,CoreFoundation installing to /Library/Frameworks/R.framework/Versions/4.3-x86_64/Resources/library/00LOCK-OUTRIDER/00new/OUTRIDER/libs ** R ** inst ** byte-compile and prepare package for lazy loading ** help *** installing help indices ** building package indices ** installing vignettes ** testing if installed package can be loaded from temporary location ** checking absolute paths in shared objects and dynamic libraries ** testing if installed package can be loaded from final location ** testing if installed package keeps a record of temporary installation path * DONE (OUTRIDER)
OUTRIDER.Rcheck/tests/testthat.Rout
R version 4.3.1 (2023-06-16) -- "Beagle Scouts" Copyright (C) 2023 The R Foundation for Statistical Computing Platform: x86_64-apple-darwin20 (64-bit) R is free software and comes with ABSOLUTELY NO WARRANTY. You are welcome to redistribute it under certain conditions. Type 'license()' or 'licence()' for distribution details. R is a collaborative project with many contributors. Type 'contributors()' for more information and 'citation()' on how to cite R or R packages in publications. Type 'demo()' for some demos, 'help()' for on-line help, or 'help.start()' for an HTML browser interface to help. Type 'q()' to quit R. > library(testthat) > library(OUTRIDER) Loading required package: BiocParallel Loading required package: GenomicFeatures Loading required package: BiocGenerics Attaching package: 'BiocGenerics' The following objects are masked from 'package:stats': IQR, mad, sd, var, xtabs The following objects are masked from 'package:base': Filter, Find, Map, Position, Reduce, anyDuplicated, aperm, append, as.data.frame, basename, cbind, colnames, dirname, do.call, duplicated, eval, evalq, get, grep, grepl, intersect, is.unsorted, lapply, mapply, match, mget, order, paste, pmax, pmax.int, pmin, pmin.int, rank, rbind, rownames, sapply, setdiff, sort, table, tapply, union, unique, unsplit, which.max, which.min Loading required package: S4Vectors Loading required package: stats4 Attaching package: 'S4Vectors' The following object is masked from 'package:utils': findMatches The following objects are masked from 'package:base': I, expand.grid, unname Loading required package: IRanges Loading required package: GenomeInfoDb Loading required package: GenomicRanges Loading required package: AnnotationDbi Loading required package: Biobase Welcome to Bioconductor Vignettes contain introductory material; view with 'browseVignettes()'. To cite Bioconductor, see 'citation("Biobase")', and for packages 'citation("pkgname")'. Loading required package: SummarizedExperiment Loading required package: MatrixGenerics Loading required package: matrixStats Attaching package: 'matrixStats' The following objects are masked from 'package:Biobase': anyMissing, rowMedians Attaching package: 'MatrixGenerics' The following objects are masked from 'package:matrixStats': colAlls, colAnyNAs, colAnys, colAvgsPerRowSet, colCollapse, colCounts, colCummaxs, colCummins, colCumprods, colCumsums, colDiffs, colIQRDiffs, colIQRs, colLogSumExps, colMadDiffs, colMads, colMaxs, colMeans2, colMedians, colMins, colOrderStats, colProds, colQuantiles, colRanges, colRanks, colSdDiffs, colSds, colSums2, colTabulates, colVarDiffs, colVars, colWeightedMads, colWeightedMeans, colWeightedMedians, colWeightedSds, colWeightedVars, rowAlls, rowAnyNAs, rowAnys, rowAvgsPerColSet, rowCollapse, rowCounts, rowCummaxs, rowCummins, rowCumprods, rowCumsums, rowDiffs, rowIQRDiffs, rowIQRs, rowLogSumExps, rowMadDiffs, rowMads, rowMaxs, rowMeans2, rowMedians, rowMins, rowOrderStats, rowProds, rowQuantiles, rowRanges, rowRanks, rowSdDiffs, rowSds, rowSums2, rowTabulates, rowVarDiffs, rowVars, rowWeightedMads, rowWeightedMeans, rowWeightedMedians, rowWeightedSds, rowWeightedVars The following object is masked from 'package:Biobase': rowMedians Loading required package: data.table Attaching package: 'data.table' The following object is masked from 'package:SummarizedExperiment': shift The following object is masked from 'package:GenomicRanges': shift The following object is masked from 'package:IRanges': shift The following objects are masked from 'package:S4Vectors': first, second > > register(SerialParam()) > > test_check("OUTRIDER") [1] "Mon Oct 16 05:12:07 2023: Initial PCA loss: 6.16015785516867" [1] "Mon Oct 16 05:12:11 2023: Iteration: 1 loss: 4.36427985834617" [1] "Mon Oct 16 05:12:13 2023: Iteration: 2 loss: 4.29730438573836" [1] "Mon Oct 16 05:12:15 2023: Iteration: 3 loss: 4.27773233892161" [1] "Mon Oct 16 05:12:17 2023: Iteration: 4 loss: 4.2653102824795" [1] "Mon Oct 16 05:12:18 2023: Iteration: 5 loss: 4.24621307235328" [1] "Mon Oct 16 05:12:20 2023: Iteration: 6 loss: 4.23956795052349" Time difference of 11.48645 secs [1] "Mon Oct 16 05:12:20 2023: 6 Final nb-AE loss: 4.23956795052349" [1] "Mon Oct 16 05:12:23 2023: Initial PCA loss: 6.16015785516867" [1] "Mon Oct 16 05:12:27 2023: Iteration: 1 loss: 4.36427985834617" [1] "Mon Oct 16 05:12:29 2023: Iteration: 2 loss: 4.29730438573836" [1] "Mon Oct 16 05:12:31 2023: Iteration: 3 loss: 4.27773233892161" [1] "Mon Oct 16 05:12:33 2023: Iteration: 4 loss: 4.2653102824795" [1] "Mon Oct 16 05:12:35 2023: Iteration: 5 loss: 4.24621307235328" [1] "Mon Oct 16 05:12:37 2023: Iteration: 6 loss: 4.23956795052349" Time difference of 11.81843 secs [1] "Mon Oct 16 05:12:37 2023: 6 Final nb-AE loss: 4.23956795052349" class: OutriderDataSet class: RangedSummarizedExperiment dim: 100 50 metadata(1): version assays(1): counts rownames(100): ENSG00000223972.4 ENSG00000227232.4 ... ENSG00000107404.13 ENSG00000162576.12 rowData names(0): colnames(50): GTEX.UPK5.0426.SM.3GAEK GTEX.WFG7.2026.SM.3GIL7 ... GTEX.11UD2.2526.SM.5CVNU GTEX.13O61.1426.SM.5KM3D colData names(1): sampleID [1] "Mon Oct 16 05:13:14 2023: Initial PCA loss: 4.4599786127809" [1] "Mon Oct 16 05:13:17 2023: Iteration: 1 loss: 4.10664474635293" [1] "Mon Oct 16 05:13:19 2023: Iteration: 2 loss: 4.07719758672854" Time difference of 4.012073 secs [1] "Mon Oct 16 05:13:19 2023: 2 Final nb-AE loss: 4.07719758672854" [1] "Evaluation loss: 0.402049514885036 for q=3" [1] "Mon Oct 16 05:13:22 2023: Initial PCA loss: 4.42831569711185" [1] "Mon Oct 16 05:13:25 2023: Iteration: 1 loss: 4.00559408162235" [1] "Mon Oct 16 05:13:27 2023: Iteration: 2 loss: 3.97763984157394" Time difference of 4.175332 secs [1] "Mon Oct 16 05:13:27 2023: 2 Final nb-AE loss: 3.97763984157394" [1] "Evaluation loss: 0.274025173892597 for q=4" [1] "Mon Oct 16 05:13:30 2023: Initial PCA loss: 4.40226695041276" [1] "Mon Oct 16 05:13:34 2023: Iteration: 1 loss: 3.90921816546897" [1] "Mon Oct 16 05:13:35 2023: Iteration: 2 loss: 3.87870222637305" Time difference of 3.886508 secs [1] "Mon Oct 16 05:13:35 2023: 2 Final nb-AE loss: 3.87870222637305" [1] "Evaluation loss: 0.38441656882354 for q=5" Error in x$.self$finalize() : attempt to apply non-function [1] "Mon Oct 16 05:14:05 2023: Initial PCA loss: 6.46616282459584" [1] "Mon Oct 16 05:14:10 2023: Iteration: 1 loss: 4.81564422796968" [1] "Mon Oct 16 05:14:12 2023: Iteration: 2 loss: 4.7904984813622" Time difference of 5.443664 secs [1] "Mon Oct 16 05:14:12 2023: 2 Final nb-AE loss: 4.7904984813622" [ FAIL 0 | WARN 32 | SKIP 0 | PASS 103 ] [ FAIL 0 | WARN 32 | SKIP 0 | PASS 103 ] Warning message: call dbDisconnect() when finished working with a connection > > proc.time() user system elapsed 151.499 3.152 201.698
OUTRIDER.Rcheck/OUTRIDER-Ex.timings
name | user | system | elapsed | |
OUTRIDER | 19.068 | 4.016 | 25.326 | |
OutriderDataSet-class | 1.933 | 0.172 | 2.571 | |
aberrant | 4.261 | 1.079 | 4.641 | |
computeGeneLength | 3.202 | 0.319 | 4.286 | |
computeLatentSpace | 1.728 | 0.015 | 2.102 | |
computePvalues | 5.134 | 2.349 | 6.547 | |
computeZscores | 2.157 | 0.274 | 3.006 | |
controlForConfounders | 2.582 | 0.109 | 3.799 | |
counts | 1.331 | 0.016 | 1.819 | |
estimateBestQ | 0.918 | 0.005 | 1.190 | |
filterExpression | 3.347 | 0.047 | 4.224 | |
findEncodingDim | 25.308 | 0.344 | 33.059 | |
fit | 1.983 | 0.028 | 2.479 | |
fpkm | 1.808 | 0.016 | 2.292 | |
getter_setter_functions | 6.984 | 0.034 | 8.691 | |
makeExampleOutriderDataSet | 2.567 | 0.015 | 3.214 | |
normalizationFactors | 1.664 | 0.013 | 2.080 | |
plotFunctions | 17.238 | 0.608 | 22.696 | |
results | 7.496 | 0.074 | 9.721 | |
sampleExclusionMask | 0.992 | 0.008 | 1.270 | |
sizeFactors | 1.516 | 0.014 | 1.933 | |