| Back to Multiple platform build/check report for BioC 3.17: simplified long |
|
This page was generated on 2023-10-16 11:36:22 -0400 (Mon, 16 Oct 2023).
| Hostname | OS | Arch (*) | R version | Installed pkgs |
|---|---|---|---|---|
| nebbiolo1 | Linux (Ubuntu 22.04.2 LTS) | x86_64 | 4.3.1 (2023-06-16) -- "Beagle Scouts" | 4626 |
| palomino3 | Windows Server 2022 Datacenter | x64 | 4.3.1 (2023-06-16 ucrt) -- "Beagle Scouts" | 4379 |
| merida1 | macOS 12.6.4 Monterey | x86_64 | 4.3.1 (2023-06-16) -- "Beagle Scouts" | 4395 |
| Click on any hostname to see more info about the system (e.g. compilers) (*) as reported by 'uname -p', except on Windows and Mac OS X | ||||
| Package 1297/2230 | Hostname | OS / Arch | INSTALL | BUILD | CHECK | BUILD BIN | ||||||||
| MsBackendRawFileReader 1.6.0 (landing page) Christian Panse
| nebbiolo1 | Linux (Ubuntu 22.04.2 LTS) / x86_64 | OK | OK | OK | |||||||||
| palomino3 | Windows Server 2022 Datacenter / x64 | OK | OK | OK | OK | |||||||||
| merida1 | macOS 12.6.4 Monterey / x86_64 | OK | OK | OK | OK | |||||||||
| kjohnson2 | macOS 12.6.1 Monterey / arm64 | see weekly results here | ||||||||||||
|
To the developers/maintainers of the MsBackendRawFileReader package: - Allow up to 24 hours (and sometimes 48 hours) for your latest push to git@git.bioconductor.org:packages/MsBackendRawFileReader.git to reflect on this report. See Troubleshooting Build Report for more information. - Use the following Renviron settings to reproduce errors and warnings. - If 'R CMD check' started to fail recently on the Linux builder(s) over a missing dependency, add the missing dependency to 'Suggests:' in your DESCRIPTION file. See Renviron.bioc for more information. |
| Package: MsBackendRawFileReader |
| Version: 1.6.0 |
| Command: F:\biocbuild\bbs-3.17-bioc\R\bin\R.exe CMD check --no-multiarch --install=check:MsBackendRawFileReader.install-out.txt --library=F:\biocbuild\bbs-3.17-bioc\R\library --no-vignettes --timings MsBackendRawFileReader_1.6.0.tar.gz |
| StartedAt: 2023-10-16 04:25:24 -0400 (Mon, 16 Oct 2023) |
| EndedAt: 2023-10-16 04:30:29 -0400 (Mon, 16 Oct 2023) |
| EllapsedTime: 305.7 seconds |
| RetCode: 0 |
| Status: OK |
| CheckDir: MsBackendRawFileReader.Rcheck |
| Warnings: 0 |
##############################################################################
##############################################################################
###
### Running command:
###
### F:\biocbuild\bbs-3.17-bioc\R\bin\R.exe CMD check --no-multiarch --install=check:MsBackendRawFileReader.install-out.txt --library=F:\biocbuild\bbs-3.17-bioc\R\library --no-vignettes --timings MsBackendRawFileReader_1.6.0.tar.gz
###
##############################################################################
##############################################################################
* using log directory 'F:/biocbuild/bbs-3.17-bioc/meat/MsBackendRawFileReader.Rcheck'
* using R version 4.3.1 (2023-06-16 ucrt)
* using platform: x86_64-w64-mingw32 (64-bit)
* R was compiled by
gcc.exe (GCC) 12.2.0
GNU Fortran (GCC) 12.2.0
* running under: Windows Server 2022 x64 (build 20348)
* using session charset: UTF-8
* using option '--no-vignettes'
* checking for file 'MsBackendRawFileReader/DESCRIPTION' ... OK
* checking extension type ... Package
* this is package 'MsBackendRawFileReader' version '1.6.0'
* package encoding: UTF-8
* checking package namespace information ... OK
* checking package dependencies ... OK
* checking if this is a source package ... OK
* checking if there is a namespace ... OK
* checking for hidden files and directories ... OK
* checking for portable file names ... OK
* checking whether package 'MsBackendRawFileReader' can be installed ... OK
* checking installed package size ... OK
* checking package directory ... OK
* checking 'build' directory ... OK
* checking DESCRIPTION meta-information ... OK
* checking top-level files ... OK
* checking for left-over files ... OK
* checking index information ... OK
* checking package subdirectories ... OK
* checking R files for non-ASCII characters ... OK
* checking R files for syntax errors ... OK
* checking whether the package can be loaded ... OK
* checking whether the package can be loaded with stated dependencies ... OK
* checking whether the package can be unloaded cleanly ... OK
* checking whether the namespace can be loaded with stated dependencies ... OK
* checking whether the namespace can be unloaded cleanly ... OK
* checking startup messages can be suppressed ... OK
* checking dependencies in R code ... OK
* checking S3 generic/method consistency ... OK
* checking replacement functions ... OK
* checking foreign function calls ... OK
* checking R code for possible problems ... OK
* checking Rd files ... OK
* checking Rd metadata ... OK
* checking Rd cross-references ... OK
* checking for missing documentation entries ... OK
* checking for code/documentation mismatches ... OK
* checking Rd \usage sections ... OK
* checking Rd contents ... OK
* checking for unstated dependencies in examples ... OK
* checking files in 'vignettes' ... OK
* checking examples ... OK
Examples with CPU (user + system) or elapsed time > 5s
user system elapsed
ioBenchmark 8.58 2.36 77.88
MsBackendRawFileReader 0.86 0.02 23.52
MsBackendRawFileReader-class 0.75 0.05 10.11
hidden_aliases 0.27 0.01 9.28
* checking for unstated dependencies in 'tests' ... OK
* checking tests ...
Running 'testthat.R'
OK
* checking for unstated dependencies in vignettes ... OK
* checking package vignettes in 'inst/doc' ... OK
* checking running R code from vignettes ... SKIPPED
* checking re-building of vignette outputs ... SKIPPED
* checking PDF version of manual ... OK
* DONE
Status: OK
MsBackendRawFileReader.Rcheck/00install.out
############################################################################## ############################################################################## ### ### Running command: ### ### F:\biocbuild\bbs-3.17-bioc\R\bin\R.exe CMD INSTALL MsBackendRawFileReader ### ############################################################################## ############################################################################## * installing to library 'F:/biocbuild/bbs-3.17-bioc/R/library' * installing *source* package 'MsBackendRawFileReader' ... ** using staged installation ** R ** inst ** byte-compile and prepare package for lazy loading ** help *** installing help indices ** building package indices ** installing vignettes ** testing if installed package can be loaded from temporary location ** testing if installed package can be loaded from final location ** testing if installed package keeps a record of temporary installation path * DONE (MsBackendRawFileReader)
MsBackendRawFileReader.Rcheck/tests/testthat.Rout
R version 4.3.1 (2023-06-16 ucrt) -- "Beagle Scouts"
Copyright (C) 2023 The R Foundation for Statistical Computing
Platform: x86_64-w64-mingw32/x64 (64-bit)
R is free software and comes with ABSOLUTELY NO WARRANTY.
You are welcome to redistribute it under certain conditions.
Type 'license()' or 'licence()' for distribution details.
R is a collaborative project with many contributors.
Type 'contributors()' for more information and
'citation()' on how to cite R or R packages in publications.
Type 'demo()' for some demos, 'help()' for on-line help, or
'help.start()' for an HTML browser interface to help.
Type 'q()' to quit R.
> library("testthat")
> library("MsBackendRawFileReader")
Loading required package: Spectra
Loading required package: S4Vectors
Loading required package: stats4
Loading required package: BiocGenerics
Attaching package: 'BiocGenerics'
The following objects are masked from 'package:stats':
IQR, mad, sd, var, xtabs
The following objects are masked from 'package:base':
Filter, Find, Map, Position, Reduce, anyDuplicated, aperm, append,
as.data.frame, basename, cbind, colnames, dirname, do.call,
duplicated, eval, evalq, get, grep, grepl, intersect, is.unsorted,
lapply, mapply, match, mget, order, paste, pmax, pmax.int, pmin,
pmin.int, rank, rbind, rownames, sapply, setdiff, sort, table,
tapply, union, unique, unsplit, which.max, which.min
Attaching package: 'S4Vectors'
The following object is masked from 'package:utils':
findMatches
The following objects are masked from 'package:base':
I, expand.grid, unname
Loading required package: BiocParallel
Loading required package: ProtGenerics
Attaching package: 'ProtGenerics'
The following object is masked from 'package:stats':
smooth
> library("Spectra")
>
>
> sample_raw_file <- file.path(system.file(package = "rawrr"),
+ 'extdata', 'sample.raw')
>
> sample_mzXML_file <- file.path(path.package(package = 'MsBackendRawFileReader'),
+ 'extdata', 'sample.mzXML')
>
>
> sample_raw <- backendInitialize(MsBackendRawFileReader::MsBackendRawFileReader(), files = sample_raw_file)
>
>
> #sample_mzr <- backendInitialize(MsBackendMzR(), files = sample_mzXML_file)
>
>
> mgf_file <- file.path(system.file(package = "MsBackendRawFileReader"),
+ 'extdata', '3159619b11ed_4590_9594.mgf')
>
>
> rv <- lapply(1:2, function(x){
+ file.copy(from = sample_raw_file, to = tempfile(fileext='.raw'))})
>
>
> register(SnowParam(workers = 1, type = "SOCK") , default = TRUE);
> sample_raw_2 <- backendInitialize(MsBackendRawFileReader(),
+ files = file.path(tempdir(),
+ list.files(path = tempdir(), pattern = 'raw$')))
>
>
> test_check("MsBackendRawFileReader")
[ FAIL 0 | WARN 1 | SKIP 2 | PASS 20 ]
══ Skipped tests (2) ═══════════════════════════════════════════════════════════
• isFALSE(file.exists(sample_mzXML_file)) is TRUE (1):
'test_MsBackendMzR_MsBackendRawFileReader.R:1:1'
• isFALSE(require(MsBackendRawMgf)) is TRUE (1): 'test_top_n_mgf.R:1:1'
[ FAIL 0 | WARN 1 | SKIP 2 | PASS 20 ]
>
>
> be <- Spectra::backendInitialize(MsBackendRawFileReader::MsBackendRawFileReader(),
+ files = c(sample_raw_file))
>
> ## Run the MsBackend spectra variable test suite
> test_suite <- system.file("test_backends", "test_MsBackend",
+ package = "Spectra")
>
> #res <- test_file(paste0(test_suite, "/test_spectra_variables.R"),
> # reporter = check_reporter(), stop_on_failure = TRUE)
>
>
> ## Run the whole suite.
> res <- test_dir(test_suite, stop_on_failure = TRUE)
✔ | F W S OK | Context
⠏ | 0 | spectra_subsetting
⠋ | 1 | spectra_subsetting
⠏ | 10 | spectra_subsetting
⠙ | 22 | spectra_subsetting
⠴ | 36 | spectra_subsetting
⠇ | 49 | spectra_subsetting
⠙ | 62 | spectra_subsetting
⠴ | 76 | spectra_subsetting
⠇ | 89 | spectra_subsetting
⠋ | 101 | spectra_subsetting
⠼ | 115 | spectra_subsetting
⠏ | 130 | spectra_subsetting
⠙ | 142 | spectra_subsetting
⠴ | 156 | spectra_subsetting
⠇ | 169 | spectra_subsetting
⠋ | 181 | spectra_subsetting
⠸ | 194 | spectra_subsetting
⠧ | 208 | spectra_subsetting
⠏ | 220 | spectra_subsetting
⠼ | 235 | spectra_subsetting
⠧ | 248 | spectra_subsetting
⠇ | 259 | spectra_subsetting
⠧ | 268 | spectra_subsetting
⠧ | 278 | spectra_subsetting
⠇ | 289 | spectra_subsetting
⠏ | 300 | spectra_subsetting
⠏ | 310 | spectra_subsetting
⠏ | 320 | spectra_subsetting
⠸ | 334 | spectra_subsetting
⠹ | 343 | spectra_subsetting
⠼ | 355 | spectra_subsetting
⠧ | 368 | spectra_subsetting
⠹ | 383 | spectra_subsetting
⠼ | 395 | spectra_subsetting
⠇ | 409 | spectra_subsetting
⠸ | 424 | spectra_subsetting
⠴ | 436 | spectra_subsetting
⠧ | 448 | spectra_subsetting
⠹ | 463 | spectra_subsetting
⠼ | 475 | spectra_subsetting
⠦ | 487 | spectra_subsetting
⠙ | 502 | spectra_subsetting
⠼ | 515 | spectra_subsetting
⠴ | 526 | spectra_subsetting
⠇ | 539 | spectra_subsetting
⠹ | 553 | spectra_subsetting
⠧ | 568 | spectra_subsetting
⠏ | 580 | spectra_subsetting
⠙ | 592 | spectra_subsetting
⠦ | 607 | spectra_subsetting
⠦ | 617 | spectra_subsetting
⠋ | 631 | spectra_subsetting
⠼ | 645 | spectra_subsetting
⠇ | 659 | spectra_subsetting
⠋ | 671 | spectra_subsetting
⠼ | 685 | spectra_subsetting
⠏ | 700 | spectra_subsetting
⠙ | 712 | spectra_subsetting
⠼ | 725 | spectra_subsetting
⠏ | 740 | spectra_subsetting
⠸ | 754 | spectra_subsetting
⠴ | 766 | spectra_subsetting
⠋ | 781 | spectra_subsetting
⠴ | 796 | spectra_subsetting
⠧ | 808 | spectra_subsetting
⠋ | 821 | spectra_subsetting
⠼ | 835 | spectra_subsetting
⠧ | 848 | spectra_subsetting
⠇ | 859 | spectra_subsetting
⠧ | 868 | spectra_subsetting
⠋ | 881 | spectra_subsetting
⠙ | 892 | spectra_subsetting
⠼ | 905 | spectra_subsetting
⠇ | 919 | spectra_subsetting
⠸ | 934 | spectra_subsetting
⠴ | 946 | spectra_subsetting
⠋ | 961 | spectra_subsetting
⠹ | 973 | spectra_subsetting
⠼ | 985 | spectra_subsetting
⠧ | 998 | spectra_subsetting
⠹ | 1013 | spectra_subsetting
⠧ | 1028 | spectra_subsetting
⠇ | 1039 | spectra_subsetting
⠸ | 1054 | spectra_subsetting
⠇ | 1069 | spectra_subsetting
⠋ | 1081 | spectra_subsetting
⠏ | 1090 | spectra_subsetting
⠼ | 1105 | spectra_subsetting
⠏ | 1120 | spectra_subsetting
⠙ | 1132 | spectra_subsetting
⠦ | 1147 | spectra_subsetting
⠙ | 1162 | spectra_subsetting
⠸ | 1174 | spectra_subsetting
⠇ | 1189 | spectra_subsetting
⠸ | 1204 | spectra_subsetting
⠹ | 1213 | spectra_subsetting
⠹ | 1223 | spectra_subsetting
⠧ | 1238 | spectra_subsetting
⠙ | 1252 | spectra_subsetting
⠸ | 1264 | spectra_subsetting
⠇ | 1279 | spectra_subsetting
⠸ | 1294 | spectra_subsetting
⠹ | 1303 | spectra_subsetting
⠧ | 1318 | spectra_subsetting
⠹ | 1333 | spectra_subsetting
⠴ | 1346 | spectra_subsetting
⠏ | 1360 | spectra_subsetting
⠧ | 1378 | spectra_subsetting
⠏ | 1390 | spectra_subsetting
⠼ | 1405 | spectra_subsetting
⠏ | 1420 | spectra_subsetting
⠹ | 1433 | spectra_subsetting
⠦ | 1447 | spectra_subsetting
⠙ | 1462 | spectra_subsetting
⠼ | 1475 | spectra_subsetting
⠏ | 1490 | spectra_subsetting
⠦ | 1507 | spectra_subsetting
⠙ | 1522 | spectra_subsetting
⠦ | 1537 | spectra_subsetting
⠇ | 1549 | spectra_subsetting
⠋ | 1561 | spectra_subsetting
⠴ | 1576 | spectra_subsetting
⠋ | 1591 | spectra_subsetting
⠦ | 1607 | spectra_subsetting
⠋ | 1621 | spectra_subsetting
⠇ | 1639 | spectra_subsetting
⠙ | 1652 | spectra_subsetting
⠦ | 1667 | spectra_subsetting
⠸ | 1684 | spectra_subsetting
⠼ | 1695 | spectra_subsetting
⠇ | 1709 | spectra_subsetting
⠙ | 1722 | spectra_subsetting
⠸ | 1724 | spectra_subsetting
⠴ | 1726 | spectra_subsetting
⠧ | 1728 | spectra_subsetting
⠏ | 1730 | spectra_subsetting
⠹ | 1733 | spectra_subsetting
⠼ | 1735 | spectra_subsetting
⠦ | 1737 | spectra_subsetting
⠇ | 1739 | spectra_subsetting
⠋ | 1741 | spectra_subsetting
⠹ | 1743 | spectra_subsetting
⠼ | 1745 | spectra_subsetting
⠦ | 1747 | spectra_subsetting
⠇ | 1749 | spectra_subsetting
⠋ | 1751 | spectra_subsetting
⠹ | 1753 | spectra_subsetting
⠼ | 1755 | spectra_subsetting
⠦ | 1757 | spectra_subsetting
⠇ | 1759 | spectra_subsetting
⠋ | 1761 | spectra_subsetting
⠹ | 1763 | spectra_subsetting
⠼ | 1765 | spectra_subsetting
⠦ | 1767 | spectra_subsetting
⠇ | 1769 | spectra_subsetting
⠋ | 1771 | spectra_subsetting
⠹ | 1773 | spectra_subsetting
⠼ | 1775 | spectra_subsetting
⠦ | 1777 | spectra_subsetting
⠇ | 1779 | spectra_subsetting
⠋ | 1781 | spectra_subsetting
⠹ | 1783 | spectra_subsetting
⠼ | 1785 | spectra_subsetting
⠦ | 1787 | spectra_subsetting
⠇ | 1789 | spectra_subsetting
⠋ | 1791 | spectra_subsetting
⠹ | 1793 | spectra_subsetting
⠼ | 1795 | spectra_subsetting
⠦ | 1797 | spectra_subsetting
⠇ | 1799 | spectra_subsetting
⠋ | 1801 | spectra_subsetting
⠹ | 1803 | spectra_subsetting
⠼ | 1805 | spectra_subsetting
⠦ | 1807 | spectra_subsetting
⠇ | 1809 | spectra_subsetting
⠋ | 1811 | spectra_subsetting
⠹ | 1813 | spectra_subsetting
⠼ | 1815 | spectra_subsetting
⠦ | 1817 | spectra_subsetting
⠇ | 1819 | spectra_subsetting
⠋ | 1821 | spectra_subsetting
⠹ | 1823 | spectra_subsetting
⠼ | 1825 | spectra_subsetting
⠦ | 1827 | spectra_subsetting
⠇ | 1829 | spectra_subsetting
⠋ | 1831 | spectra_subsetting
⠹ | 1833 | spectra_subsetting
⠼ | 1835 | spectra_subsetting
⠦ | 1837 | spectra_subsetting
⠇ | 1839 | spectra_subsetting
⠋ | 1841 | spectra_subsetting
⠹ | 1843 | spectra_subsetting
⠼ | 1845 | spectra_subsetting
⠦ | 1847 | spectra_subsetting
⠇ | 1849 | spectra_subsetting
⠋ | 1851 | spectra_subsetting
⠹ | 1853 | spectra_subsetting
⠼ | 1855 | spectra_subsetting
⠦ | 1857 | spectra_subsetting
⠇ | 1859 | spectra_subsetting
⠋ | 1861 | spectra_subsetting
⠹ | 1863 | spectra_subsetting
⠼ | 1865 | spectra_subsetting
⠦ | 1867 | spectra_subsetting
⠇ | 1869 | spectra_subsetting
⠋ | 1871 | spectra_subsetting
⠹ | 1873 | spectra_subsetting
⠼ | 1875 | spectra_subsetting
⠦ | 1877 | spectra_subsetting
⠇ | 1879 | spectra_subsetting
⠋ | 1881 | spectra_subsetting
⠹ | 1883 | spectra_subsetting
⠼ | 1885 | spectra_subsetting
⠦ | 1887 | spectra_subsetting
⠇ | 1889 | spectra_subsetting
⠋ | 1891 | spectra_subsetting
⠹ | 1893 | spectra_subsetting
⠼ | 1895 | spectra_subsetting
⠦ | 1897 | spectra_subsetting
⠇ | 1899 | spectra_subsetting
⠋ | 1901 | spectra_subsetting
⠹ | 1903 | spectra_subsetting
⠼ | 1905 | spectra_subsetting
⠦ | 1907 | spectra_subsetting
⠇ | 1909 | spectra_subsetting
⠋ | 1911 | spectra_subsetting
⠹ | 1913 | spectra_subsetting
⠼ | 1915 | spectra_subsetting
⠦ | 1917 | spectra_subsetting
⠇ | 1919 | spectra_subsetting
⠋ | 1921 | spectra_subsetting
⠹ | 1923 | spectra_subsetting
⠼ | 1925 | spectra_subsetting
⠦ | 1927 | spectra_subsetting
⠇ | 1929 | spectra_subsetting
⠋ | 1931 | spectra_subsetting
⠹ | 1933 | spectra_subsetting
⠼ | 1935 | spectra_subsetting
⠦ | 1937 | spectra_subsetting
⠇ | 1939 | spectra_subsetting
⠋ | 1941 | spectra_subsetting
⠹ | 1943 | spectra_subsetting
⠼ | 1945 | spectra_subsetting
⠦ | 1947 | spectra_subsetting
⠇ | 1949 | spectra_subsetting
⠋ | 1951 | spectra_subsetting
⠹ | 1953 | spectra_subsetting
⠼ | 1955 | spectra_subsetting
⠦ | 1957 | spectra_subsetting
⠇ | 1959 | spectra_subsetting
⠋ | 1961 | spectra_subsetting
⠹ | 1963 | spectra_subsetting
⠼ | 1965 | spectra_subsetting
⠦ | 1967 | spectra_subsetting
⠇ | 1969 | spectra_subsetting
⠋ | 1971 | spectra_subsetting
⠹ | 1973 | spectra_subsetting
⠼ | 1975 | spectra_subsetting
⠦ | 1977 | spectra_subsetting
⠇ | 1979 | spectra_subsetting
⠋ | 1981 | spectra_subsetting
⠹ | 1983 | spectra_subsetting
⠼ | 1985 | spectra_subsetting
⠦ | 1987 | spectra_subsetting
⠇ | 1989 | spectra_subsetting
⠋ | 1991 | spectra_subsetting
⠹ | 1993 | spectra_subsetting
⠼ | 1995 | spectra_subsetting
⠦ | 1997 | spectra_subsetting
⠇ | 1999 | spectra_subsetting
⠋ | 2001 | spectra_subsetting
⠹ | 2003 | spectra_subsetting
⠼ | 2005 | spectra_subsetting
⠦ | 2007 | spectra_subsetting
⠇ | 2009 | spectra_subsetting
⠋ | 2011 | spectra_subsetting
⠹ | 2013 | spectra_subsetting
⠼ | 2015 | spectra_subsetting
⠦ | 2017 | spectra_subsetting
⠏ | 2020 | spectra_subsetting
⠙ | 2022 | spectra_subsetting
⠸ | 2024 | spectra_subsetting
⠴ | 2026 | spectra_subsetting
⠦ | 2027 | spectra_subsetting
⠇ | 2029 | spectra_subsetting
⠋ | 2031 | spectra_subsetting
⠹ | 2033 | spectra_subsetting
⠼ | 2035 | spectra_subsetting
⠦ | 2037 | spectra_subsetting
⠇ | 2039 | spectra_subsetting
⠋ | 2041 | spectra_subsetting
⠹ | 2043 | spectra_subsetting
⠼ | 2045 | spectra_subsetting
⠦ | 2047 | spectra_subsetting
⠇ | 2049 | spectra_subsetting
⠋ | 2051 | spectra_subsetting
⠹ | 2053 | spectra_subsetting
⠼ | 2055 | spectra_subsetting
⠦ | 2057 | spectra_subsetting
⠇ | 2059 | spectra_subsetting
⠋ | 2061 | spectra_subsetting
⠹ | 2063 | spectra_subsetting
⠼ | 2065 | spectra_subsetting
⠦ | 2067 | spectra_subsetting
⠇ | 2069 | spectra_subsetting
⠋ | 2071 | spectra_subsetting
⠹ | 2073 | spectra_subsetting
⠼ | 2075 | spectra_subsetting
⠦ | 2077 | spectra_subsetting
⠇ | 2079 | spectra_subsetting
⠋ | 2081 | spectra_subsetting
⠸ | 2084 | spectra_subsetting
⠴ | 2086 | spectra_subsetting
⠧ | 2088 | spectra_subsetting
⠏ | 2090 | spectra_subsetting
⠙ | 2092 | spectra_subsetting
⠸ | 2094 | spectra_subsetting
⠴ | 2096 | spectra_subsetting
⠧ | 2098 | spectra_subsetting
⠏ | 2100 | spectra_subsetting
⠙ | 2102 | spectra_subsetting
⠸ | 2104 | spectra_subsetting
⠴ | 2106 | spectra_subsetting
⠧ | 2108 | spectra_subsetting
⠏ | 2110 | spectra_subsetting
⠙ | 2112 | spectra_subsetting
⠸ | 2114 | spectra_subsetting
⠴ | 2116 | spectra_subsetting
⠧ | 2118 | spectra_subsetting
⠏ | 2120 | spectra_subsetting
⠙ | 2122 | spectra_subsetting
⠸ | 2124 | spectra_subsetting
⠴ | 2126 | spectra_subsetting
⠧ | 2128 | spectra_subsetting
⠏ | 2130 | spectra_subsetting
⠙ | 2132 | spectra_subsetting
⠸ | 2134 | spectra_subsetting
⠴ | 2136 | spectra_subsetting
⠧ | 2138 | spectra_subsetting
⠏ | 2140 | spectra_subsetting
⠙ | 2142 | spectra_subsetting
⠸ | 2144 | spectra_subsetting
⠴ | 2146 | spectra_subsetting
⠧ | 2148 | spectra_subsetting
⠏ | 2150 | spectra_subsetting
⠙ | 2152 | spectra_subsetting
⠸ | 2154 | spectra_subsetting
⠴ | 2156 | spectra_subsetting
⠧ | 2158 | spectra_subsetting
⠏ | 2160 | spectra_subsetting
⠙ | 2162 | spectra_subsetting
⠸ | 2164 | spectra_subsetting
⠴ | 2166 | spectra_subsetting
⠧ | 2168 | spectra_subsetting
⠏ | 2170 | spectra_subsetting
⠙ | 2172 | spectra_subsetting
⠸ | 2174 | spectra_subsetting
⠴ | 2176 | spectra_subsetting
⠧ | 2178 | spectra_subsetting
⠏ | 2180 | spectra_subsetting
⠙ | 2182 | spectra_subsetting
⠸ | 2184 | spectra_subsetting
⠴ | 2186 | spectra_subsetting
⠧ | 2188 | spectra_subsetting
⠏ | 2190 | spectra_subsetting
⠹ | 2193 | spectra_subsetting
⠼ | 2195 | spectra_subsetting
⠦ | 2197 | spectra_subsetting
⠇ | 2199 | spectra_subsetting
⠋ | 2201 | spectra_subsetting
⠹ | 2203 | spectra_subsetting
⠼ | 2205 | spectra_subsetting
⠦ | 2207 | spectra_subsetting
⠏ | 2210 | spectra_subsetting
⠙ | 2212 | spectra_subsetting
⠸ | 2214 | spectra_subsetting
⠴ | 2216 | spectra_subsetting
⠧ | 2218 | spectra_subsetting
⠏ | 2220 | spectra_subsetting
⠙ | 2222 | spectra_subsetting
⠸ | 2224 | spectra_subsetting
⠴ | 2226 | spectra_subsetting
⠧ | 2228 | spectra_subsetting
⠏ | 2230 | spectra_subsetting
⠙ | 2232 | spectra_subsetting
⠸ | 2234 | spectra_subsetting
⠴ | 2236 | spectra_subsetting
⠧ | 2238 | spectra_subsetting
⠏ | 2240 | spectra_subsetting
⠙ | 2242 | spectra_subsetting
⠸ | 2244 | spectra_subsetting
⠴ | 2246 | spectra_subsetting
⠧ | 2248 | spectra_subsetting
⠏ | 2250 | spectra_subsetting
⠙ | 2252 | spectra_subsetting
⠸ | 2254 | spectra_subsetting
⠴ | 2256 | spectra_subsetting
⠧ | 2258 | spectra_subsetting
⠏ | 2260 | spectra_subsetting
⠙ | 2262 | spectra_subsetting
⠸ | 2264 | spectra_subsetting
⠴ | 2266 | spectra_subsetting
⠧ | 2268 | spectra_subsetting
⠏ | 2270 | spectra_subsetting
⠙ | 2272 | spectra_subsetting
⠸ | 2274 | spectra_subsetting
⠴ | 2276 | spectra_subsetting
⠧ | 2278 | spectra_subsetting
⠏ | 2280 | spectra_subsetting
⠙ | 2282 | spectra_subsetting
⠸ | 2284 | spectra_subsetting
⠴ | 2286 | spectra_subsetting
⠧ | 2288 | spectra_subsetting
⠏ | 2290 | spectra_subsetting
⠙ | 2292 | spectra_subsetting
⠸ | 2294 | spectra_subsetting
⠴ | 2296 | spectra_subsetting
⠏ | 2300 | spectra_subsetting
⠴ | 2306 | spectra_subsetting
⠹ | 2313 | spectra_subsetting
✔ | 2313 | spectra_subsetting [50.9s]
⠏ | 0 | spectra_variables
⠙ | 12 | spectra_variables
⠸ | 14 | spectra_variables
⠴ | 16 | spectra_variables
⠏ | 30 | spectra_variables
⠹ | 43 | spectra_variables
⠸ | 54 | spectra_variables
✔ | 1 62 | spectra_variables [12.4s]
══ Results ═════════════════════════════════════════════════════════════════════
Duration: 63.3 s
── Skipped tests (1) ───────────────────────────────────────────────────────────
• empty test (1): 'test_spectra_variables.R:262:1'
[ FAIL 0 | WARN 0 | SKIP 1 | PASS 2375 ]
>
> proc.time()
user system elapsed
60.04 2.32 117.75
MsBackendRawFileReader.Rcheck/MsBackendRawFileReader-Ex.timings
| name | user | system | elapsed | |
| MsBackendRawFileReader-class | 0.75 | 0.05 | 10.11 | |
| MsBackendRawFileReader | 0.86 | 0.02 | 23.52 | |
| hidden_aliases | 0.27 | 0.01 | 9.28 | |
| ioBenchmark | 8.58 | 2.36 | 77.88 | |