| Back to Multiple platform build/check report for BioC 3.17: simplified long |
|
This page was generated on 2023-10-16 11:37:16 -0400 (Mon, 16 Oct 2023).
| Hostname | OS | Arch (*) | R version | Installed pkgs |
|---|---|---|---|---|
| nebbiolo1 | Linux (Ubuntu 22.04.2 LTS) | x86_64 | 4.3.1 (2023-06-16) -- "Beagle Scouts" | 4626 |
| palomino3 | Windows Server 2022 Datacenter | x64 | 4.3.1 (2023-06-16 ucrt) -- "Beagle Scouts" | 4379 |
| merida1 | macOS 12.6.4 Monterey | x86_64 | 4.3.1 (2023-06-16) -- "Beagle Scouts" | 4395 |
| Click on any hostname to see more info about the system (e.g. compilers) (*) as reported by 'uname -p', except on Windows and Mac OS X | ||||
| Package 1268/2230 | Hostname | OS / Arch | INSTALL | BUILD | CHECK | BUILD BIN | ||||||||
| ModCon 1.8.0 (landing page) Johannes Ptok
| nebbiolo1 | Linux (Ubuntu 22.04.2 LTS) / x86_64 | OK | OK | OK | |||||||||
| palomino3 | Windows Server 2022 Datacenter / x64 | OK | OK | OK | OK | |||||||||
| merida1 | macOS 12.6.4 Monterey / x86_64 | OK | OK | OK | OK | |||||||||
| kjohnson2 | macOS 12.6.1 Monterey / arm64 | see weekly results here | ||||||||||||
|
To the developers/maintainers of the ModCon package: - Allow up to 24 hours (and sometimes 48 hours) for your latest push to git@git.bioconductor.org:packages/ModCon.git to reflect on this report. See Troubleshooting Build Report for more information. - Use the following Renviron settings to reproduce errors and warnings. - If 'R CMD check' started to fail recently on the Linux builder(s) over a missing dependency, add the missing dependency to 'Suggests:' in your DESCRIPTION file. See Renviron.bioc for more information. |
| Package: ModCon |
| Version: 1.8.0 |
| Command: /Library/Frameworks/R.framework/Resources/bin/R CMD check --install=check:ModCon.install-out.txt --library=/Library/Frameworks/R.framework/Resources/library --no-vignettes --timings ModCon_1.8.0.tar.gz |
| StartedAt: 2023-10-16 04:06:55 -0400 (Mon, 16 Oct 2023) |
| EndedAt: 2023-10-16 04:18:33 -0400 (Mon, 16 Oct 2023) |
| EllapsedTime: 698.0 seconds |
| RetCode: 0 |
| Status: OK |
| CheckDir: ModCon.Rcheck |
| Warnings: 0 |
##############################################################################
##############################################################################
###
### Running command:
###
### /Library/Frameworks/R.framework/Resources/bin/R CMD check --install=check:ModCon.install-out.txt --library=/Library/Frameworks/R.framework/Resources/library --no-vignettes --timings ModCon_1.8.0.tar.gz
###
##############################################################################
##############################################################################
* using log directory ‘/Users/biocbuild/bbs-3.17-bioc/meat/ModCon.Rcheck’
* using R version 4.3.1 (2023-06-16)
* using platform: x86_64-apple-darwin20 (64-bit)
* R was compiled by
Apple clang version 14.0.3 (clang-1403.0.22.14.1)
GNU Fortran (GCC) 12.2.0
* running under: macOS Monterey 12.6.4
* using session charset: UTF-8
* using option ‘--no-vignettes’
* checking for file ‘ModCon/DESCRIPTION’ ... OK
* checking extension type ... Package
* this is package ‘ModCon’ version ‘1.8.0’
* package encoding: UTF-8
* checking package namespace information ... OK
* checking package dependencies ... OK
* checking if this is a source package ... OK
* checking if there is a namespace ... OK
* checking for hidden files and directories ... OK
* checking for portable file names ... OK
* checking for sufficient/correct file permissions ... OK
* checking whether package ‘ModCon’ can be installed ... OK
* checking installed package size ... NOTE
installed size is 6.5Mb
sub-directories of 1Mb or more:
R 1.2Mb
data 1.1Mb
extdata 4.0Mb
* checking package directory ... OK
* checking ‘build’ directory ... OK
* checking DESCRIPTION meta-information ... OK
* checking top-level files ... OK
* checking for left-over files ... OK
* checking index information ... OK
* checking package subdirectories ... OK
* checking R files for non-ASCII characters ... OK
* checking R files for syntax errors ... OK
* checking whether the package can be loaded ... OK
* checking whether the package can be loaded with stated dependencies ... OK
* checking whether the package can be unloaded cleanly ... OK
* checking whether the namespace can be loaded with stated dependencies ... OK
* checking whether the namespace can be unloaded cleanly ... OK
* checking dependencies in R code ... OK
* checking S3 generic/method consistency ... OK
* checking replacement functions ... OK
* checking foreign function calls ... OK
* checking R code for possible problems ... OK
* checking Rd files ... OK
* checking Rd metadata ... OK
* checking Rd cross-references ... OK
* checking for missing documentation entries ... OK
* checking for code/documentation mismatches ... OK
* checking Rd \usage sections ... OK
* checking Rd contents ... OK
* checking for unstated dependencies in examples ... OK
* checking contents of ‘data’ directory ... OK
* checking data for non-ASCII characters ... OK
* checking LazyData ... OK
* checking data for ASCII and uncompressed saves ... OK
* checking R/sysdata.rda ... OK
* checking files in ‘vignettes’ ... OK
* checking examples ... OK
Examples with CPU (user + system) or elapsed time > 5s
user system elapsed
slidingWindowHZEImanipulation 52.873 1.032 70.060
ModCon 42.345 0.997 83.405
changeSequenceHZEI 15.157 0.295 19.697
degradeSAs 5.381 0.214 7.363
* checking for unstated dependencies in ‘tests’ ... OK
* checking tests ...
Running ‘testthat.R’
OK
* checking for unstated dependencies in vignettes ... OK
* checking package vignettes in ‘inst/doc’ ... OK
* checking running R code from vignettes ... SKIPPED
* checking re-building of vignette outputs ... SKIPPED
* checking PDF version of manual ... OK
* DONE
Status: 1 NOTE
See
‘/Users/biocbuild/bbs-3.17-bioc/meat/ModCon.Rcheck/00check.log’
for details.
ModCon.Rcheck/00install.out
############################################################################## ############################################################################## ### ### Running command: ### ### /Library/Frameworks/R.framework/Resources/bin/R CMD INSTALL ModCon ### ############################################################################## ############################################################################## * installing to library ‘/Library/Frameworks/R.framework/Versions/4.3-x86_64/Resources/library’ * installing *source* package ‘ModCon’ ... ** using staged installation ** R ** data *** moving datasets to lazyload DB ** inst ** byte-compile and prepare package for lazy loading ** help *** installing help indices ** building package indices ** installing vignettes ** testing if installed package can be loaded from temporary location ** testing if installed package can be loaded from final location ** testing if installed package keeps a record of temporary installation path * DONE (ModCon)
ModCon.Rcheck/tests/testthat.Rout
R version 4.3.1 (2023-06-16) -- "Beagle Scouts"
Copyright (C) 2023 The R Foundation for Statistical Computing
Platform: x86_64-apple-darwin20 (64-bit)
R is free software and comes with ABSOLUTELY NO WARRANTY.
You are welcome to redistribute it under certain conditions.
Type 'license()' or 'licence()' for distribution details.
R is a collaborative project with many contributors.
Type 'contributors()' for more information and
'citation()' on how to cite R or R packages in publications.
Type 'demo()' for some demos, 'help()' for on-line help, or
'help.start()' for an HTML browser interface to help.
Type 'q()' to quit R.
> library(testthat)
> library(ModCon)
Loading required package: data.table
Loading required package: parallel
>
> test_check("ModCon")
[ FAIL 0 | WARN 0 | SKIP 0 | PASS 27 ]
>
> proc.time()
user system elapsed
243.442 5.674 431.268
ModCon.Rcheck/ModCon-Ex.timings
| name | user | system | elapsed | |
| Codons | 0.007 | 0.008 | 0.018 | |
| ModCon | 42.345 | 0.997 | 83.405 | |
| calculateHZEIint | 0.002 | 0.000 | 0.002 | |
| calculateMaxEntScanScore | 0.352 | 0.058 | 0.431 | |
| cds | 0.001 | 0.000 | 0.001 | |
| changeSequenceHZEI | 15.157 | 0.295 | 19.697 | |
| createCodonMatrix | 0.000 | 0.001 | 0.001 | |
| createFilialSequencePopulation | 0.001 | 0.001 | 0.001 | |
| decreaseGTsiteStrength | 0.885 | 0.048 | 1.162 | |
| degradeSAs | 5.381 | 0.214 | 7.363 | |
| degradeSDs | 2.926 | 0.146 | 4.004 | |
| generateRandomCodonsPerAA | 0.001 | 0.000 | 0.004 | |
| getOverlappingVectorsFromVector | 0.000 | 0.001 | 0.001 | |
| hbg | 1.297 | 1.699 | 3.978 | |
| hex | 0.211 | 0.419 | 0.889 | |
| increaseGTsiteStrength | 0.710 | 0.048 | 0.962 | |
| mutatePopulation | 0.002 | 0.001 | 0.002 | |
| recombineTwoSequences | 0.000 | 0.001 | 0.000 | |
| selectBestAndMean | 0.013 | 0.008 | 0.893 | |
| selectMatingIndividuals | 0.014 | 0.009 | 0.853 | |
| slidingWindowHZEImanipulation | 52.873 | 1.032 | 70.060 | |
| startModConApp | 0.000 | 0.000 | 0.001 | |