| Back to Multiple platform build/check report for BioC 3.17: simplified long |
|
This page was generated on 2023-10-16 11:35:31 -0400 (Mon, 16 Oct 2023).
| Hostname | OS | Arch (*) | R version | Installed pkgs |
|---|---|---|---|---|
| nebbiolo1 | Linux (Ubuntu 22.04.2 LTS) | x86_64 | 4.3.1 (2023-06-16) -- "Beagle Scouts" | 4626 |
| palomino3 | Windows Server 2022 Datacenter | x64 | 4.3.1 (2023-06-16 ucrt) -- "Beagle Scouts" | 4379 |
| merida1 | macOS 12.6.4 Monterey | x86_64 | 4.3.1 (2023-06-16) -- "Beagle Scouts" | 4395 |
| Click on any hostname to see more info about the system (e.g. compilers) (*) as reported by 'uname -p', except on Windows and Mac OS X | ||||
| Package 1224/2230 | Hostname | OS / Arch | INSTALL | BUILD | CHECK | BUILD BIN | ||||||||
| MicrobiotaProcess 1.12.4 (landing page) Shuangbin Xu
| nebbiolo1 | Linux (Ubuntu 22.04.2 LTS) / x86_64 | OK | OK | OK | |||||||||
| palomino3 | Windows Server 2022 Datacenter / x64 | OK | OK | OK | OK | |||||||||
| merida1 | macOS 12.6.4 Monterey / x86_64 | OK | OK | OK | OK | |||||||||
| kjohnson2 | macOS 12.6.1 Monterey / arm64 | see weekly results here | ||||||||||||
|
To the developers/maintainers of the MicrobiotaProcess package: - Allow up to 24 hours (and sometimes 48 hours) for your latest push to git@git.bioconductor.org:packages/MicrobiotaProcess.git to reflect on this report. See Troubleshooting Build Report for more information. - Use the following Renviron settings to reproduce errors and warnings. - If 'R CMD check' started to fail recently on the Linux builder(s) over a missing dependency, add the missing dependency to 'Suggests:' in your DESCRIPTION file. See Renviron.bioc for more information. |
| Package: MicrobiotaProcess |
| Version: 1.12.4 |
| Command: /home/biocbuild/bbs-3.17-bioc/R/bin/R CMD check --install=check:MicrobiotaProcess.install-out.txt --library=/home/biocbuild/bbs-3.17-bioc/R/site-library --timings MicrobiotaProcess_1.12.4.tar.gz |
| StartedAt: 2023-10-15 22:48:44 -0400 (Sun, 15 Oct 2023) |
| EndedAt: 2023-10-15 22:55:31 -0400 (Sun, 15 Oct 2023) |
| EllapsedTime: 406.6 seconds |
| RetCode: 0 |
| Status: OK |
| CheckDir: MicrobiotaProcess.Rcheck |
| Warnings: 0 |
##############################################################################
##############################################################################
###
### Running command:
###
### /home/biocbuild/bbs-3.17-bioc/R/bin/R CMD check --install=check:MicrobiotaProcess.install-out.txt --library=/home/biocbuild/bbs-3.17-bioc/R/site-library --timings MicrobiotaProcess_1.12.4.tar.gz
###
##############################################################################
##############################################################################
* using log directory ‘/home/biocbuild/bbs-3.17-bioc/meat/MicrobiotaProcess.Rcheck’
* using R version 4.3.1 (2023-06-16)
* using platform: x86_64-pc-linux-gnu (64-bit)
* R was compiled by
gcc (Ubuntu 11.3.0-1ubuntu1~22.04.1) 11.3.0
GNU Fortran (Ubuntu 11.3.0-1ubuntu1~22.04.1) 11.3.0
* running under: Ubuntu 22.04.3 LTS
* using session charset: UTF-8
* checking for file ‘MicrobiotaProcess/DESCRIPTION’ ... OK
* checking extension type ... Package
* this is package ‘MicrobiotaProcess’ version ‘1.12.4’
* package encoding: UTF-8
* checking package namespace information ... OK
* checking package dependencies ... OK
* checking if this is a source package ... OK
* checking if there is a namespace ... OK
* checking for hidden files and directories ... OK
* checking for portable file names ... OK
* checking for sufficient/correct file permissions ... OK
* checking whether package ‘MicrobiotaProcess’ can be installed ... OK
* checking installed package size ... OK
* checking package directory ... OK
* checking ‘build’ directory ... OK
* checking DESCRIPTION meta-information ... OK
* checking top-level files ... OK
* checking for left-over files ... OK
* checking index information ... OK
* checking package subdirectories ... OK
* checking R files for non-ASCII characters ... OK
* checking R files for syntax errors ... OK
* checking whether the package can be loaded ... OK
* checking whether the package can be loaded with stated dependencies ... OK
* checking whether the package can be unloaded cleanly ... OK
* checking whether the namespace can be loaded with stated dependencies ... OK
* checking whether the namespace can be unloaded cleanly ... OK
* checking loading without being on the library search path ... OK
* checking startup messages can be suppressed ... OK
* checking dependencies in R code ... OK
* checking S3 generic/method consistency ... OK
* checking replacement functions ... OK
* checking foreign function calls ... OK
* checking R code for possible problems ... OK
* checking Rd files ... OK
* checking Rd metadata ... OK
* checking Rd cross-references ... OK
* checking for missing documentation entries ... OK
* checking for code/documentation mismatches ... OK
* checking Rd \usage sections ... OK
* checking Rd contents ... OK
* checking for unstated dependencies in examples ... OK
* checking contents of ‘data’ directory ... OK
* checking data for non-ASCII characters ... OK
* checking data for ASCII and uncompressed saves ... OK
* checking files in ‘vignettes’ ... OK
* checking examples ... OK
Examples with CPU (user + system) or elapsed time > 5s
user system elapsed
mp_cal_abundance-methods 8.419 0.169 8.308
mp_plot_diff_boxplot-methods 5.593 0.073 5.495
mp_cal_rarecurve-methods 5.481 0.072 5.553
mp_diff_analysis-methods 4.937 0.071 4.889
* checking for unstated dependencies in ‘tests’ ... OK
* checking tests ...
Running ‘testthat.R’
OK
* checking for unstated dependencies in vignettes ... OK
* checking package vignettes in ‘inst/doc’ ... OK
* checking running R code from vignettes ...
‘MicrobiotaProcess.Rmd’ using ‘UTF-8’... OK
NONE
* checking re-building of vignette outputs ... OK
* checking PDF version of manual ... OK
* DONE
Status: OK
MicrobiotaProcess.Rcheck/00install.out
############################################################################## ############################################################################## ### ### Running command: ### ### /home/biocbuild/bbs-3.17-bioc/R/bin/R CMD INSTALL MicrobiotaProcess ### ############################################################################## ############################################################################## * installing to library ‘/home/biocbuild/bbs-3.17-bioc/R/site-library’ * installing *source* package ‘MicrobiotaProcess’ ... ** using staged installation ** R ** data ** inst ** byte-compile and prepare package for lazy loading in method for ‘taxonomy<-’ with signature ‘x="MPSE",value="taxonomyTable"’: no definition for class “taxonomyTable” Creating a generic function for ‘rownames<-’ from package ‘base’ in package ‘MicrobiotaProcess’ in method for ‘get_alltaxadf’ with signature ‘"phyloseq"’: no definition for class “phyloseq” in method for ‘get_taxadf’ with signature ‘"phyloseq"’: no definition for class “phyloseq” in method for ‘get_alphaindex’ with signature ‘"phyloseq"’: no definition for class “phyloseq” in method for ‘get_NRI_NTI’ with signature ‘"phyloseq"’: no definition for class “phyloseq” in method for ‘get_rarecurve’ with signature ‘"phyloseq"’: no definition for class “phyloseq” in method for ‘get_upset’ with signature ‘"phyloseq"’: no definition for class “phyloseq” in method for ‘get_vennlist’ with signature ‘"phyloseq"’: no definition for class “phyloseq” in method for ‘drop_taxa’ with signature ‘"phyloseq"’: no definition for class “phyloseq” ** help *** installing help indices ** building package indices ** installing vignettes ** testing if installed package can be loaded from temporary location ** testing if installed package can be loaded from final location ** testing if installed package keeps a record of temporary installation path * DONE (MicrobiotaProcess)
MicrobiotaProcess.Rcheck/tests/testthat.Rout
R version 4.3.1 (2023-06-16) -- "Beagle Scouts"
Copyright (C) 2023 The R Foundation for Statistical Computing
Platform: x86_64-pc-linux-gnu (64-bit)
R is free software and comes with ABSOLUTELY NO WARRANTY.
You are welcome to redistribute it under certain conditions.
Type 'license()' or 'licence()' for distribution details.
R is a collaborative project with many contributors.
Type 'contributors()' for more information and
'citation()' on how to cite R or R packages in publications.
Type 'demo()' for some demos, 'help()' for on-line help, or
'help.start()' for an HTML browser interface to help.
Type 'q()' to quit R.
> library("testthat")
> library("MicrobiotaProcess")
MicrobiotaProcess v1.12.4 For help:
https://github.com/YuLab-SMU/MicrobiotaProcess/issues
If you use MicrobiotaProcess in published research, please cite the
paper:
Shuangbin Xu, Li Zhan, Wenli Tang, Qianwen Wang, Zehan Dai, Lang Zhou,
Tingze Feng, Meijun Chen, Tianzhi Wu, Erqiang Hu, Guangchuang Yu.
MicrobiotaProcess: A comprehensive R package for deep mining
microbiome. The Innovation. 2023, 4(2):100388. doi:
10.1016/j.xinn.2023.100388
Export the citation to BibTex by citation('MicrobiotaProcess')
This message can be suppressed by:
suppressPackageStartupMessages(library(MicrobiotaProcess))
Attaching package: 'MicrobiotaProcess'
The following object is masked from 'package:stats':
filter
> test_check("MicrobiotaProcess")
[ FAIL 0 | WARN 9 | SKIP 0 | PASS 13 ]
[ FAIL 0 | WARN 9 | SKIP 0 | PASS 13 ]
>
> proc.time()
user system elapsed
13.086 1.087 14.059
MicrobiotaProcess.Rcheck/MicrobiotaProcess-Ex.timings
| name | user | system | elapsed | |
| ImportDada2 | 1.301 | 0.084 | 1.385 | |
| ImportQiime2 | 3.366 | 0.111 | 3.479 | |
| MPSE | 0.119 | 0.000 | 0.119 | |
| as.treedata | 0 | 0 | 0 | |
| build_tree | 0 | 0 | 0 | |
| convert_to_treedata | 0 | 0 | 0 | |
| data-hmp_aerobiosis_small | 0.008 | 0.003 | 0.011 | |
| data-kostic2012crc | 0.021 | 0.008 | 0.028 | |
| data-test_otu_data | 0.002 | 0.000 | 0.002 | |
| diff_analysis | 0 | 0 | 0 | |
| dr_extract | 0.001 | 0.000 | 0.001 | |
| drop_taxa | 0 | 0 | 0 | |
| generalizedFC | 0.005 | 0.000 | 0.005 | |
| get_alltaxadf | 0 | 0 | 0 | |
| get_alphaindex | 0.000 | 0.000 | 0.001 | |
| get_clust | 0 | 0 | 0 | |
| get_coord | 0.000 | 0.001 | 0.000 | |
| get_count | 0.000 | 0.000 | 0.001 | |
| get_dist | 0 | 0 | 0 | |
| get_mean_median | 0.000 | 0.001 | 0.000 | |
| get_pca | 0 | 0 | 0 | |
| get_pcoa | 0.000 | 0.000 | 0.001 | |
| get_pvalue | 0.078 | 0.002 | 0.081 | |
| get_rarecurve | 0.000 | 0.000 | 0.001 | |
| get_sampledflist | 0 | 0 | 0 | |
| get_taxadf | 0 | 0 | 0 | |
| get_upset | 0.001 | 0.000 | 0.001 | |
| get_varct | 0 | 0 | 0 | |
| get_vennlist | 0 | 0 | 0 | |
| ggbartax | 0.001 | 0.000 | 0.000 | |
| ggbox | 0.001 | 0.000 | 0.001 | |
| ggclust | 0 | 0 | 0 | |
| ggdiffbox | 0.000 | 0.001 | 0.000 | |
| ggdiffclade | 0.000 | 0.001 | 0.000 | |
| ggdifftaxbar | 0.000 | 0.000 | 0.001 | |
| ggeffectsize | 0.000 | 0.000 | 0.001 | |
| ggordpoint | 0 | 0 | 0 | |
| ggrarecurve | 0 | 0 | 0 | |
| mp_adonis-methods | 0.095 | 0.008 | 0.103 | |
| mp_aggregate-methods | 0.000 | 0.001 | 0.000 | |
| mp_aggregate_clade-methods | 0 | 0 | 0 | |
| mp_anosim-methods | 1.054 | 0.014 | 1.069 | |
| mp_balance_clade-methods | 0.001 | 0.000 | 0.001 | |
| mp_cal_abundance-methods | 8.419 | 0.169 | 8.308 | |
| mp_cal_alpha-methods | 1.060 | 0.036 | 1.097 | |
| mp_cal_cca-methods | 0.812 | 0.004 | 0.817 | |
| mp_cal_clust-methods | 0.431 | 0.016 | 0.447 | |
| mp_cal_dist-methods | 2.713 | 0.136 | 2.849 | |
| mp_cal_divergence-methods | 0.000 | 0.000 | 0.001 | |
| mp_cal_nmds-methods | 0.211 | 0.000 | 0.211 | |
| mp_cal_pca-methods | 1.388 | 0.032 | 1.419 | |
| mp_cal_pcoa-methods | 0.509 | 0.012 | 0.521 | |
| mp_cal_pd_metric-methods | 0.001 | 0.000 | 0.001 | |
| mp_cal_rarecurve-methods | 5.481 | 0.072 | 5.553 | |
| mp_cal_rda-methods | 0.658 | 0.008 | 0.666 | |
| mp_cal_upset-methods | 1.014 | 0.004 | 1.009 | |
| mp_cal_venn-methods | 1.571 | 0.152 | 1.715 | |
| mp_decostand-methods | 0.322 | 0.000 | 0.322 | |
| mp_diff_analysis-methods | 4.937 | 0.071 | 4.889 | |
| mp_diff_clade-methods | 0.001 | 0.000 | 0.000 | |
| mp_dmn-methods | 0.001 | 0.000 | 0.000 | |
| mp_dmngroup-methods | 0.000 | 0.000 | 0.001 | |
| mp_envfit-methods | 1.883 | 0.044 | 1.927 | |
| mp_filter_taxa-methods | 0.872 | 0.010 | 0.883 | |
| mp_import_metaphlan | 2.731 | 0.023 | 2.756 | |
| mp_mantel-methods | 0.285 | 0.000 | 0.284 | |
| mp_mrpp-methods | 0.177 | 0.000 | 0.177 | |
| mp_plot_abundance-methods | 0.000 | 0.001 | 0.001 | |
| mp_plot_alpha-methods | 0 | 0 | 0 | |
| mp_plot_diff_boxplot-methods | 5.593 | 0.073 | 5.495 | |
| mp_plot_diff_cladogram | 0.001 | 0.000 | 0.001 | |
| mp_plot_diff_manhattan-methods | 3.124 | 0.024 | 3.030 | |
| mp_plot_dist-methods | 0 | 0 | 0 | |
| mp_plot_ord-methods | 0 | 0 | 0 | |
| mp_plot_rarecurve-methods | 0.001 | 0.000 | 0.000 | |
| mp_plot_upset-methods | 0.001 | 0.000 | 0.001 | |
| mp_plot_venn-methods | 0.001 | 0.000 | 0.001 | |
| mp_rrarefy-methods | 0.369 | 0.004 | 0.373 | |
| mp_select_as_tip-methods | 0.000 | 0.000 | 0.001 | |
| mp_stat_taxa-methods | 1.174 | 0.011 | 1.022 | |
| multi_compare | 0.01 | 0.00 | 0.01 | |
| read_qza | 0.000 | 0.000 | 0.001 | |
| show-methods | 0.001 | 0.000 | 0.001 | |
| split_data | 0.003 | 0.000 | 0.003 | |
| split_str_to_list | 0.001 | 0.000 | 0.001 | |
| theme_taxbar | 0.001 | 0.000 | 0.000 | |