Back to Multiple platform build/check report for BioC 3.17: simplified long |
|
This page was generated on 2023-10-16 11:37:12 -0400 (Mon, 16 Oct 2023).
Hostname | OS | Arch (*) | R version | Installed pkgs |
---|---|---|---|---|
nebbiolo1 | Linux (Ubuntu 22.04.2 LTS) | x86_64 | 4.3.1 (2023-06-16) -- "Beagle Scouts" | 4626 |
palomino3 | Windows Server 2022 Datacenter | x64 | 4.3.1 (2023-06-16 ucrt) -- "Beagle Scouts" | 4379 |
merida1 | macOS 12.6.4 Monterey | x86_64 | 4.3.1 (2023-06-16) -- "Beagle Scouts" | 4395 |
Click on any hostname to see more info about the system (e.g. compilers) (*) as reported by 'uname -p', except on Windows and Mac OS X |
Package 1104/2230 | Hostname | OS / Arch | INSTALL | BUILD | CHECK | BUILD BIN | ||||||||
MAGeCKFlute 2.4.0 (landing page) Wubing Zhang
| nebbiolo1 | Linux (Ubuntu 22.04.2 LTS) / x86_64 | OK | OK | OK | ![]() | ||||||||
palomino3 | Windows Server 2022 Datacenter / x64 | OK | OK | OK | OK | ![]() | ||||||||
merida1 | macOS 12.6.4 Monterey / x86_64 | OK | OK | OK | OK | ![]() | ||||||||
kjohnson2 | macOS 12.6.1 Monterey / arm64 | see weekly results here | ||||||||||||
To the developers/maintainers of the MAGeCKFlute package: - Allow up to 24 hours (and sometimes 48 hours) for your latest push to git@git.bioconductor.org:packages/MAGeCKFlute.git to reflect on this report. See Troubleshooting Build Report for more information. - Use the following Renviron settings to reproduce errors and warnings. - If 'R CMD check' started to fail recently on the Linux builder(s) over a missing dependency, add the missing dependency to 'Suggests:' in your DESCRIPTION file. See Renviron.bioc for more information. |
Package: MAGeCKFlute |
Version: 2.4.0 |
Command: /Library/Frameworks/R.framework/Resources/bin/R CMD check --install=check:MAGeCKFlute.install-out.txt --library=/Library/Frameworks/R.framework/Resources/library --no-vignettes --timings MAGeCKFlute_2.4.0.tar.gz |
StartedAt: 2023-10-16 03:21:31 -0400 (Mon, 16 Oct 2023) |
EndedAt: 2023-10-16 03:32:33 -0400 (Mon, 16 Oct 2023) |
EllapsedTime: 661.6 seconds |
RetCode: 0 |
Status: OK |
CheckDir: MAGeCKFlute.Rcheck |
Warnings: 0 |
############################################################################## ############################################################################## ### ### Running command: ### ### /Library/Frameworks/R.framework/Resources/bin/R CMD check --install=check:MAGeCKFlute.install-out.txt --library=/Library/Frameworks/R.framework/Resources/library --no-vignettes --timings MAGeCKFlute_2.4.0.tar.gz ### ############################################################################## ############################################################################## * using log directory ‘/Users/biocbuild/bbs-3.17-bioc/meat/MAGeCKFlute.Rcheck’ * using R version 4.3.1 (2023-06-16) * using platform: x86_64-apple-darwin20 (64-bit) * R was compiled by Apple clang version 14.0.3 (clang-1403.0.22.14.1) GNU Fortran (GCC) 12.2.0 * running under: macOS Monterey 12.6.4 * using session charset: UTF-8 * using option ‘--no-vignettes’ * checking for file ‘MAGeCKFlute/DESCRIPTION’ ... OK * checking extension type ... Package * this is package ‘MAGeCKFlute’ version ‘2.4.0’ * package encoding: UTF-8 * checking package namespace information ... OK * checking package dependencies ... OK * checking if this is a source package ... OK * checking if there is a namespace ... OK * checking for hidden files and directories ... OK * checking for portable file names ... OK * checking for sufficient/correct file permissions ... OK * checking whether package ‘MAGeCKFlute’ can be installed ... OK * checking installed package size ... NOTE installed size is 20.7Mb sub-directories of 1Mb or more: extdata 20.3Mb * checking package directory ... OK * checking ‘build’ directory ... OK * checking DESCRIPTION meta-information ... OK * checking top-level files ... OK * checking for left-over files ... OK * checking index information ... OK * checking package subdirectories ... OK * checking R files for non-ASCII characters ... OK * checking R files for syntax errors ... OK * checking whether the package can be loaded ... OK * checking whether the package can be loaded with stated dependencies ... OK * checking whether the package can be unloaded cleanly ... OK * checking whether the namespace can be loaded with stated dependencies ... OK * checking whether the namespace can be unloaded cleanly ... OK * checking dependencies in R code ... OK * checking S3 generic/method consistency ... OK * checking replacement functions ... OK * checking foreign function calls ... OK * checking R code for possible problems ... NOTE EnrichedFilter: no visible global function definition for ‘is’ EnrichedGeneView: no visible global function definition for ‘is’ EnrichedView: no visible global function definition for ‘is’ EnrichedView: no visible global function definition for ‘slot’ enrich.HGT: no visible global function definition for ‘new’ Undefined global functions or variables: is new slot Consider adding importFrom("methods", "is", "new", "slot") to your NAMESPACE file (and ensure that your DESCRIPTION Imports field contains 'methods'). * checking Rd files ... OK * checking Rd metadata ... OK * checking Rd cross-references ... OK * checking for missing documentation entries ... OK * checking for code/documentation mismatches ... OK * checking Rd \usage sections ... OK * checking Rd contents ... OK * checking for unstated dependencies in examples ... OK * checking files in ‘vignettes’ ... OK * checking examples ... OK Examples with CPU (user + system) or elapsed time > 5s user system elapsed MAView 22.147 0.486 29.802 enrich.ORT 6.813 0.109 9.141 ScatterView 5.166 0.159 6.854 BatchRemove 5.106 0.126 6.894 enrich.HGT 4.317 0.088 5.810 * checking for unstated dependencies in vignettes ... OK * checking package vignettes in ‘inst/doc’ ... OK * checking running R code from vignettes ... SKIPPED * checking re-building of vignette outputs ... SKIPPED * checking PDF version of manual ... OK * DONE Status: 2 NOTEs See ‘/Users/biocbuild/bbs-3.17-bioc/meat/MAGeCKFlute.Rcheck/00check.log’ for details.
MAGeCKFlute.Rcheck/00install.out
############################################################################## ############################################################################## ### ### Running command: ### ### /Library/Frameworks/R.framework/Resources/bin/R CMD INSTALL MAGeCKFlute ### ############################################################################## ############################################################################## * installing to library ‘/Library/Frameworks/R.framework/Versions/4.3-x86_64/Resources/library’ * installing *source* package ‘MAGeCKFlute’ ... ** using staged installation ** R ** inst ** byte-compile and prepare package for lazy loading ** help *** installing help indices ** building package indices ** installing vignettes ** testing if installed package can be loaded from temporary location ** testing if installed package can be loaded from final location ** testing if installed package keeps a record of temporary installation path * DONE (MAGeCKFlute)
MAGeCKFlute.Rcheck/MAGeCKFlute-Ex.timings
name | user | system | elapsed | |
BarView | 0.381 | 0.008 | 0.492 | |
BatchRemove | 5.106 | 0.126 | 6.894 | |
ConsistencyView | 1.584 | 0.093 | 2.212 | |
CutoffCalling | 0.006 | 0.001 | 0.010 | |
DensityDiffView | 1.817 | 0.039 | 2.420 | |
DensityView | 1.553 | 0.036 | 2.075 | |
EnrichAnalyzer | 0.019 | 0.002 | 0.027 | |
EnrichedFilter | 0.017 | 0.002 | 0.023 | |
EnrichedGeneView | 0.017 | 0.002 | 0.022 | |
EnrichedView | 0.017 | 0.002 | 0.023 | |
FluteMLE | 0.002 | 0.001 | 0.002 | |
FluteRRA | 0.003 | 0.002 | 0.004 | |
HeatmapView | 0.623 | 0.016 | 0.835 | |
IdentBarView | 0.306 | 0.004 | 0.396 | |
IncorporateDepmap | 0.378 | 0.011 | 0.511 | |
MAView | 22.147 | 0.486 | 29.802 | |
MapRatesView | 0.878 | 0.012 | 1.171 | |
NormalizeBeta | 1.279 | 0.020 | 1.649 | |
OmitCommonEssential | 0.000 | 0.000 | 0.001 | |
RankView | 1.201 | 0.065 | 1.591 | |
ReadBeta | 0.571 | 0.010 | 0.747 | |
ReadRRA | 0.379 | 0.011 | 0.493 | |
ReadsgRRA | 0.021 | 0.002 | 0.032 | |
ResembleDepmap | 0.309 | 0.006 | 0.405 | |
ScatterView | 5.166 | 0.159 | 6.854 | |
Selector | 1.096 | 0.020 | 1.539 | |
SquareView | 1.872 | 0.070 | 2.505 | |
TransGeneID | 3.333 | 0.042 | 4.464 | |
ViolinView | 3.110 | 0.076 | 4.312 | |
VolcanoView | 2.264 | 0.091 | 3.142 | |
arrangePathview | 0.599 | 0.014 | 0.823 | |
enrich.GSE | 0.017 | 0.002 | 0.021 | |
enrich.HGT | 4.317 | 0.088 | 5.810 | |
enrich.ORT | 6.813 | 0.109 | 9.141 | |
getCols | 0.012 | 0.001 | 0.019 | |
getGeneAnn | 0.000 | 0.000 | 0.001 | |
getOrg | 0.001 | 0.000 | 0.002 | |
getOrtAnn | 0.001 | 0.001 | 0.001 | |
gsGetter | 0.533 | 0.015 | 0.726 | |
hclustView | 0.731 | 0.027 | 0.999 | |
loadDepmap | 0 | 0 | 0 | |
normalize.loess | 1.393 | 0.034 | 1.893 | |
sgRankView | 0.367 | 0.005 | 0.514 | |
writeGMT | 0.050 | 0.001 | 0.062 | |