Back to Multiple platform build/check report for BioC 3.17: simplified long |
|
This page was generated on 2023-10-16 11:37:11 -0400 (Mon, 16 Oct 2023).
Hostname | OS | Arch (*) | R version | Installed pkgs |
---|---|---|---|---|
nebbiolo1 | Linux (Ubuntu 22.04.2 LTS) | x86_64 | 4.3.1 (2023-06-16) -- "Beagle Scouts" | 4626 |
palomino3 | Windows Server 2022 Datacenter | x64 | 4.3.1 (2023-06-16 ucrt) -- "Beagle Scouts" | 4379 |
merida1 | macOS 12.6.4 Monterey | x86_64 | 4.3.1 (2023-06-16) -- "Beagle Scouts" | 4395 |
Click on any hostname to see more info about the system (e.g. compilers) (*) as reported by 'uname -p', except on Windows and Mac OS X |
Package 1089/2230 | Hostname | OS / Arch | INSTALL | BUILD | CHECK | BUILD BIN | ||||||||
LymphoSeq 1.28.0 (landing page) David Coffey
| nebbiolo1 | Linux (Ubuntu 22.04.2 LTS) / x86_64 | OK | OK | OK | ![]() | ||||||||
palomino3 | Windows Server 2022 Datacenter / x64 | OK | OK | OK | OK | ![]() | ||||||||
merida1 | macOS 12.6.4 Monterey / x86_64 | OK | OK | OK | OK | ![]() | ||||||||
kjohnson2 | macOS 12.6.1 Monterey / arm64 | see weekly results here | ||||||||||||
To the developers/maintainers of the LymphoSeq package: - Allow up to 24 hours (and sometimes 48 hours) for your latest push to git@git.bioconductor.org:packages/LymphoSeq.git to reflect on this report. See Troubleshooting Build Report for more information. - Use the following Renviron settings to reproduce errors and warnings. - If 'R CMD check' started to fail recently on the Linux builder(s) over a missing dependency, add the missing dependency to 'Suggests:' in your DESCRIPTION file. See Renviron.bioc for more information. |
Package: LymphoSeq |
Version: 1.28.0 |
Command: /Library/Frameworks/R.framework/Resources/bin/R CMD check --install=check:LymphoSeq.install-out.txt --library=/Library/Frameworks/R.framework/Resources/library --no-vignettes --timings LymphoSeq_1.28.0.tar.gz |
StartedAt: 2023-10-16 03:18:36 -0400 (Mon, 16 Oct 2023) |
EndedAt: 2023-10-16 03:26:38 -0400 (Mon, 16 Oct 2023) |
EllapsedTime: 482.0 seconds |
RetCode: 0 |
Status: OK |
CheckDir: LymphoSeq.Rcheck |
Warnings: 0 |
############################################################################## ############################################################################## ### ### Running command: ### ### /Library/Frameworks/R.framework/Resources/bin/R CMD check --install=check:LymphoSeq.install-out.txt --library=/Library/Frameworks/R.framework/Resources/library --no-vignettes --timings LymphoSeq_1.28.0.tar.gz ### ############################################################################## ############################################################################## * using log directory ‘/Users/biocbuild/bbs-3.17-bioc/meat/LymphoSeq.Rcheck’ * using R version 4.3.1 (2023-06-16) * using platform: x86_64-apple-darwin20 (64-bit) * R was compiled by Apple clang version 14.0.3 (clang-1403.0.22.14.1) GNU Fortran (GCC) 12.2.0 * running under: macOS Monterey 12.6.4 * using session charset: UTF-8 * using option ‘--no-vignettes’ * checking for file ‘LymphoSeq/DESCRIPTION’ ... OK * this is package ‘LymphoSeq’ version ‘1.28.0’ * checking package namespace information ... OK * checking package dependencies ... OK * checking if this is a source package ... OK * checking if there is a namespace ... OK * checking for hidden files and directories ... OK * checking for portable file names ... OK * checking for sufficient/correct file permissions ... OK * checking whether package ‘LymphoSeq’ can be installed ... OK * checking installed package size ... NOTE installed size is 5.7Mb sub-directories of 1Mb or more: extdata 5.5Mb * checking package directory ... OK * checking ‘build’ directory ... OK * checking DESCRIPTION meta-information ... OK * checking top-level files ... OK * checking for left-over files ... OK * checking index information ... OK * checking package subdirectories ... OK * checking R files for non-ASCII characters ... OK * checking R files for syntax errors ... OK * checking whether the package can be loaded ... OK * checking whether the package can be loaded with stated dependencies ... OK * checking whether the package can be unloaded cleanly ... OK * checking whether the namespace can be loaded with stated dependencies ... OK * checking whether the namespace can be unloaded cleanly ... OK * checking dependencies in R code ... OK * checking S3 generic/method consistency ... OK * checking replacement functions ... OK * checking foreign function calls ... OK * checking R code for possible problems ... OK * checking Rd files ... OK * checking Rd metadata ... OK * checking Rd cross-references ... OK * checking for missing documentation entries ... OK * checking for code/documentation mismatches ... OK * checking Rd \usage sections ... OK * checking Rd contents ... OK * checking for unstated dependencies in examples ... OK * checking files in ‘vignettes’ ... OK * checking examples ... OK Examples with CPU (user + system) or elapsed time > 5s user system elapsed cloneTrack 37.782 2.251 52.174 productiveSeq 33.302 1.091 44.181 phyloTree 9.629 0.073 13.023 differentialAbundance 6.688 0.118 9.145 lorenzCurve 4.293 0.093 5.787 * checking for unstated dependencies in vignettes ... OK * checking package vignettes in ‘inst/doc’ ... OK * checking running R code from vignettes ... SKIPPED * checking re-building of vignette outputs ... SKIPPED * checking PDF version of manual ... OK * DONE Status: 1 NOTE See ‘/Users/biocbuild/bbs-3.17-bioc/meat/LymphoSeq.Rcheck/00check.log’ for details.
LymphoSeq.Rcheck/00install.out
############################################################################## ############################################################################## ### ### Running command: ### ### /Library/Frameworks/R.framework/Resources/bin/R CMD INSTALL LymphoSeq ### ############################################################################## ############################################################################## * installing to library ‘/Library/Frameworks/R.framework/Versions/4.3-x86_64/Resources/library’ * installing *source* package ‘LymphoSeq’ ... ** using staged installation ** R ** inst ** byte-compile and prepare package for lazy loading ** help *** installing help indices ** building package indices ** installing vignettes ** testing if installed package can be loaded from temporary location ** testing if installed package can be loaded from final location ** testing if installed package keeps a record of temporary installation path * DONE (LymphoSeq)
LymphoSeq.Rcheck/LymphoSeq-Ex.timings
name | user | system | elapsed | |
alignSeq | 1.873 | 0.060 | 2.551 | |
bhattacharyyaCoefficient | 0.311 | 0.031 | 0.454 | |
bhattacharyyaMatrix | 0.442 | 0.018 | 0.601 | |
chordDiagramVDJ | 2.291 | 0.053 | 3.155 | |
clonalRelatedness | 0.847 | 0.009 | 1.132 | |
clonality | 0.100 | 0.008 | 0.142 | |
cloneTrack | 37.782 | 2.251 | 52.174 | |
commonSeqs | 0.311 | 0.041 | 0.465 | |
commonSeqsBar | 1.962 | 0.311 | 3.074 | |
commonSeqsPlot | 0.886 | 0.126 | 1.360 | |
commonSeqsVenn | 1.512 | 0.206 | 2.262 | |
differentialAbundance | 6.688 | 0.118 | 9.145 | |
exportFasta | 0.443 | 0.034 | 0.695 | |
geneFreq | 3.517 | 0.126 | 4.850 | |
lorenzCurve | 4.293 | 0.093 | 5.787 | |
mergeFiles | 0.130 | 0.008 | 0.183 | |
pairwisePlot | 1.550 | 0.019 | 2.089 | |
phyloTree | 9.629 | 0.073 | 13.023 | |
productive | 0.095 | 0.007 | 0.131 | |
productiveSeq | 33.302 | 1.091 | 44.181 | |
readImmunoSeq | 0.070 | 0.008 | 0.114 | |
removeSeq | 0.096 | 0.006 | 0.148 | |
searchPublished | 0.311 | 0.028 | 0.388 | |
searchSeq | 0.740 | 0.034 | 0.964 | |
seqMatrix | 3.330 | 0.079 | 3.948 | |
similarityMatrix | 0.333 | 0.038 | 0.478 | |
similarityScore | 0.298 | 0.028 | 0.376 | |
topFreq | 3.900 | 0.131 | 4.881 | |
topSeqs | 0.300 | 0.010 | 0.406 | |
topSeqsPlot | 0.908 | 0.021 | 1.725 | |
uniqueSeqs | 0.374 | 0.011 | 0.475 | |