Back to Multiple platform build/check report for BioC 3.17: simplified long |
|
This page was generated on 2023-10-16 11:35:28 -0400 (Mon, 16 Oct 2023).
Hostname | OS | Arch (*) | R version | Installed pkgs |
---|---|---|---|---|
nebbiolo1 | Linux (Ubuntu 22.04.2 LTS) | x86_64 | 4.3.1 (2023-06-16) -- "Beagle Scouts" | 4626 |
palomino3 | Windows Server 2022 Datacenter | x64 | 4.3.1 (2023-06-16 ucrt) -- "Beagle Scouts" | 4379 |
merida1 | macOS 12.6.4 Monterey | x86_64 | 4.3.1 (2023-06-16) -- "Beagle Scouts" | 4395 |
Click on any hostname to see more info about the system (e.g. compilers) (*) as reported by 'uname -p', except on Windows and Mac OS X |
Package 1068/2230 | Hostname | OS / Arch | INSTALL | BUILD | CHECK | BUILD BIN | ||||||||
Linnorm 2.24.1 (landing page) Ken Shun Hang Yip
| nebbiolo1 | Linux (Ubuntu 22.04.2 LTS) / x86_64 | OK | OK | ERROR | |||||||||
palomino3 | Windows Server 2022 Datacenter / x64 | OK | OK | OK | OK | ![]() | ||||||||
merida1 | macOS 12.6.4 Monterey / x86_64 | OK | OK | OK | OK | ![]() | ||||||||
kjohnson2 | macOS 12.6.1 Monterey / arm64 | see weekly results here | ||||||||||||
To the developers/maintainers of the Linnorm package: - Allow up to 24 hours (and sometimes 48 hours) for your latest push to git@git.bioconductor.org:packages/Linnorm.git to reflect on this report. See Troubleshooting Build Report for more information. - Use the following Renviron settings to reproduce errors and warnings. - If 'R CMD check' started to fail recently on the Linux builder(s) over a missing dependency, add the missing dependency to 'Suggests:' in your DESCRIPTION file. See Renviron.bioc for more information. |
Package: Linnorm |
Version: 2.24.1 |
Command: /home/biocbuild/bbs-3.17-bioc/R/bin/R CMD check --install=check:Linnorm.install-out.txt --library=/home/biocbuild/bbs-3.17-bioc/R/site-library --timings Linnorm_2.24.1.tar.gz |
StartedAt: 2023-10-15 22:22:53 -0400 (Sun, 15 Oct 2023) |
EndedAt: 2023-10-15 22:31:21 -0400 (Sun, 15 Oct 2023) |
EllapsedTime: 508.3 seconds |
RetCode: 1 |
Status: ERROR |
CheckDir: Linnorm.Rcheck |
Warnings: NA |
############################################################################## ############################################################################## ### ### Running command: ### ### /home/biocbuild/bbs-3.17-bioc/R/bin/R CMD check --install=check:Linnorm.install-out.txt --library=/home/biocbuild/bbs-3.17-bioc/R/site-library --timings Linnorm_2.24.1.tar.gz ### ############################################################################## ############################################################################## * using log directory ‘/home/biocbuild/bbs-3.17-bioc/meat/Linnorm.Rcheck’ * using R version 4.3.1 (2023-06-16) * using platform: x86_64-pc-linux-gnu (64-bit) * R was compiled by gcc (Ubuntu 11.3.0-1ubuntu1~22.04.1) 11.3.0 GNU Fortran (Ubuntu 11.3.0-1ubuntu1~22.04.1) 11.3.0 * running under: Ubuntu 22.04.3 LTS * using session charset: UTF-8 * checking for file ‘Linnorm/DESCRIPTION’ ... OK * checking extension type ... Package * this is package ‘Linnorm’ version ‘2.24.1’ * checking package namespace information ... OK * checking package dependencies ... OK * checking if this is a source package ... OK * checking if there is a namespace ... OK * checking for hidden files and directories ... OK * checking for portable file names ... OK * checking for sufficient/correct file permissions ... OK * checking whether package ‘Linnorm’ can be installed ... OK * used C++ compiler: ‘g++ (Ubuntu 11.4.0-1ubuntu1~22.04) 11.4.0’ * checking installed package size ... OK * checking package directory ... OK * checking ‘build’ directory ... OK * checking DESCRIPTION meta-information ... OK * checking top-level files ... OK * checking for left-over files ... OK * checking index information ... OK * checking package subdirectories ... OK * checking R files for non-ASCII characters ... OK * checking R files for syntax errors ... OK * checking whether the package can be loaded ... OK * checking whether the package can be loaded with stated dependencies ... OK * checking whether the package can be unloaded cleanly ... OK * checking whether the namespace can be loaded with stated dependencies ... OK * checking whether the namespace can be unloaded cleanly ... OK * checking loading without being on the library search path ... OK * checking dependencies in R code ... OK * checking S3 generic/method consistency ... OK * checking replacement functions ... OK * checking foreign function calls ... OK * checking R code for possible problems ... NOTE Linnorm.HClust: no visible binding for global variable ‘x’ Linnorm.HClust: no visible binding for global variable ‘y’ Linnorm.HClust: no visible binding for global variable ‘xend’ Linnorm.HClust: no visible binding for global variable ‘yend’ Linnorm.HClust: no visible binding for global variable ‘cluster’ Linnorm.HClust: no visible binding for global variable ‘X1’ Linnorm.HClust: no visible binding for global variable ‘X2’ Linnorm.HVar: no visible binding for global variable ‘SD’ Linnorm.HVar: no visible binding for global variable ‘group’ Undefined global functions or variables: SD X1 X2 cluster group x xend y yend * checking Rd files ... OK * checking Rd metadata ... OK * checking Rd cross-references ... OK * checking for missing documentation entries ... OK * checking for code/documentation mismatches ... OK * checking Rd \usage sections ... OK * checking Rd contents ... OK * checking for unstated dependencies in examples ... OK * checking contents of ‘data’ directory ... OK * checking data for non-ASCII characters ... OK * checking data for ASCII and uncompressed saves ... OK * checking line endings in C/C++/Fortran sources/headers ... OK * checking line endings in Makefiles ... OK * checking compilation flags in Makevars ... OK * checking for GNU extensions in Makefiles ... OK * checking for portable use of $(BLAS_LIBS) and $(LAPACK_LIBS) ... OK * checking use of PKG_*FLAGS in Makefiles ... OK * checking compiled code ... NOTE Note: information on .o files is not available * checking files in ‘vignettes’ ... OK * checking examples ... OK Examples with CPU (user + system) or elapsed time > 5s user system elapsed RnaXSim 69.029 0.120 69.148 Linnorm.Cor 39.488 0.164 39.652 Linnorm.limma 28.728 0.032 28.759 Linnorm.Norm 28.324 0.056 28.380 Linnorm 28.220 0.068 28.287 * checking for unstated dependencies in ‘tests’ ... OK * checking tests ... Running ‘testthat.R’ ERROR Running the tests in ‘tests/testthat.R’ failed. Last 13 lines of output: <packageNotFoundError/error/condition> Error in `library(matrixStats)`: there is no package called 'matrixStats' Backtrace: ▆ 1. └─base::library(matrixStats) at test_Misc_Stats.R:3:0 ── Error ('test_SkewVar.R:3:1'): (code run outside of `test_that()`) ─────────── <packageNotFoundError/error/condition> Error in `library(matrixStats)`: there is no package called 'matrixStats' Backtrace: ▆ 1. └─base::library(matrixStats) at test_SkewVar.R:3:0 [ FAIL 2 | WARN 0 | SKIP 0 | PASS 6 ] Error: Test failures Execution halted * checking for unstated dependencies in vignettes ... OK * checking package vignettes in ‘inst/doc’ ... OK * checking running R code from vignettes ... ‘Linnorm_User_Manual.Rmd’ using ‘UTF-8’... OK NONE * checking re-building of vignette outputs ... OK * checking PDF version of manual ... OK * DONE Status: 1 ERROR, 2 NOTEs See ‘/home/biocbuild/bbs-3.17-bioc/meat/Linnorm.Rcheck/00check.log’ for details.
Linnorm.Rcheck/00install.out
############################################################################## ############################################################################## ### ### Running command: ### ### /home/biocbuild/bbs-3.17-bioc/R/bin/R CMD INSTALL Linnorm ### ############################################################################## ############################################################################## * installing to library ‘/home/biocbuild/bbs-3.17-bioc/R/site-library’ * installing *source* package ‘Linnorm’ ... ** using staged installation ** libs using C++ compiler: ‘g++ (Ubuntu 11.4.0-1ubuntu1~22.04) 11.4.0’ g++ -std=gnu++17 -I"/home/biocbuild/bbs-3.17-bioc/R/include" -DNDEBUG -I'/home/biocbuild/bbs-3.17-bioc/R/site-library/Rcpp/include' -I'/home/biocbuild/bbs-3.17-bioc/R/site-library/RcppArmadillo/include' -I/usr/local/include -fpic -g -O2 -Wall -c Misc.cpp -o Misc.o g++ -std=gnu++17 -shared -L/home/biocbuild/bbs-3.17-bioc/R/lib -L/usr/local/lib -o Linnorm.so Misc.o -std=c++11 -llapack -L/home/biocbuild/bbs-3.17-bioc/R/lib -lRblas -lgfortran -lm -lquadmath -DARMA_64BIT_WORD=1 -L/home/biocbuild/bbs-3.17-bioc/R/lib -lR installing to /home/biocbuild/bbs-3.17-bioc/R/site-library/00LOCK-Linnorm/00new/Linnorm/libs ** R ** data ** inst ** byte-compile and prepare package for lazy loading ** help *** installing help indices ** building package indices ** installing vignettes ** testing if installed package can be loaded from temporary location ** checking absolute paths in shared objects and dynamic libraries ** testing if installed package can be loaded from final location ** testing if installed package keeps a record of temporary installation path * DONE (Linnorm)
Linnorm.Rcheck/tests/testthat.Rout.fail
R version 4.3.1 (2023-06-16) -- "Beagle Scouts" Copyright (C) 2023 The R Foundation for Statistical Computing Platform: x86_64-pc-linux-gnu (64-bit) R is free software and comes with ABSOLUTELY NO WARRANTY. You are welcome to redistribute it under certain conditions. Type 'license()' or 'licence()' for distribution details. R is a collaborative project with many contributors. Type 'contributors()' for more information and 'citation()' on how to cite R or R packages in publications. Type 'demo()' for some demos, 'help()' for on-line help, or 'help.start()' for an HTML browser interface to help. Type 'q()' to quit R. > library(testthat) > library(Linnorm) > > test_check("Linnorm") [ FAIL 2 | WARN 0 | SKIP 0 | PASS 6 ] ══ Failed tests ════════════════════════════════════════════════════════════════ ── Error ('test_Misc_Stats.R:3:1'): (code run outside of `test_that()`) ──────── <packageNotFoundError/error/condition> Error in `library(matrixStats)`: there is no package called 'matrixStats' Backtrace: ▆ 1. └─base::library(matrixStats) at test_Misc_Stats.R:3:0 ── Error ('test_SkewVar.R:3:1'): (code run outside of `test_that()`) ─────────── <packageNotFoundError/error/condition> Error in `library(matrixStats)`: there is no package called 'matrixStats' Backtrace: ▆ 1. └─base::library(matrixStats) at test_SkewVar.R:3:0 [ FAIL 2 | WARN 0 | SKIP 0 | PASS 6 ] Error: Test failures Execution halted
Linnorm.Rcheck/Linnorm-Ex.timings
name | user | system | elapsed | |
LinearRegression | 0.001 | 0.000 | 0.001 | |
LinearRegressionFP | 0 | 0 | 0 | |
Linnorm.Cor | 39.488 | 0.164 | 39.652 | |
Linnorm.DataImput | 1.701 | 0.120 | 1.819 | |
Linnorm.HClust | 2.355 | 0.024 | 2.098 | |
Linnorm.HVar | 0.810 | 0.016 | 0.825 | |
Linnorm.Norm | 28.324 | 0.056 | 28.380 | |
Linnorm.PCA | 3.642 | 0.100 | 3.740 | |
Linnorm | 28.220 | 0.068 | 28.287 | |
Linnorm.SGenes | 0.266 | 0.012 | 0.278 | |
Linnorm.limma | 28.728 | 0.032 | 28.759 | |
Linnorm.tSNE | 3.544 | 0.040 | 3.585 | |
RnaXSim | 69.029 | 0.120 | 69.148 | |