Back to Multiple platform build/check report for BioC 3.17: simplified long |
|
This page was generated on 2023-07-07 11:36:05 -0400 (Fri, 07 Jul 2023).
Hostname | OS | Arch (*) | R version | Installed pkgs |
---|---|---|---|---|
nebbiolo1 | Linux (Ubuntu 22.04.2 LTS) | x86_64 | 4.3.1 (2023-06-16) -- "Beagle Scouts" | 4615 |
palomino3 | Windows Server 2022 Datacenter | x64 | 4.3.1 (2023-06-16 ucrt) -- "Beagle Scouts" | 4371 |
merida1 | macOS 12.6.4 Monterey | x86_64 | 4.3.1 (2023-06-16) -- "Beagle Scouts" | 4378 |
Click on any hostname to see more info about the system (e.g. compilers) (*) as reported by 'uname -p', except on Windows and Mac OS X |
Package 1064/2229 | Hostname | OS / Arch | INSTALL | BUILD | CHECK | BUILD BIN | ||||||||
LineagePulse 1.20.0 (landing page) David S Fischer
| nebbiolo1 | Linux (Ubuntu 22.04.2 LTS) / x86_64 | OK | OK | WARNINGS | ![]() | ||||||||
palomino3 | Windows Server 2022 Datacenter / x64 | OK | OK | WARNINGS | OK | ![]() | ||||||||
merida1 | macOS 12.6.4 Monterey / x86_64 | OK | OK | WARNINGS | OK | ![]() | ||||||||
To the developers/maintainers of the LineagePulse package: - Allow up to 24 hours (and sometimes 48 hours) for your latest push to git@git.bioconductor.org:packages/LineagePulse.git to reflect on this report. See Troubleshooting Build Report for more information. - Use the following Renviron settings to reproduce errors and warnings. - If 'R CMD check' started to fail recently on the Linux builder(s) over a missing dependency, add the missing dependency to 'Suggests:' in your DESCRIPTION file. See Renviron.bioc for more information. |
Package: LineagePulse |
Version: 1.20.0 |
Command: rm -rf LineagePulse.buildbin-libdir && mkdir LineagePulse.buildbin-libdir && F:\biocbuild\bbs-3.17-bioc\R\bin\R.exe CMD INSTALL --build --library=LineagePulse.buildbin-libdir LineagePulse_1.20.0.tar.gz |
StartedAt: 2023-07-07 09:42:22 -0400 (Fri, 07 Jul 2023) |
EndedAt: 2023-07-07 09:43:11 -0400 (Fri, 07 Jul 2023) |
EllapsedTime: 49.0 seconds |
RetCode: 0 |
Status: OK |
PackageFile: LineagePulse_1.20.0.zip |
PackageFileSize: 698.4 KiB |
############################################################################## ############################################################################## ### ### Running command: ### ### rm -rf LineagePulse.buildbin-libdir && mkdir LineagePulse.buildbin-libdir && F:\biocbuild\bbs-3.17-bioc\R\bin\R.exe CMD INSTALL --build --library=LineagePulse.buildbin-libdir LineagePulse_1.20.0.tar.gz ### ############################################################################## ############################################################################## * installing *source* package 'LineagePulse' ... ** using staged installation ** R ** inst ** byte-compile and prepare package for lazy loading Note: possible error in 'evalLogLikGeneMM(vecCounts = vecCounts, ': unused arguments (matDispParam = matDispParam, matDropParam = matDropParam, matWeights = matWeights) Note: possible error in 'evalLogLikGeneMM(vecCounts = vecCounts, ': unused arguments (matDispParam = do.call(cbind, lapply(seq_len(ncol(matWeights)), function(m) vecDispParam)), matDropParam = do.call(cbind, lapply(seq_len(ncol(matWeights)), function(m) vecPiParam)), matWeights = matWeights) ** help *** installing help indices ** building package indices ** installing vignettes ** testing if installed package can be loaded from temporary location ** testing if installed package can be loaded from final location ** testing if installed package keeps a record of temporary installation path * MD5 sums packaged installation of 'LineagePulse' as LineagePulse_1.20.0.zip * DONE (LineagePulse)