| Back to Multiple platform build/check report for BioC 3.17: simplified long |
|
This page was generated on 2023-10-16 11:37:09 -0400 (Mon, 16 Oct 2023).
| Hostname | OS | Arch (*) | R version | Installed pkgs |
|---|---|---|---|---|
| nebbiolo1 | Linux (Ubuntu 22.04.2 LTS) | x86_64 | 4.3.1 (2023-06-16) -- "Beagle Scouts" | 4626 |
| palomino3 | Windows Server 2022 Datacenter | x64 | 4.3.1 (2023-06-16 ucrt) -- "Beagle Scouts" | 4379 |
| merida1 | macOS 12.6.4 Monterey | x86_64 | 4.3.1 (2023-06-16) -- "Beagle Scouts" | 4395 |
| Click on any hostname to see more info about the system (e.g. compilers) (*) as reported by 'uname -p', except on Windows and Mac OS X | ||||
| Package 989/2230 | Hostname | OS / Arch | INSTALL | BUILD | CHECK | BUILD BIN | ||||||||
| ImmuneSpaceR 1.28.0 (landing page) ImmuneSpace Package Maintainer
| nebbiolo1 | Linux (Ubuntu 22.04.2 LTS) / x86_64 | OK | OK | OK | |||||||||
| palomino3 | Windows Server 2022 Datacenter / x64 | OK | OK | OK | OK | |||||||||
| merida1 | macOS 12.6.4 Monterey / x86_64 | OK | OK | OK | OK | |||||||||
| kjohnson2 | macOS 12.6.1 Monterey / arm64 | see weekly results here | ||||||||||||
|
To the developers/maintainers of the ImmuneSpaceR package: - Allow up to 24 hours (and sometimes 48 hours) for your latest push to git@git.bioconductor.org:packages/ImmuneSpaceR.git to reflect on this report. See Troubleshooting Build Report for more information. - Use the following Renviron settings to reproduce errors and warnings. - If 'R CMD check' started to fail recently on the Linux builder(s) over a missing dependency, add the missing dependency to 'Suggests:' in your DESCRIPTION file. See Renviron.bioc for more information. |
| Package: ImmuneSpaceR |
| Version: 1.28.0 |
| Command: /Library/Frameworks/R.framework/Resources/bin/R CMD build --keep-empty-dirs --no-resave-data ImmuneSpaceR |
| StartedAt: 2023-10-15 18:59:07 -0400 (Sun, 15 Oct 2023) |
| EndedAt: 2023-10-15 19:02:09 -0400 (Sun, 15 Oct 2023) |
| EllapsedTime: 181.8 seconds |
| RetCode: 0 |
| Status: OK |
| PackageFile: ImmuneSpaceR_1.28.0.tar.gz |
| PackageFileSize: 1.422 MiB |
##############################################################################
##############################################################################
###
### Running command:
###
### /Library/Frameworks/R.framework/Resources/bin/R CMD build --keep-empty-dirs --no-resave-data ImmuneSpaceR
###
##############################################################################
##############################################################################
* checking for file ‘ImmuneSpaceR/DESCRIPTION’ ... OK
* preparing ‘ImmuneSpaceR’:
* checking DESCRIPTION meta-information ... OK
* installing the package to build vignettes
* creating vignettes ... OK
* checking for LF line-endings in source and make files and shell scripts
* checking for empty or unneeded directories
NB: this package now depends on R (>= 3.5.0)
WARNING: Added dependency on R >= 3.5.0 because serialized objects in
serialize/load version 3 cannot be read in older versions of R.
File(s) containing such objects:
‘ImmuneSpaceR/tests/testthat/datasets/SDY180_fcs_control_files.rds’
‘ImmuneSpaceR/tests/testthat/datasets/SDY180_fcs_sample_files.rds’
‘ImmuneSpaceR/tests/testthat/datasets/SDY180_mbaa.rds’
‘ImmuneSpaceR/tests/testthat/datasets/SDY180_neut_ab_titer.rds’
‘ImmuneSpaceR/tests/testthat/datasets/SDY269_elisa.rds’
‘ImmuneSpaceR/tests/testthat/datasets/SDY269_elispot.rds’
‘ImmuneSpaceR/tests/testthat/datasets/SDY269_hai.rds’
* building ‘ImmuneSpaceR_1.28.0.tar.gz’