Back to Multiple platform build/check report for BioC 3.17: simplified long |
|
This page was generated on 2023-10-16 11:37:09 -0400 (Mon, 16 Oct 2023).
Hostname | OS | Arch (*) | R version | Installed pkgs |
---|---|---|---|---|
nebbiolo1 | Linux (Ubuntu 22.04.2 LTS) | x86_64 | 4.3.1 (2023-06-16) -- "Beagle Scouts" | 4626 |
palomino3 | Windows Server 2022 Datacenter | x64 | 4.3.1 (2023-06-16 ucrt) -- "Beagle Scouts" | 4379 |
merida1 | macOS 12.6.4 Monterey | x86_64 | 4.3.1 (2023-06-16) -- "Beagle Scouts" | 4395 |
Click on any hostname to see more info about the system (e.g. compilers) (*) as reported by 'uname -p', except on Windows and Mac OS X |
Package 1000/2230 | Hostname | OS / Arch | INSTALL | BUILD | CHECK | BUILD BIN | ||||||||
INSPEcT 1.30.0 (landing page) Stefano de Pretis
| nebbiolo1 | Linux (Ubuntu 22.04.2 LTS) / x86_64 | OK | OK | OK | ![]() | ||||||||
palomino3 | Windows Server 2022 Datacenter / x64 | OK | OK | OK | OK | ![]() | ||||||||
merida1 | macOS 12.6.4 Monterey / x86_64 | OK | OK | OK | OK | ![]() | ||||||||
kjohnson2 | macOS 12.6.1 Monterey / arm64 | see weekly results here | ||||||||||||
To the developers/maintainers of the INSPEcT package: - Allow up to 24 hours (and sometimes 48 hours) for your latest push to git@git.bioconductor.org:packages/INSPEcT.git to reflect on this report. See Troubleshooting Build Report for more information. - Use the following Renviron settings to reproduce errors and warnings. - If 'R CMD check' started to fail recently on the Linux builder(s) over a missing dependency, add the missing dependency to 'Suggests:' in your DESCRIPTION file. See Renviron.bioc for more information. |
Package: INSPEcT |
Version: 1.30.0 |
Command: /Library/Frameworks/R.framework/Resources/bin/R CMD check --install=check:INSPEcT.install-out.txt --library=/Library/Frameworks/R.framework/Resources/library --no-vignettes --timings INSPEcT_1.30.0.tar.gz |
StartedAt: 2023-10-16 02:53:21 -0400 (Mon, 16 Oct 2023) |
EndedAt: 2023-10-16 03:31:01 -0400 (Mon, 16 Oct 2023) |
EllapsedTime: 2260.0 seconds |
RetCode: 0 |
Status: OK |
CheckDir: INSPEcT.Rcheck |
Warnings: 0 |
############################################################################## ############################################################################## ### ### Running command: ### ### /Library/Frameworks/R.framework/Resources/bin/R CMD check --install=check:INSPEcT.install-out.txt --library=/Library/Frameworks/R.framework/Resources/library --no-vignettes --timings INSPEcT_1.30.0.tar.gz ### ############################################################################## ############################################################################## * using log directory ‘/Users/biocbuild/bbs-3.17-bioc/meat/INSPEcT.Rcheck’ * using R version 4.3.1 (2023-06-16) * using platform: x86_64-apple-darwin20 (64-bit) * R was compiled by Apple clang version 14.0.3 (clang-1403.0.22.14.1) GNU Fortran (GCC) 12.2.0 * running under: macOS Monterey 12.6.4 * using session charset: UTF-8 * using option ‘--no-vignettes’ * checking for file ‘INSPEcT/DESCRIPTION’ ... OK * checking extension type ... Package * this is package ‘INSPEcT’ version ‘1.30.0’ * checking package namespace information ... OK * checking package dependencies ... OK * checking if this is a source package ... OK * checking if there is a namespace ... OK * checking for hidden files and directories ... OK * checking for portable file names ... OK * checking for sufficient/correct file permissions ... OK * checking whether package ‘INSPEcT’ can be installed ... OK * checking installed package size ... NOTE installed size is 7.1Mb sub-directories of 1Mb or more: R 1.8Mb data 2.8Mb * checking package directory ... OK * checking ‘build’ directory ... OK * checking DESCRIPTION meta-information ... OK * checking top-level files ... OK * checking for left-over files ... OK * checking index information ... OK * checking package subdirectories ... OK * checking R files for non-ASCII characters ... OK * checking R files for syntax errors ... OK * checking whether the package can be loaded ... OK * checking whether the package can be loaded with stated dependencies ... OK * checking whether the package can be unloaded cleanly ... OK * checking whether the namespace can be loaded with stated dependencies ... OK * checking whether the namespace can be unloaded cleanly ... OK * checking dependencies in R code ... OK * checking S3 generic/method consistency ... OK * checking replacement functions ... OK * checking foreign function calls ... OK * checking R code for possible problems ... NOTE output_pars: no visible global function definition for ‘plot.new’ plotSingleRNADynamic: no visible global function definition for ‘lines’ Undefined global functions or variables: lines plot.new Consider adding importFrom("graphics", "lines", "plot.new") to your NAMESPACE file. * checking Rd files ... OK * checking Rd metadata ... OK * checking Rd cross-references ... OK * checking for missing documentation entries ... OK * checking for code/documentation mismatches ... OK * checking Rd \usage sections ... OK * checking Rd contents ... OK * checking for unstated dependencies in examples ... OK * checking contents of ‘data’ directory ... OK * checking data for non-ASCII characters ... OK * checking data for ASCII and uncompressed saves ... OK * checking files in ‘vignettes’ ... OK * checking examples ... OK Examples with CPU (user + system) or elapsed time > 5s user system elapsed makeSimDataset 216.425 1.114 297.118 modelRates 99.578 0.418 129.147 rocCurve 75.369 0.801 104.434 rocThresholds 75.265 0.376 98.086 quantifyExpressionsFromBAMs 69.331 6.167 95.858 makeSimModel 74.481 0.432 101.114 INSPEcT_diffsteady-class 68.492 0.638 96.031 compareSteady 63.957 0.335 89.603 plotMA 62.271 0.258 81.522 newINSPEcT 39.305 0.174 51.348 quantifyExpressionsFromTrCounts 34.043 0.309 46.541 processingDelay 33.327 0.151 44.274 makeOscillatorySimModel 17.990 0.166 24.490 inspectFromPCR 17.717 0.096 24.082 compareSteadyNoNascent 13.511 0.085 18.441 modelRatesNF 10.599 0.209 13.751 * checking for unstated dependencies in vignettes ... OK * checking package vignettes in ‘inst/doc’ ... OK * checking running R code from vignettes ... SKIPPED * checking re-building of vignette outputs ... SKIPPED * checking PDF version of manual ... OK * DONE Status: 2 NOTEs See ‘/Users/biocbuild/bbs-3.17-bioc/meat/INSPEcT.Rcheck/00check.log’ for details.
INSPEcT.Rcheck/00install.out
############################################################################## ############################################################################## ### ### Running command: ### ### /Library/Frameworks/R.framework/Resources/bin/R CMD INSTALL INSPEcT ### ############################################################################## ############################################################################## * installing to library ‘/Library/Frameworks/R.framework/Versions/4.3-x86_64/Resources/library’ * installing *source* package ‘INSPEcT’ ... ** using staged installation ** R ** data ** inst ** byte-compile and prepare package for lazy loading ** help *** installing help indices ** building package indices ** installing vignettes ** testing if installed package can be loaded from temporary location ** testing if installed package can be loaded from final location ** testing if installed package keeps a record of temporary installation path * DONE (INSPEcT)
INSPEcT.Rcheck/INSPEcT-Ex.timings
name | user | system | elapsed | |
AIC-INSPEcT-method | 0.363 | 0.021 | 0.529 | |
Extract | 0.793 | 0.040 | 1.147 | |
INSPEcT_diffsteady-class | 68.492 | 0.638 | 96.031 | |
calculateRatePvals | 0.473 | 0.018 | 0.662 | |
chisqmodel | 0.363 | 0.017 | 0.526 | |
chisqtest | 0.358 | 0.017 | 0.508 | |
combine | 0.774 | 0.016 | 1.068 | |
compareSteady | 63.957 | 0.335 | 89.603 | |
compareSteadyNoNascent | 13.511 | 0.085 | 18.441 | |
convergence | 0.360 | 0.016 | 0.509 | |
geneClass | 0.470 | 0.019 | 0.623 | |
inHeatmap | 0.431 | 0.011 | 0.564 | |
inspectFromPCR | 17.717 | 0.096 | 24.082 | |
labeledSF | 0.356 | 0.009 | 0.498 | |
logLik | 0.357 | 0.011 | 0.500 | |
makeModelRates | 0.464 | 0.010 | 0.645 | |
makeOscillatorySimModel | 17.990 | 0.166 | 24.490 | |
makeSimDataset | 216.425 | 1.114 | 297.118 | |
makeSimModel | 74.481 | 0.432 | 101.114 | |
modelRates | 99.578 | 0.418 | 129.147 | |
modelRatesNF | 10.599 | 0.209 | 13.751 | |
modelSelection | 0.363 | 0.017 | 0.475 | |
modelingParams | 0.360 | 0.010 | 0.479 | |
nGenes | 0.360 | 0.015 | 0.484 | |
nTpts | 0.363 | 0.015 | 0.509 | |
newINSPEcT | 39.305 | 0.174 | 51.348 | |
plotGene | 0.442 | 0.019 | 0.609 | |
plotMA | 62.271 | 0.258 | 81.522 | |
processingDelay | 33.327 | 0.151 | 44.274 | |
quantifyExpressionsFromBAMs | 69.331 | 6.167 | 95.858 | |
quantifyExpressionsFromTrCounts | 34.043 | 0.309 | 46.541 | |
ratePvals | 0.363 | 0.011 | 0.547 | |
ratesFirstGuess | 0.362 | 0.021 | 0.578 | |
ratesFirstGuessVar | 0.362 | 0.019 | 0.594 | |
removeModel | 0.590 | 0.016 | 0.864 | |
rocCurve | 75.369 | 0.801 | 104.434 | |
rocThresholds | 75.265 | 0.376 | 98.086 | |
split | 0.581 | 0.011 | 0.749 | |
tpts | 0.358 | 0.006 | 0.519 | |
viewConfidenceIntervals | 0.359 | 0.016 | 0.522 | |
viewModelRates | 0.358 | 0.007 | 0.461 | |