| Back to Multiple platform build/check report for BioC 3.17: simplified long | 
 | 
This page was generated on 2023-10-16 11:36:12 -0400 (Mon, 16 Oct 2023).
| Hostname | OS | Arch (*) | R version | Installed pkgs | 
|---|---|---|---|---|
| nebbiolo1 | Linux (Ubuntu 22.04.2 LTS) | x86_64 | 4.3.1 (2023-06-16) -- "Beagle Scouts" | 4626 | 
| palomino3 | Windows Server 2022 Datacenter | x64 | 4.3.1 (2023-06-16 ucrt) -- "Beagle Scouts" | 4379 | 
| merida1 | macOS 12.6.4 Monterey | x86_64 | 4.3.1 (2023-06-16) -- "Beagle Scouts" | 4395 | 
| Click on any hostname to see more info about the system (e.g. compilers) (*) as reported by 'uname -p', except on Windows and Mac OS X | ||||
| Package 877/2230 | Hostname | OS / Arch | INSTALL | BUILD | CHECK | BUILD BIN | ||||||||
| GraphAlignment 1.64.0  (landing page) Joern P. Meier 
 | nebbiolo1 | Linux (Ubuntu 22.04.2 LTS) / x86_64 | OK | OK | WARNINGS |  | ||||||||
| palomino3 | Windows Server 2022 Datacenter / x64 | OK | OK | OK | OK |  | ||||||||
| merida1 | macOS 12.6.4 Monterey / x86_64 | OK | OK | OK | OK |  | ||||||||
| kjohnson2 | macOS 12.6.1 Monterey / arm64 | see weekly results here | ||||||||||||
| To the developers/maintainers of the GraphAlignment package: - Allow up to 24 hours (and sometimes 48 hours) for your latest push to git@git.bioconductor.org:packages/GraphAlignment.git to reflect on this report. See Troubleshooting Build Report for more information. - Use the following Renviron settings to reproduce errors and warnings. - If 'R CMD check' started to fail recently on the Linux builder(s) over a missing dependency, add the missing dependency to 'Suggests:' in your DESCRIPTION file. See Renviron.bioc for more information. | 
| Package: GraphAlignment | 
| Version: 1.64.0 | 
| Command: rm -rf GraphAlignment.buildbin-libdir && mkdir GraphAlignment.buildbin-libdir && F:\biocbuild\bbs-3.17-bioc\R\bin\R.exe CMD INSTALL --build --library=GraphAlignment.buildbin-libdir GraphAlignment_1.64.0.tar.gz | 
| StartedAt: 2023-10-16 08:54:08 -0400 (Mon, 16 Oct 2023) | 
| EndedAt: 2023-10-16 08:54:16 -0400 (Mon, 16 Oct 2023) | 
| EllapsedTime: 8.5 seconds | 
| RetCode: 0 | 
| Status: OK | 
| PackageFile: GraphAlignment_1.64.0.zip | 
| PackageFileSize: 442.4 KiB | 
##############################################################################
##############################################################################
###
### Running command:
###
###   rm -rf GraphAlignment.buildbin-libdir && mkdir GraphAlignment.buildbin-libdir && F:\biocbuild\bbs-3.17-bioc\R\bin\R.exe CMD INSTALL --build --library=GraphAlignment.buildbin-libdir GraphAlignment_1.64.0.tar.gz
###
##############################################################################
##############################################################################
* installing *source* package 'GraphAlignment' ...
** using staged installation
** libs
using C compiler: 'gcc.exe (GCC) 12.2.0'
gcc  -I"F:/biocbuild/bbs-3.17-bioc/R/include" -DNDEBUG     -I"C:/rtools43/x86_64-w64-mingw32.static.posix/include"     -O2 -Wall  -mfpmath=sse -msse2 -mstackrealign  -c GA_alloc.c -o GA_alloc.o
gcc  -I"F:/biocbuild/bbs-3.17-bioc/R/include" -DNDEBUG     -I"C:/rtools43/x86_64-w64-mingw32.static.posix/include"     -O2 -Wall  -mfpmath=sse -msse2 -mstackrealign  -c GA_matrix.c -o GA_matrix.o
gcc  -I"F:/biocbuild/bbs-3.17-bioc/R/include" -DNDEBUG     -I"C:/rtools43/x86_64-w64-mingw32.static.posix/include"     -O2 -Wall  -mfpmath=sse -msse2 -mstackrealign  -c GA_matrix_R.c -o GA_matrix_R.o
gcc  -I"F:/biocbuild/bbs-3.17-bioc/R/include" -DNDEBUG     -I"C:/rtools43/x86_64-w64-mingw32.static.posix/include"     -O2 -Wall  -mfpmath=sse -msse2 -mstackrealign  -c GA_message.c -o GA_message.o
gcc  -I"F:/biocbuild/bbs-3.17-bioc/R/include" -DNDEBUG     -I"C:/rtools43/x86_64-w64-mingw32.static.posix/include"     -O2 -Wall  -mfpmath=sse -msse2 -mstackrealign  -c GA_vector.c -o GA_vector.o
gcc  -I"F:/biocbuild/bbs-3.17-bioc/R/include" -DNDEBUG     -I"C:/rtools43/x86_64-w64-mingw32.static.posix/include"     -O2 -Wall  -mfpmath=sse -msse2 -mstackrealign  -c GA_vector_R.c -o GA_vector_R.o
GA_vector_R.c: In function 'GA_clamp_mode_from_R':
GA_vector_R.c:139:9: warning: unused variable 'size' [-Wunused-variable]
  139 |     int size = LENGTH(robj);
      |         ^~~~
gcc  -I"F:/biocbuild/bbs-3.17-bioc/R/include" -DNDEBUG     -I"C:/rtools43/x86_64-w64-mingw32.static.posix/include"     -O2 -Wall  -mfpmath=sse -msse2 -mstackrealign  -c GraphAlignment.c -o GraphAlignment.o
GraphAlignment.c: In function 'GA_encode_directed_graph':
GraphAlignment.c:138:20: warning: suggest explicit braces to avoid ambiguous 'else' [-Wdangling-else]
  138 |                 if (matrix->elts[i][j] == 1)
      |                    ^
GraphAlignment.c:159:20: warning: suggest explicit braces to avoid ambiguous 'else' [-Wdangling-else]
  159 |                 if (matrix->elts[i][j] == 1)
      |                    ^
GraphAlignment.c: In function 'GA_directed_mode_from_R':
GraphAlignment.c:264:9: warning: unused variable 'size' [-Wunused-variable]
  264 |     int size = LENGTH(robj);
      |         ^~~~
gcc  -I"F:/biocbuild/bbs-3.17-bioc/R/include" -DNDEBUG     -I"C:/rtools43/x86_64-w64-mingw32.static.posix/include"     -O2 -Wall  -mfpmath=sse -msse2 -mstackrealign  -c lap.c -o lap.o
lap.c: In function 'LAP_lap':
lap.c:64:30: warning: 'last' may be used uninitialized [-Wmaybe-uninitialized]
   64 |   col  j, j1, j2, endofpath, last, low, up, *collist, *matches;
      |                              ^~~~
lap.c:269:16: warning: 'min' may be used uninitialized [-Wmaybe-uninitialized]
  269 |             if (v2 == min)   /* new column found at same minimum value */
      |                ^
lap.c:65:8: note: 'min' was declared here
   65 |   cost min, h, umin, usubmin, v2, *d;
      |        ^~~
gcc -shared -s -static-libgcc -o GraphAlignment.dll tmp.def GA_alloc.o GA_matrix.o GA_matrix_R.o GA_message.o GA_vector.o GA_vector_R.o GraphAlignment.o lap.o -LC:/rtools43/x86_64-w64-mingw32.static.posix/lib/x64 -LC:/rtools43/x86_64-w64-mingw32.static.posix/lib -LF:/biocbuild/bbs-3.17-bioc/R/bin/x64 -lR
installing to F:/biocbuild/bbs-3.17-bioc/meat/GraphAlignment.buildbin-libdir/00LOCK-GraphAlignment/00new/GraphAlignment/libs/x64
** R
** inst
** byte-compile and prepare package for lazy loading
** help
*** installing help indices
** building package indices
** installing vignettes
** testing if installed package can be loaded from temporary location
** testing if installed package can be loaded from final location
** testing if installed package keeps a record of temporary installation path
* MD5 sums
packaged installation of 'GraphAlignment' as GraphAlignment_1.64.0.zip
* DONE (GraphAlignment)