Back to Multiple platform build/check report for BioC 3.17: simplified long |
|
This page was generated on 2023-10-16 11:36:12 -0400 (Mon, 16 Oct 2023).
Hostname | OS | Arch (*) | R version | Installed pkgs |
---|---|---|---|---|
nebbiolo1 | Linux (Ubuntu 22.04.2 LTS) | x86_64 | 4.3.1 (2023-06-16) -- "Beagle Scouts" | 4626 |
palomino3 | Windows Server 2022 Datacenter | x64 | 4.3.1 (2023-06-16 ucrt) -- "Beagle Scouts" | 4379 |
merida1 | macOS 12.6.4 Monterey | x86_64 | 4.3.1 (2023-06-16) -- "Beagle Scouts" | 4395 |
Click on any hostname to see more info about the system (e.g. compilers) (*) as reported by 'uname -p', except on Windows and Mac OS X |
Package 895/2230 | Hostname | OS / Arch | INSTALL | BUILD | CHECK | BUILD BIN | ||||||||
GSgalgoR 1.10.0 (landing page) Carlos Catania
| nebbiolo1 | Linux (Ubuntu 22.04.2 LTS) / x86_64 | OK | OK | OK | ![]() | ||||||||
palomino3 | Windows Server 2022 Datacenter / x64 | OK | OK | OK | OK | ![]() | ||||||||
merida1 | macOS 12.6.4 Monterey / x86_64 | OK | OK | OK | OK | ![]() | ||||||||
kjohnson2 | macOS 12.6.1 Monterey / arm64 | see weekly results here | ||||||||||||
To the developers/maintainers of the GSgalgoR package: - Allow up to 24 hours (and sometimes 48 hours) for your latest push to git@git.bioconductor.org:packages/GSgalgoR.git to reflect on this report. See Troubleshooting Build Report for more information. - Use the following Renviron settings to reproduce errors and warnings. - If 'R CMD check' started to fail recently on the Linux builder(s) over a missing dependency, add the missing dependency to 'Suggests:' in your DESCRIPTION file. See Renviron.bioc for more information. |
Package: GSgalgoR |
Version: 1.10.0 |
Command: F:\biocbuild\bbs-3.17-bioc\R\bin\R.exe CMD check --no-multiarch --install=check:GSgalgoR.install-out.txt --library=F:\biocbuild\bbs-3.17-bioc\R\library --no-vignettes --timings GSgalgoR_1.10.0.tar.gz |
StartedAt: 2023-10-16 02:54:05 -0400 (Mon, 16 Oct 2023) |
EndedAt: 2023-10-16 02:57:13 -0400 (Mon, 16 Oct 2023) |
EllapsedTime: 187.7 seconds |
RetCode: 0 |
Status: OK |
CheckDir: GSgalgoR.Rcheck |
Warnings: 0 |
############################################################################## ############################################################################## ### ### Running command: ### ### F:\biocbuild\bbs-3.17-bioc\R\bin\R.exe CMD check --no-multiarch --install=check:GSgalgoR.install-out.txt --library=F:\biocbuild\bbs-3.17-bioc\R\library --no-vignettes --timings GSgalgoR_1.10.0.tar.gz ### ############################################################################## ############################################################################## * using log directory 'F:/biocbuild/bbs-3.17-bioc/meat/GSgalgoR.Rcheck' * using R version 4.3.1 (2023-06-16 ucrt) * using platform: x86_64-w64-mingw32 (64-bit) * R was compiled by gcc.exe (GCC) 12.2.0 GNU Fortran (GCC) 12.2.0 * running under: Windows Server 2022 x64 (build 20348) * using session charset: UTF-8 * using option '--no-vignettes' * checking for file 'GSgalgoR/DESCRIPTION' ... OK * checking extension type ... Package * this is package 'GSgalgoR' version '1.10.0' * package encoding: UTF-8 * checking package namespace information ... OK * checking package dependencies ... OK * checking if this is a source package ... OK * checking if there is a namespace ... OK * checking for hidden files and directories ... OK * checking for portable file names ... OK * checking whether package 'GSgalgoR' can be installed ... OK * checking installed package size ... OK * checking package directory ... OK * checking 'build' directory ... OK * checking DESCRIPTION meta-information ... OK * checking top-level files ... OK * checking for left-over files ... OK * checking index information ... OK * checking package subdirectories ... OK * checking R files for non-ASCII characters ... OK * checking R files for syntax errors ... OK * checking whether the package can be loaded ... OK * checking whether the package can be loaded with stated dependencies ... OK * checking whether the package can be unloaded cleanly ... OK * checking whether the namespace can be loaded with stated dependencies ... OK * checking whether the namespace can be unloaded cleanly ... OK * checking dependencies in R code ... OK * checking S3 generic/method consistency ... OK * checking replacement functions ... OK * checking foreign function calls ... OK * checking R code for possible problems ... OK * checking Rd files ... OK * checking Rd metadata ... OK * checking Rd cross-references ... OK * checking for missing documentation entries ... OK * checking for code/documentation mismatches ... OK * checking Rd \usage sections ... OK * checking Rd contents ... OK * checking for unstated dependencies in examples ... OK * checking files in 'vignettes' ... OK * checking examples ... OK Examples with CPU (user + system) or elapsed time > 5s user system elapsed plot_pareto 2.52 0.14 6.33 callback_base_report 2.29 0.30 18.93 classify_multiple 2.25 0.20 7.23 to_dataframe 1.79 0.03 5.24 create_centroids 1.75 0.06 5.34 to_list 1.77 0.02 5.31 callback_base_return_pop 1.61 0.17 6.56 non_dominated_summary 1.70 0.08 5.28 callback_default 1.57 0.17 6.42 callback_no_report 1.43 0.21 6.28 galgo 1.50 0.02 5.05 * checking for unstated dependencies in 'tests' ... OK * checking tests ... Running 'testthat.R' OK * checking for unstated dependencies in vignettes ... OK * checking package vignettes in 'inst/doc' ... OK * checking running R code from vignettes ... SKIPPED * checking re-building of vignette outputs ... SKIPPED * checking PDF version of manual ... OK * DONE Status: OK
GSgalgoR.Rcheck/00install.out
############################################################################## ############################################################################## ### ### Running command: ### ### F:\biocbuild\bbs-3.17-bioc\R\bin\R.exe CMD INSTALL GSgalgoR ### ############################################################################## ############################################################################## * installing to library 'F:/biocbuild/bbs-3.17-bioc/R/library' * installing *source* package 'GSgalgoR' ... ** using staged installation ** R ** inst ** byte-compile and prepare package for lazy loading ** help *** installing help indices ** building package indices ** installing vignettes ** testing if installed package can be loaded from temporary location ** testing if installed package can be loaded from final location ** testing if installed package keeps a record of temporary installation path * DONE (GSgalgoR)
GSgalgoR.Rcheck/tests/testthat.Rout
R version 4.3.1 (2023-06-16 ucrt) -- "Beagle Scouts" Copyright (C) 2023 The R Foundation for Statistical Computing Platform: x86_64-w64-mingw32/x64 (64-bit) R is free software and comes with ABSOLUTELY NO WARRANTY. You are welcome to redistribute it under certain conditions. Type 'license()' or 'licence()' for distribution details. R is a collaborative project with many contributors. Type 'contributors()' for more information and 'citation()' on how to cite R or R packages in publications. Type 'demo()' for some demos, 'help()' for on-line help, or 'help.start()' for an HTML browser interface to help. Type 'q()' to quit R. > library(testthat) > library(GSgalgoR) > > test_check("GSgalgoR") .......... k rnkIndex CrowD result.1 8 0.02212350 201.10126 1 Inf result.3 9 0.02402496 160.41638 1 1.37352 result.4 8 0.03651880 48.37265 1 Inf k rnkIndex CrowD result.1 8 0.02212350 201.10126 1 Inf result.3 2 0.11803624 30.01863 1 Inf result.4 4 0.04509859 173.43985 1 1.798893 ......[ FAIL 0 | WARN 0 | SKIP 0 | PASS 13 ] > > proc.time() user system elapsed 16.48 2.25 73.29
GSgalgoR.Rcheck/GSgalgoR-Ex.timings
name | user | system | elapsed | |
calculate_distance | 2.02 | 0.08 | 2.17 | |
callback_base_report | 2.29 | 0.30 | 18.93 | |
callback_base_return_pop | 1.61 | 0.17 | 6.56 | |
callback_default | 1.57 | 0.17 | 6.42 | |
callback_no_report | 1.43 | 0.21 | 6.28 | |
classify_multiple | 2.25 | 0.20 | 7.23 | |
cluster_algorithm | 1.03 | 0.02 | 1.05 | |
cluster_classify | 0.78 | 0.07 | 0.87 | |
cosine_similarity | 0 | 0 | 0 | |
create_centroids | 1.75 | 0.06 | 5.34 | |
galgo | 1.50 | 0.02 | 5.05 | |
k_centroids | 1.02 | 0.03 | 1.05 | |
non_dominated_summary | 1.70 | 0.08 | 5.28 | |
plot_pareto | 2.52 | 0.14 | 6.33 | |
surv_fitness | 0.53 | 0.01 | 0.54 | |
to_dataframe | 1.79 | 0.03 | 5.24 | |
to_list | 1.77 | 0.02 | 5.31 | |