| Back to Multiple platform build/check report for BioC 3.17: simplified long |
|
This page was generated on 2023-10-16 11:35:22 -0400 (Mon, 16 Oct 2023).
| Hostname | OS | Arch (*) | R version | Installed pkgs |
|---|---|---|---|---|
| nebbiolo1 | Linux (Ubuntu 22.04.2 LTS) | x86_64 | 4.3.1 (2023-06-16) -- "Beagle Scouts" | 4626 |
| palomino3 | Windows Server 2022 Datacenter | x64 | 4.3.1 (2023-06-16 ucrt) -- "Beagle Scouts" | 4379 |
| merida1 | macOS 12.6.4 Monterey | x86_64 | 4.3.1 (2023-06-16) -- "Beagle Scouts" | 4395 |
| Click on any hostname to see more info about the system (e.g. compilers) (*) as reported by 'uname -p', except on Windows and Mac OS X | ||||
| Package 727/2230 | Hostname | OS / Arch | INSTALL | BUILD | CHECK | BUILD BIN | ||||||||
| FlowSOM 2.8.0 (landing page) Sofie Van Gassen
| nebbiolo1 | Linux (Ubuntu 22.04.2 LTS) / x86_64 | OK | OK | OK | |||||||||
| palomino3 | Windows Server 2022 Datacenter / x64 | OK | OK | OK | OK | |||||||||
| merida1 | macOS 12.6.4 Monterey / x86_64 | OK | OK | OK | OK | |||||||||
| kjohnson2 | macOS 12.6.1 Monterey / arm64 | see weekly results here | ||||||||||||
|
To the developers/maintainers of the FlowSOM package: - Allow up to 24 hours (and sometimes 48 hours) for your latest push to git@git.bioconductor.org:packages/FlowSOM.git to reflect on this report. See Troubleshooting Build Report for more information. - Use the following Renviron settings to reproduce errors and warnings. - If 'R CMD check' started to fail recently on the Linux builder(s) over a missing dependency, add the missing dependency to 'Suggests:' in your DESCRIPTION file. See Renviron.bioc for more information. |
| Package: FlowSOM |
| Version: 2.8.0 |
| Command: /home/biocbuild/bbs-3.17-bioc/R/bin/R CMD check --install=check:FlowSOM.install-out.txt --library=/home/biocbuild/bbs-3.17-bioc/R/site-library --timings FlowSOM_2.8.0.tar.gz |
| StartedAt: 2023-10-15 21:24:36 -0400 (Sun, 15 Oct 2023) |
| EndedAt: 2023-10-15 21:35:16 -0400 (Sun, 15 Oct 2023) |
| EllapsedTime: 640.4 seconds |
| RetCode: 0 |
| Status: OK |
| CheckDir: FlowSOM.Rcheck |
| Warnings: 0 |
##############################################################################
##############################################################################
###
### Running command:
###
### /home/biocbuild/bbs-3.17-bioc/R/bin/R CMD check --install=check:FlowSOM.install-out.txt --library=/home/biocbuild/bbs-3.17-bioc/R/site-library --timings FlowSOM_2.8.0.tar.gz
###
##############################################################################
##############################################################################
* using log directory ‘/home/biocbuild/bbs-3.17-bioc/meat/FlowSOM.Rcheck’
* using R version 4.3.1 (2023-06-16)
* using platform: x86_64-pc-linux-gnu (64-bit)
* R was compiled by
gcc (Ubuntu 11.3.0-1ubuntu1~22.04.1) 11.3.0
GNU Fortran (Ubuntu 11.3.0-1ubuntu1~22.04.1) 11.3.0
* running under: Ubuntu 22.04.3 LTS
* using session charset: UTF-8
* checking for file ‘FlowSOM/DESCRIPTION’ ... OK
* this is package ‘FlowSOM’ version ‘2.8.0’
* package encoding: UTF-8
* checking package namespace information ... OK
* checking package dependencies ... OK
* checking if this is a source package ... OK
* checking if there is a namespace ... OK
* checking for hidden files and directories ... OK
* checking for portable file names ... OK
* checking for sufficient/correct file permissions ... OK
* checking whether package ‘FlowSOM’ can be installed ... OK
* used C compiler: ‘gcc (Ubuntu 11.4.0-1ubuntu1~22.04) 11.4.0’
* checking installed package size ... OK
* checking package directory ... OK
* checking ‘build’ directory ... OK
* checking DESCRIPTION meta-information ... OK
* checking top-level files ... OK
* checking for left-over files ... OK
* checking index information ... OK
* checking package subdirectories ... OK
* checking R files for non-ASCII characters ... OK
* checking R files for syntax errors ... OK
* checking whether the package can be loaded ... OK
* checking whether the package can be loaded with stated dependencies ... OK
* checking whether the package can be unloaded cleanly ... OK
* checking whether the namespace can be loaded with stated dependencies ... OK
* checking whether the namespace can be unloaded cleanly ... OK
* checking loading without being on the library search path ... OK
* checking startup messages can be suppressed ... OK
* checking dependencies in R code ... OK
* checking S3 generic/method consistency ... OK
* checking replacement functions ... OK
* checking foreign function calls ... OK
* checking R code for possible problems ... NOTE
PlotManualBars: no visible binding for global variable ‘MC’
PlotManualBars: no visible binding for global variable ‘Manual’
Undefined global functions or variables:
MC Manual
* checking Rd files ... OK
* checking Rd metadata ... OK
* checking Rd cross-references ... OK
* checking for missing documentation entries ... OK
* checking for code/documentation mismatches ... OK
* checking Rd \usage sections ... OK
* checking Rd contents ... OK
* checking for unstated dependencies in examples ... OK
* checking line endings in C/C++/Fortran sources/headers ... OK
* checking compiled code ... NOTE
Note: information on .o files is not available
* checking files in ‘vignettes’ ... OK
* checking examples ... OK
Examples with CPU (user + system) or elapsed time > 5s
user system elapsed
FlowSOMmary 49.159 0.492 49.320
PlotDimRed 45.036 0.108 45.067
PlotMarker 15.773 0.036 15.810
PlotOutliers 15.423 0.080 15.503
UpdateMetaclusters 15.193 0.036 15.230
PlotStars 13.563 0.028 13.591
GroupStats 11.611 0.052 11.663
FlowSOM 10.575 0.124 10.699
PlotGroups 9.952 0.032 9.985
AddAnnotation 8.663 0.184 8.849
query_multiple 8.136 0.056 8.192
QueryMultiple 8.102 0.052 8.154
Plot2DScatters 8.023 0.076 8.072
GetFlowJoLabels 6.965 0.116 7.081
PlotManualBars 7.049 0.028 7.078
PlotPies 6.499 0.004 6.503
PlotVariable 6.255 0.024 6.280
QueryStarPlot 6.262 0.016 6.279
PlotNode 6.095 0.055 6.151
PlotNumbers 5.739 0.012 5.751
CountGroups 5.387 0.072 5.458
UpdateNodeSize 5.379 0.016 5.396
PlotFlowSOM 5.171 0.060 5.232
SaveClustersToFCS 5.118 0.060 5.177
GetFeatures 5.133 0.008 5.141
* checking for unstated dependencies in vignettes ... OK
* checking package vignettes in ‘inst/doc’ ... OK
* checking running R code from vignettes ...
‘FlowSOM.Rnw’ using ‘latin-9’... OK
OK
* checking re-building of vignette outputs ... OK
* checking PDF version of manual ... OK
* DONE
Status: 2 NOTEs
See
‘/home/biocbuild/bbs-3.17-bioc/meat/FlowSOM.Rcheck/00check.log’
for details.
FlowSOM.Rcheck/00install.out
############################################################################## ############################################################################## ### ### Running command: ### ### /home/biocbuild/bbs-3.17-bioc/R/bin/R CMD INSTALL FlowSOM ### ############################################################################## ############################################################################## * installing to library ‘/home/biocbuild/bbs-3.17-bioc/R/site-library’ * installing *source* package ‘FlowSOM’ ... ** using staged installation ** libs using C compiler: ‘gcc (Ubuntu 11.4.0-1ubuntu1~22.04) 11.4.0’ gcc -I"/home/biocbuild/bbs-3.17-bioc/R/include" -DNDEBUG -I/usr/local/include -fpic -g -O2 -Wall -c som.c -o som.o gcc -shared -L/home/biocbuild/bbs-3.17-bioc/R/lib -L/usr/local/lib -o FlowSOM.so som.o -L/home/biocbuild/bbs-3.17-bioc/R/lib -lR installing to /home/biocbuild/bbs-3.17-bioc/R/site-library/00LOCK-FlowSOM/00new/FlowSOM/libs ** R ** inst ** byte-compile and prepare package for lazy loading ** help *** installing help indices ** building package indices ** installing vignettes ** testing if installed package can be loaded from temporary location ** checking absolute paths in shared objects and dynamic libraries ** testing if installed package can be loaded from final location ** testing if installed package keeps a record of temporary installation path * DONE (FlowSOM)
FlowSOM.Rcheck/FlowSOM-Ex.timings
| name | user | system | elapsed | |
| AddAnnotation | 8.663 | 0.184 | 8.849 | |
| AggregateFlowFrames | 0.063 | 0.012 | 0.076 | |
| BuildMST | 1.024 | 0.016 | 1.040 | |
| BuildSOM | 1.098 | 0.032 | 1.129 | |
| CountGroups | 5.387 | 0.072 | 5.458 | |
| FMeasure | 0.002 | 0.000 | 0.002 | |
| FlowSOM | 10.575 | 0.124 | 10.699 | |
| FlowSOMSubset | 4.104 | 0.044 | 4.148 | |
| FlowSOMmary | 49.159 | 0.492 | 49.320 | |
| GetChannels | 0.027 | 0.000 | 0.027 | |
| GetClusterMFIs | 3.86 | 0.06 | 3.92 | |
| GetClusterPercentagesPositive | 3.864 | 0.056 | 3.920 | |
| GetClusters | 4.279 | 0.004 | 4.283 | |
| GetCounts | 3.860 | 0.008 | 3.868 | |
| GetFeatures | 5.133 | 0.008 | 5.141 | |
| GetFlowJoLabels | 6.965 | 0.116 | 7.081 | |
| GetMFIs | 4.393 | 0.064 | 4.457 | |
| GetMarkers | 0.028 | 0.000 | 0.029 | |
| GetMetaclusterCVs | 4.202 | 0.012 | 4.215 | |
| GetMetaclusterMFIs | 4.144 | 0.016 | 4.161 | |
| GetMetaclusterPercentagesPositive | 4.164 | 0.052 | 4.216 | |
| GetMetaclusters | 4.196 | 0.016 | 4.211 | |
| GetPercentages | 4.590 | 0.012 | 4.602 | |
| GroupStats | 11.611 | 0.052 | 11.663 | |
| Initialize_KWSP | 0.004 | 0.000 | 0.003 | |
| Initialize_PCA | 0.000 | 0.000 | 0.001 | |
| MetaClustering | 3.019 | 0.007 | 3.025 | |
| MetaclusterCVs | 4.177 | 0.016 | 4.193 | |
| MetaclusterMFIs | 4.918 | 0.032 | 4.949 | |
| NClusters | 4.836 | 0.020 | 4.856 | |
| NMetaclusters | 4.716 | 0.020 | 4.736 | |
| NewData | 4.616 | 0.008 | 4.624 | |
| Plot2DScatters | 8.023 | 0.076 | 8.072 | |
| PlotCenters | 1.013 | 0.004 | 1.017 | |
| PlotClusters2D | 1.010 | 0.004 | 1.013 | |
| PlotDimRed | 45.036 | 0.108 | 45.067 | |
| PlotFileScatters | 0.693 | 0.016 | 0.709 | |
| PlotFlowSOM | 5.171 | 0.060 | 5.232 | |
| PlotGroups | 9.952 | 0.032 | 9.985 | |
| PlotLabels | 4.743 | 0.016 | 4.758 | |
| PlotManualBars | 7.049 | 0.028 | 7.078 | |
| PlotMarker | 15.773 | 0.036 | 15.810 | |
| PlotNode | 6.095 | 0.055 | 6.151 | |
| PlotNumbers | 5.739 | 0.012 | 5.751 | |
| PlotOutliers | 15.423 | 0.080 | 15.503 | |
| PlotOverview2D | 4.225 | 0.032 | 4.257 | |
| PlotPies | 6.499 | 0.004 | 6.503 | |
| PlotSD | 1.881 | 0.012 | 1.893 | |
| PlotStars | 13.563 | 0.028 | 13.591 | |
| PlotVariable | 6.255 | 0.024 | 6.280 | |
| Purity | 0.001 | 0.000 | 0.001 | |
| QueryMultiple | 8.102 | 0.052 | 8.154 | |
| QueryStarPlot | 6.262 | 0.016 | 6.279 | |
| ReadInput | 3.161 | 0.016 | 3.177 | |
| SaveClustersToFCS | 5.118 | 0.060 | 5.177 | |
| TestOutliers | 4.883 | 0.024 | 4.906 | |
| UpdateMetaclusters | 15.193 | 0.036 | 15.230 | |
| UpdateNodeSize | 5.379 | 0.016 | 5.396 | |
| get_channels | 0.024 | 0.004 | 0.029 | |
| get_markers | 0.021 | 0.007 | 0.029 | |
| metaClustering_consensus | 2.503 | 0.008 | 2.512 | |
| plotStarLegend | 0.348 | 0.004 | 0.352 | |
| print.FlowSOM | 4.638 | 0.024 | 4.661 | |
| query_multiple | 8.136 | 0.056 | 8.192 | |