Back to Multiple platform build/check report for BioC 3.17: simplified long |
|
This page was generated on 2023-10-16 11:35:21 -0400 (Mon, 16 Oct 2023).
Hostname | OS | Arch (*) | R version | Installed pkgs |
---|---|---|---|---|
nebbiolo1 | Linux (Ubuntu 22.04.2 LTS) | x86_64 | 4.3.1 (2023-06-16) -- "Beagle Scouts" | 4626 |
palomino3 | Windows Server 2022 Datacenter | x64 | 4.3.1 (2023-06-16 ucrt) -- "Beagle Scouts" | 4379 |
merida1 | macOS 12.6.4 Monterey | x86_64 | 4.3.1 (2023-06-16) -- "Beagle Scouts" | 4395 |
Click on any hostname to see more info about the system (e.g. compilers) (*) as reported by 'uname -p', except on Windows and Mac OS X |
Package 685/2230 | Hostname | OS / Arch | INSTALL | BUILD | CHECK | BUILD BIN | ||||||||
FCBF 2.8.0 (landing page) Tiago Lubiana
| nebbiolo1 | Linux (Ubuntu 22.04.2 LTS) / x86_64 | OK | OK | ERROR | |||||||||
palomino3 | Windows Server 2022 Datacenter / x64 | OK | OK | OK | OK | ![]() | ||||||||
merida1 | macOS 12.6.4 Monterey / x86_64 | OK | OK | OK | OK | ![]() | ||||||||
kjohnson2 | macOS 12.6.1 Monterey / arm64 | see weekly results here | ||||||||||||
To the developers/maintainers of the FCBF package: - Allow up to 24 hours (and sometimes 48 hours) for your latest push to git@git.bioconductor.org:packages/FCBF.git to reflect on this report. See Troubleshooting Build Report for more information. - Use the following Renviron settings to reproduce errors and warnings. - If 'R CMD check' started to fail recently on the Linux builder(s) over a missing dependency, add the missing dependency to 'Suggests:' in your DESCRIPTION file. See Renviron.bioc for more information. |
Package: FCBF |
Version: 2.8.0 |
Command: /home/biocbuild/bbs-3.17-bioc/R/bin/R CMD check --install=check:FCBF.install-out.txt --library=/home/biocbuild/bbs-3.17-bioc/R/site-library --timings FCBF_2.8.0.tar.gz |
StartedAt: 2023-10-15 21:17:16 -0400 (Sun, 15 Oct 2023) |
EndedAt: 2023-10-15 21:22:18 -0400 (Sun, 15 Oct 2023) |
EllapsedTime: 301.5 seconds |
RetCode: 1 |
Status: ERROR |
CheckDir: FCBF.Rcheck |
Warnings: NA |
############################################################################## ############################################################################## ### ### Running command: ### ### /home/biocbuild/bbs-3.17-bioc/R/bin/R CMD check --install=check:FCBF.install-out.txt --library=/home/biocbuild/bbs-3.17-bioc/R/site-library --timings FCBF_2.8.0.tar.gz ### ############################################################################## ############################################################################## * using log directory ‘/home/biocbuild/bbs-3.17-bioc/meat/FCBF.Rcheck’ * using R version 4.3.1 (2023-06-16) * using platform: x86_64-pc-linux-gnu (64-bit) * R was compiled by gcc (Ubuntu 11.3.0-1ubuntu1~22.04.1) 11.3.0 GNU Fortran (Ubuntu 11.3.0-1ubuntu1~22.04.1) 11.3.0 * running under: Ubuntu 22.04.3 LTS * using session charset: UTF-8 * checking for file ‘FCBF/DESCRIPTION’ ... OK * checking extension type ... Package * this is package ‘FCBF’ version ‘2.8.0’ * package encoding: UTF-8 * checking package namespace information ... OK * checking package dependencies ... OK * checking if this is a source package ... OK * checking if there is a namespace ... OK * checking for hidden files and directories ... OK * checking for portable file names ... OK * checking for sufficient/correct file permissions ... OK * checking whether package ‘FCBF’ can be installed ... OK * checking installed package size ... OK * checking package directory ... OK * checking ‘build’ directory ... OK * checking DESCRIPTION meta-information ... OK * checking top-level files ... OK * checking for left-over files ... OK * checking index information ... OK * checking package subdirectories ... OK * checking R files for non-ASCII characters ... OK * checking R files for syntax errors ... OK * checking whether the package can be loaded ... OK * checking whether the package can be loaded with stated dependencies ... OK * checking whether the package can be unloaded cleanly ... OK * checking whether the namespace can be loaded with stated dependencies ... OK * checking whether the namespace can be unloaded cleanly ... OK * checking loading without being on the library search path ... OK * checking startup messages can be suppressed ... OK * checking dependencies in R code ... OK * checking S3 generic/method consistency ... OK * checking replacement functions ... OK * checking foreign function calls ... OK * checking R code for possible problems ... OK * checking Rd files ... OK * checking Rd metadata ... OK * checking Rd cross-references ... OK * checking for missing documentation entries ... OK * checking for code/documentation mismatches ... OK * checking Rd \usage sections ... OK * checking Rd contents ... OK * checking for unstated dependencies in examples ... OK * checking contents of ‘data’ directory ... OK * checking data for non-ASCII characters ... OK * checking data for ASCII and uncompressed saves ... OK * checking files in ‘vignettes’ ... OK * checking examples ... OK Examples with CPU (user + system) or elapsed time > 5s user system elapsed fcbf 29.364 0.543 36.039 scDengue 22.362 0.267 29.342 su_plot 8.721 0.164 8.885 get_su_for_feature_table_and_vector 8.176 0.044 8.219 get_ig_for_feature_table_and_vector 7.549 0.076 7.624 discretize_exprs 4.949 0.384 5.333 * checking for unstated dependencies in ‘tests’ ... OK * checking tests ... Running ‘testthat.R’ OK * checking for unstated dependencies in vignettes ... OK * checking package vignettes in ‘inst/doc’ ... OK * checking running R code from vignettes ... ‘FCBF-Vignette.Rmd’ using ‘UTF-8’... OK NONE * checking re-building of vignette outputs ... ERROR Error(s) in re-building vignettes: ... --- re-building ‘FCBF-Vignette.Rmd’ using rmarkdown Quitting from lines 178-205 [unnamed-chunk-10] (FCBF-Vignette.Rmd) Error: processing vignette 'FCBF-Vignette.Rmd' failed with diagnostics: Required packages are missing: kernlab --- failed re-building ‘FCBF-Vignette.Rmd’ SUMMARY: processing the following file failed: ‘FCBF-Vignette.Rmd’ Error: Vignette re-building failed. Execution halted * checking PDF version of manual ... OK * DONE Status: 1 ERROR See ‘/home/biocbuild/bbs-3.17-bioc/meat/FCBF.Rcheck/00check.log’ for details.
FCBF.Rcheck/00install.out
############################################################################## ############################################################################## ### ### Running command: ### ### /home/biocbuild/bbs-3.17-bioc/R/bin/R CMD INSTALL FCBF ### ############################################################################## ############################################################################## * installing to library ‘/home/biocbuild/bbs-3.17-bioc/R/site-library’ * installing *source* package ‘FCBF’ ... ** using staged installation ** R ** data ** byte-compile and prepare package for lazy loading ** help *** installing help indices ** building package indices ** installing vignettes ** testing if installed package can be loaded from temporary location ** testing if installed package can be loaded from final location ** testing if installed package keeps a record of temporary installation path * DONE (FCBF)
FCBF.Rcheck/tests/testthat.Rout
R version 4.3.1 (2023-06-16) -- "Beagle Scouts" Copyright (C) 2023 The R Foundation for Statistical Computing Platform: x86_64-pc-linux-gnu (64-bit) R is free software and comes with ABSOLUTELY NO WARRANTY. You are welcome to redistribute it under certain conditions. Type 'license()' or 'licence()' for distribution details. R is a collaborative project with many contributors. Type 'contributors()' for more information and 'citation()' on how to cite R or R packages in publications. Type 'demo()' for some demos, 'help()' for on-line help, or 'help.start()' for an HTML browser interface to help. Type 'q()' to quit R. > library(testthat) > library(FCBF) > > test_check("FCBF") [1] "Number of features features = 8" [1] "Number of prospective features = 7" [1] "Number of final features = 2" [1] "Number of features features = 8" [1] "Number of prospective features = 1" [ FAIL 0 | WARN 0 | SKIP 0 | PASS 33 ] > > proc.time() user system elapsed 6.912 0.416 7.316
FCBF.Rcheck/FCBF-Ex.timings
name | user | system | elapsed | |
discretize_exprs | 4.949 | 0.384 | 5.333 | |
discretize_exprs_supervised | 2.053 | 0.100 | 2.153 | |
discretize_gene_supervised | 0.360 | 0.088 | 0.448 | |
fcbf | 29.364 | 0.543 | 36.039 | |
get_IG_for_vector_pair | 2.053 | 0.183 | 2.238 | |
get_SU_for_vector_pair | 2.074 | 0.092 | 2.165 | |
get_ig_for_feature_table_and_vector | 7.549 | 0.076 | 7.624 | |
get_su_for_feature_table_and_vector | 8.176 | 0.044 | 8.219 | |
scDengue | 22.362 | 0.267 | 29.342 | |
su_plot | 8.721 | 0.164 | 8.885 | |