| Back to Multiple platform build/check report for BioC 3.17: simplified long |
|
This page was generated on 2023-10-16 11:35:15 -0400 (Mon, 16 Oct 2023).
| Hostname | OS | Arch (*) | R version | Installed pkgs |
|---|---|---|---|---|
| nebbiolo1 | Linux (Ubuntu 22.04.2 LTS) | x86_64 | 4.3.1 (2023-06-16) -- "Beagle Scouts" | 4626 |
| palomino3 | Windows Server 2022 Datacenter | x64 | 4.3.1 (2023-06-16 ucrt) -- "Beagle Scouts" | 4379 |
| merida1 | macOS 12.6.4 Monterey | x86_64 | 4.3.1 (2023-06-16) -- "Beagle Scouts" | 4395 |
| Click on any hostname to see more info about the system (e.g. compilers) (*) as reported by 'uname -p', except on Windows and Mac OS X | ||||
| Package 332/2230 | Hostname | OS / Arch | INSTALL | BUILD | CHECK | BUILD BIN | ||||||||
| ChIPseqR 1.54.0 (landing page) Peter Humburg
| nebbiolo1 | Linux (Ubuntu 22.04.2 LTS) / x86_64 | OK | OK | OK | |||||||||
| palomino3 | Windows Server 2022 Datacenter / x64 | OK | OK | OK | OK | |||||||||
| merida1 | macOS 12.6.4 Monterey / x86_64 | OK | OK | OK | OK | |||||||||
| kjohnson2 | macOS 12.6.1 Monterey / arm64 | see weekly results here | ||||||||||||
|
To the developers/maintainers of the ChIPseqR package: - Allow up to 24 hours (and sometimes 48 hours) for your latest push to git@git.bioconductor.org:packages/ChIPseqR.git to reflect on this report. See Troubleshooting Build Report for more information. - Use the following Renviron settings to reproduce errors and warnings. - If 'R CMD check' started to fail recently on the Linux builder(s) over a missing dependency, add the missing dependency to 'Suggests:' in your DESCRIPTION file. See Renviron.bioc for more information. |
| Package: ChIPseqR |
| Version: 1.54.0 |
| Command: /home/biocbuild/bbs-3.17-bioc/R/bin/R CMD check --install=check:ChIPseqR.install-out.txt --library=/home/biocbuild/bbs-3.17-bioc/R/site-library --timings ChIPseqR_1.54.0.tar.gz |
| StartedAt: 2023-10-15 20:03:27 -0400 (Sun, 15 Oct 2023) |
| EndedAt: 2023-10-15 20:08:36 -0400 (Sun, 15 Oct 2023) |
| EllapsedTime: 309.9 seconds |
| RetCode: 0 |
| Status: OK |
| CheckDir: ChIPseqR.Rcheck |
| Warnings: 0 |
##############################################################################
##############################################################################
###
### Running command:
###
### /home/biocbuild/bbs-3.17-bioc/R/bin/R CMD check --install=check:ChIPseqR.install-out.txt --library=/home/biocbuild/bbs-3.17-bioc/R/site-library --timings ChIPseqR_1.54.0.tar.gz
###
##############################################################################
##############################################################################
* using log directory ‘/home/biocbuild/bbs-3.17-bioc/meat/ChIPseqR.Rcheck’
* using R version 4.3.1 (2023-06-16)
* using platform: x86_64-pc-linux-gnu (64-bit)
* R was compiled by
gcc (Ubuntu 11.3.0-1ubuntu1~22.04.1) 11.3.0
GNU Fortran (Ubuntu 11.3.0-1ubuntu1~22.04.1) 11.3.0
* running under: Ubuntu 22.04.3 LTS
* using session charset: UTF-8
* checking for file ‘ChIPseqR/DESCRIPTION’ ... OK
* checking extension type ... Package
* this is package ‘ChIPseqR’ version ‘1.54.0’
* checking package namespace information ... OK
* checking package dependencies ... OK
* checking if this is a source package ... OK
* checking if there is a namespace ... OK
* checking for hidden files and directories ... OK
* checking for portable file names ... OK
* checking for sufficient/correct file permissions ... OK
* checking whether package ‘ChIPseqR’ can be installed ... OK
* used C compiler: ‘gcc (Ubuntu 11.4.0-1ubuntu1~22.04) 11.4.0’
* checking installed package size ... OK
* checking package directory ... OK
* checking ‘build’ directory ... OK
* checking DESCRIPTION meta-information ... OK
* checking top-level files ... OK
* checking for left-over files ... OK
* checking index information ... OK
* checking package subdirectories ... OK
* checking R files for non-ASCII characters ... OK
* checking R files for syntax errors ... OK
* checking whether the package can be loaded ... OK
* checking whether the package can be loaded with stated dependencies ... OK
* checking whether the package can be unloaded cleanly ... OK
* checking whether the namespace can be loaded with stated dependencies ... OK
* checking whether the namespace can be unloaded cleanly ... OK
* checking loading without being on the library search path ... OK
* checking dependencies in R code ... OK
* checking S3 generic/method consistency ... OK
* checking replacement functions ... OK
* checking foreign function calls ... OK
* checking R code for possible problems ... NOTE
.fixCounts: no visible global function definition for ‘runLength’
.fixCounts: no visible global function definition for ‘runValue’
getBindLen: no visible global function definition for ‘window’
pickPeak: no visible global function definition for ‘start’
pickPeak: no visible global function definition for ‘runLength’
pickPeak : <anonymous>: no visible global function definition for
‘window’
[[,BindScore-ANY-numeric: no visible global function definition for
‘window’
decompress,Rle: no visible global function definition for ‘runValue’
decompress,RleList : <anonymous>: no visible global function definition
for ‘runValue’
initialize,RLEBindScore : <anonymous>: no visible global function
definition for ‘Rle’
initialize,RLEBindScore : <anonymous>: no visible global function
definition for ‘runValue’
initialize,RLEBindScore : <anonymous>: no visible global function
definition for ‘runValue<-’
plot,RLEReadCounts-missing : <anonymous>: no visible global function
definition for ‘window’
Undefined global functions or variables:
Rle runLength runValue runValue<- start window
Consider adding
importFrom("stats", "start", "window")
to your NAMESPACE file.
* checking Rd files ... OK
* checking Rd metadata ... OK
* checking Rd cross-references ... OK
* checking for missing documentation entries ... OK
* checking for code/documentation mismatches ... OK
* checking Rd \usage sections ... OK
* checking Rd contents ... OK
* checking for unstated dependencies in examples ... OK
* checking line endings in C/C++/Fortran sources/headers ... OK
* checking compiled code ... NOTE
Note: information on .o files is not available
* checking files in ‘vignettes’ ... OK
* checking examples ... OK
Examples with CPU (user + system) or elapsed time > 5s
user system elapsed
alignFeature 7.211 0.651 7.863
BindScore 5.555 0.068 5.622
* checking for unstated dependencies in vignettes ... OK
* checking package vignettes in ‘inst/doc’ ... OK
* checking running R code from vignettes ...
‘Introduction.Rnw’... OK
OK
* checking re-building of vignette outputs ... OK
* checking PDF version of manual ... OK
* DONE
Status: 2 NOTEs
See
‘/home/biocbuild/bbs-3.17-bioc/meat/ChIPseqR.Rcheck/00check.log’
for details.
ChIPseqR.Rcheck/00install.out
##############################################################################
##############################################################################
###
### Running command:
###
### /home/biocbuild/bbs-3.17-bioc/R/bin/R CMD INSTALL ChIPseqR
###
##############################################################################
##############################################################################
* installing to library ‘/home/biocbuild/bbs-3.17-bioc/R/site-library’
* installing *source* package ‘ChIPseqR’ ...
** using staged installation
** libs
using C compiler: ‘gcc (Ubuntu 11.4.0-1ubuntu1~22.04) 11.4.0’
gcc -I"/home/biocbuild/bbs-3.17-bioc/R/include" -DNDEBUG -I/usr/local/include -fpic -g -O2 -Wall -c startScore.c -o startScore.o
startScore.c: In function ‘_ratioStat_pois’:
startScore.c:66:22: warning: unused variable ‘tmp_stat’ [-Wunused-variable]
66 | double stat, tmp_stat;
| ^~~~~~~~
gcc -shared -L/home/biocbuild/bbs-3.17-bioc/R/lib -L/usr/local/lib -o ChIPseqR.so startScore.o -L/home/biocbuild/bbs-3.17-bioc/R/lib -lR
installing to /home/biocbuild/bbs-3.17-bioc/R/site-library/00LOCK-ChIPseqR/00new/ChIPseqR/libs
** R
** inst
** byte-compile and prepare package for lazy loading
** help
*** installing help indices
** building package indices
** installing vignettes
** testing if installed package can be loaded from temporary location
** checking absolute paths in shared objects and dynamic libraries
** testing if installed package can be loaded from final location
** testing if installed package keeps a record of temporary installation path
* DONE (ChIPseqR)
ChIPseqR.Rcheck/ChIPseqR-Ex.timings
| name | user | system | elapsed | |
| BindScore | 5.555 | 0.068 | 5.622 | |
| ChIPseqR-package | 0 | 0 | 0 | |
| RLEBindScore-class | 4.836 | 0.016 | 4.851 | |
| RLEReadCounts-class | 0.023 | 0.001 | 0.023 | |
| ReadCounts | 0.024 | 0.000 | 0.024 | |
| alignFeature | 7.211 | 0.651 | 7.863 | |
| callBindingSites | 4.062 | 0.017 | 4.078 | |
| pos2gff | 0.005 | 0.000 | 0.004 | |
| simpleNucCall | 3.991 | 0.011 | 4.003 | |
| strandPileup | 0.009 | 0.000 | 0.009 | |
| windowCounts | 0.157 | 0.001 | 0.158 | |