| Back to Multiple platform build/check report for BioC 3.17 |
|
This page was generated on 2022-12-01 11:09:34 -0500 (Thu, 01 Dec 2022).
| Hostname | OS | Arch (*) | R version | Installed pkgs |
|---|---|---|---|---|
| nebbiolo1 | Linux (Ubuntu 22.04.1 LTS) | x86_64 | R Under development (unstable) (2022-10-25 r83175) -- "Unsuffered Consequences" | 4462 |
| palomino3 | Windows Server 2022 Datacenter | x64 | R Under development (unstable) (2022-10-11 r83083 ucrt) -- "Unsuffered Consequences" | 4203 |
| merida1 | macOS 10.14.6 Mojave | x86_64 | R Under development (unstable) (2022-11-13 r83342) -- "Unsuffered Consequences" | 4231 |
| Click on any hostname to see more info about the system (e.g. compilers) (*) as reported by 'uname -p', except on Windows and Mac OS X | ||||
|
To the developers/maintainers of the ChIC package: - Please allow up to 24 hours (and sometimes 48 hours) for your latest push to git@git.bioconductor.org:packages/ChIC.git to reflect on this report. See How and When does the builder pull? When will my changes propagate? for more information. - Make sure to use the following settings in order to reproduce any error or warning you see on this page. |
| Package 300/2154 | Hostname | OS / Arch | INSTALL | BUILD | CHECK | BUILD BIN | ||||||||
| ChIC 1.19.0 (landing page) Carmen Maria Livi
| nebbiolo1 | Linux (Ubuntu 22.04.1 LTS) / x86_64 | OK | OK | OK | |||||||||
| palomino3 | Windows Server 2022 Datacenter / x64 | ... NOT SUPPORTED ... | ||||||||||||
| merida1 | macOS 10.14.6 Mojave / x86_64 | OK | OK | OK | OK | |||||||||
| Package: ChIC |
| Version: 1.19.0 |
| Command: rm -rf ChIC.buildbin-libdir && mkdir ChIC.buildbin-libdir && /Users/biocbuild/BBS/utils/build-universal.sh ChIC_1.19.0.tar.gz /Library/Frameworks/R.framework/Resources/bin/R ChIC.buildbin-libdir |
| StartedAt: 2022-12-01 08:05:15 -0500 (Thu, 01 Dec 2022) |
| EndedAt: 2022-12-01 08:06:42 -0500 (Thu, 01 Dec 2022) |
| EllapsedTime: 86.8 seconds |
| RetCode: 0 |
| Status: OK |
| PackageFile: ChIC_1.19.0.tgz |
| PackageFileSize: 861.4 KiB |
############################################################################## ############################################################################## ### ### Running command: ### ### rm -rf ChIC.buildbin-libdir && mkdir ChIC.buildbin-libdir && /Users/biocbuild/BBS/utils/build-universal.sh ChIC_1.19.0.tar.gz /Library/Frameworks/R.framework/Resources/bin/R ChIC.buildbin-libdir ### ############################################################################## ############################################################################## >>>>>>> >>>>>>> INSTALLATION WITH 'R CMD INSTALL --preclean --no-multiarch --library=ChIC.buildbin-libdir ChIC_1.19.0.tar.gz' >>>>>>> * installing *source* package ‘ChIC’ ... ** using staged installation ** R ** inst ** byte-compile and prepare package for lazy loading ** help *** installing help indices ** building package indices ** installing vignettes ** testing if installed package can be loaded from temporary location ** testing if installed package can be loaded from final location ** testing if installed package keeps a record of temporary installation path * DONE (ChIC)