| Back to Multiple platform build/check report for BioC 3.17: simplified long |
|
This page was generated on 2023-04-17 11:03:38 -0400 (Mon, 17 Apr 2023).
| Hostname | OS | Arch (*) | R version | Installed pkgs |
|---|---|---|---|---|
| nebbiolo1 | Linux (Ubuntu 22.04.1 LTS) | x86_64 | 4.3.0 alpha (2023-04-03 r84154) | 4564 |
| palomino3 | Windows Server 2022 Datacenter | x64 | 4.3.0 alpha (2023-04-03 r84154 ucrt) | 4333 |
| merida1 | macOS 12.6.4 Monterey | x86_64 | 4.3.0 RC (2023-04-13 r84257) -- "Already Tomorrow" | 4289 |
| Click on any hostname to see more info about the system (e.g. compilers) (*) as reported by 'uname -p', except on Windows and Mac OS X | ||||
|
To the developers/maintainers of the CSSP package: - Allow up to 24 hours (and sometimes 48 hours) for your latest push to git@git.bioconductor.org:packages/CSSP.git to reflect on this report. See Troubleshooting Build Report for more information. - Use the following Renviron settings to reproduce errors and warnings. Note: If "R CMD check" recently failed on the Linux builder over a missing dependency, add the missing dependency to "Suggests" in your DESCRIPTION file. See the Renviron.bioc for details. |
| Package 460/2212 | Hostname | OS / Arch | INSTALL | BUILD | CHECK | BUILD BIN | ||||||||
| CSSP 1.37.0 (landing page) Chandler Zuo
| nebbiolo1 | Linux (Ubuntu 22.04.1 LTS) / x86_64 | OK | OK | ERROR | |||||||||
| palomino3 | Windows Server 2022 Datacenter / x64 | OK | OK | OK | OK | |||||||||
| merida1 | macOS 12.6.4 Monterey / x86_64 | OK | ERROR | skipped | skipped | |||||||||
| Package: CSSP |
| Version: 1.37.0 |
| Command: rm -rf CSSP.buildbin-libdir && mkdir CSSP.buildbin-libdir && F:\biocbuild\bbs-3.17-bioc\R\bin\R.exe CMD INSTALL --build --library=CSSP.buildbin-libdir CSSP_1.37.0.tar.gz |
| StartedAt: 2023-04-17 08:05:01 -0400 (Mon, 17 Apr 2023) |
| EndedAt: 2023-04-17 08:05:17 -0400 (Mon, 17 Apr 2023) |
| EllapsedTime: 16.9 seconds |
| RetCode: 0 |
| Status: OK |
| PackageFile: CSSP_1.37.0.zip |
| PackageFileSize: 821.6 KiB |
##############################################################################
##############################################################################
###
### Running command:
###
### rm -rf CSSP.buildbin-libdir && mkdir CSSP.buildbin-libdir && F:\biocbuild\bbs-3.17-bioc\R\bin\R.exe CMD INSTALL --build --library=CSSP.buildbin-libdir CSSP_1.37.0.tar.gz
###
##############################################################################
##############################################################################
* installing *source* package 'CSSP' ...
** using staged installation
** libs
using C compiler: 'gcc.exe (GCC) 12.2.0'
gcc -I"F:/biocbuild/bbs-3.17-bioc/R/include" -DNDEBUG -I"C:/rtools43/x86_64-w64-mingw32.static.posix/include" -O2 -Wall -mfpmath=sse -msse2 -mstackrealign -c bincount.c -o bincount.o
gcc -I"F:/biocbuild/bbs-3.17-bioc/R/include" -DNDEBUG -I"C:/rtools43/x86_64-w64-mingw32.static.posix/include" -O2 -Wall -mfpmath=sse -msse2 -mstackrealign -c binpower.c -o binpower.o
gcc -I"F:/biocbuild/bbs-3.17-bioc/R/include" -DNDEBUG -I"C:/rtools43/x86_64-w64-mingw32.static.posix/include" -O2 -Wall -mfpmath=sse -msse2 -mstackrealign -c gridLogMean.c -o gridLogMean.o
gcc -I"F:/biocbuild/bbs-3.17-bioc/R/include" -DNDEBUG -I"C:/rtools43/x86_64-w64-mingw32.static.posix/include" -O2 -Wall -mfpmath=sse -msse2 -mstackrealign -c gridMGC.c -o gridMGC.o
gcc -I"F:/biocbuild/bbs-3.17-bioc/R/include" -DNDEBUG -I"C:/rtools43/x86_64-w64-mingw32.static.posix/include" -O2 -Wall -mfpmath=sse -msse2 -mstackrealign -c gridMean.c -o gridMean.o
gridMean.c: In function 'gridMGCmean_c':
gridMean.c:10:63: warning: unused variable 'counter' [-Wunused-variable]
10 | R_len_t ng=REAL(ngrid)[0],k,i,j,l,ind[4],n=length(map),newG,counter;
| ^~~~~~~
gridMean.c: In function 'gridMmean_c':
gridMean.c:177:63: warning: unused variable 'counter' [-Wunused-variable]
177 | R_len_t ng=REAL(ngrid)[0],k,i,j,l,ind[2],n=length(map),newG,counter;
| ^~~~~~~
gcc -I"F:/biocbuild/bbs-3.17-bioc/R/include" -DNDEBUG -I"C:/rtools43/x86_64-w64-mingw32.static.posix/include" -O2 -Wall -mfpmath=sse -msse2 -mstackrealign -c gridMode.c -o gridMode.o
gcc -I"F:/biocbuild/bbs-3.17-bioc/R/include" -DNDEBUG -I"C:/rtools43/x86_64-w64-mingw32.static.posix/include" -O2 -Wall -mfpmath=sse -msse2 -mstackrealign -c gridNonpa.c -o gridNonpa.o
gcc -I"F:/biocbuild/bbs-3.17-bioc/R/include" -DNDEBUG -I"C:/rtools43/x86_64-w64-mingw32.static.posix/include" -O2 -Wall -mfpmath=sse -msse2 -mstackrealign -c gridSample.c -o gridSample.o
gcc -I"F:/biocbuild/bbs-3.17-bioc/R/include" -DNDEBUG -I"C:/rtools43/x86_64-w64-mingw32.static.posix/include" -O2 -Wall -mfpmath=sse -msse2 -mstackrealign -c tag2bin.c -o tag2bin.o
gcc -shared -s -static-libgcc -o CSSP.dll tmp.def bincount.o binpower.o gridLogMean.o gridMGC.o gridMean.o gridMode.o gridNonpa.o gridSample.o tag2bin.o -LC:/rtools43/x86_64-w64-mingw32.static.posix/lib/x64 -LC:/rtools43/x86_64-w64-mingw32.static.posix/lib -LF:/biocbuild/bbs-3.17-bioc/R/bin/x64 -lR
installing to F:/biocbuild/bbs-3.17-bioc/meat/CSSP.buildbin-libdir/00LOCK-CSSP/00new/CSSP/libs/x64
** R
** data
** inst
** byte-compile and prepare package for lazy loading
** help
*** installing help indices
** building package indices
** installing vignettes
** testing if installed package can be loaded from temporary location
** testing if installed package can be loaded from final location
** testing if installed package keeps a record of temporary installation path
* MD5 sums
packaged installation of 'CSSP' as CSSP_1.37.0.zip
* DONE (CSSP)