| Back to Multiple platform build/check report for BioC 3.17:   simplified   long |  | 
This page was generated on 2023-10-16 11:35:16 -0400 (Mon, 16 Oct 2023).
| Hostname | OS | Arch (*) | R version | Installed pkgs | 
|---|
| nebbiolo1 | Linux (Ubuntu 22.04.2 LTS) | x86_64 | 4.3.1 (2023-06-16) -- "Beagle Scouts" | 4626 | 
| palomino3 | Windows Server 2022 Datacenter | x64 | 4.3.1 (2023-06-16 ucrt) -- "Beagle Scouts" | 4379 | 
| merida1 | macOS 12.6.4 Monterey | x86_64 | 4.3.1 (2023-06-16) -- "Beagle Scouts" | 4395 | 
| Click on any hostname to see more info about the system (e.g. compilers)      (*) as reported by 'uname -p', except on Windows and Mac OS X | 
|  | COMPASS 1.38.1  (landing page) Greg Finak
 
 
| Snapshot Date: 2023-10-15 14:00:13 -0400 (Sun, 15 Oct 2023) |  | git_url: https://git.bioconductor.org/packages/COMPASS |  | git_branch: RELEASE_3_17 |  | git_last_commit: f7a6cd5 |  | git_last_commit_date: 2023-05-01 20:03:56 -0400 (Mon, 01 May 2023) |  | nebbiolo1 | Linux (Ubuntu 22.04.2 LTS) / x86_64 | OK | OK | OK |  |  |  | 
|  | palomino3 | Windows Server 2022 Datacenter / x64 | OK | OK | OK | OK |  |  | 
|  | merida1 | macOS 12.6.4 Monterey / x86_64 | OK | OK | OK | OK |  |  | 
|  | kjohnson2 | macOS 12.6.1 Monterey / arm64 | see weekly results here |  | 
BUILD results for COMPASS on nebbiolo1
| To the developers/maintainers of the COMPASS package: - Allow up to 24 hours (and sometimes 48 hours) for your latest push to git@git.bioconductor.org:packages/COMPASS.git to reflect on this report. See Troubleshooting Build Report for more information.
 - Use the following Renviron settings to reproduce errors and warnings.
 - If 'R CMD check' started to fail recently on the Linux builder(s) over a missing dependency, add the missing dependency to 'Suggests:' in your DESCRIPTION file. See Renviron.bioc for more information.
 
 | 
 
raw results
Summary
Command output