| Back to Multiple platform build/check report for BioC 3.17: simplified long |
|
This page was generated on 2023-10-16 11:35:13 -0400 (Mon, 16 Oct 2023).
| Hostname | OS | Arch (*) | R version | Installed pkgs |
|---|---|---|---|---|
| nebbiolo1 | Linux (Ubuntu 22.04.2 LTS) | x86_64 | 4.3.1 (2023-06-16) -- "Beagle Scouts" | 4626 |
| palomino3 | Windows Server 2022 Datacenter | x64 | 4.3.1 (2023-06-16 ucrt) -- "Beagle Scouts" | 4379 |
| merida1 | macOS 12.6.4 Monterey | x86_64 | 4.3.1 (2023-06-16) -- "Beagle Scouts" | 4395 |
| Click on any hostname to see more info about the system (e.g. compilers) (*) as reported by 'uname -p', except on Windows and Mac OS X | ||||
| Package 213/2230 | Hostname | OS / Arch | INSTALL | BUILD | CHECK | BUILD BIN | ||||||||
| BioNetStat 1.20.0 (landing page) Vinicius Jardim
| nebbiolo1 | Linux (Ubuntu 22.04.2 LTS) / x86_64 | OK | OK | OK | |||||||||
| palomino3 | Windows Server 2022 Datacenter / x64 | OK | OK | OK | OK | |||||||||
| merida1 | macOS 12.6.4 Monterey / x86_64 | OK | OK | OK | OK | |||||||||
| kjohnson2 | macOS 12.6.1 Monterey / arm64 | see weekly results here | ||||||||||||
|
To the developers/maintainers of the BioNetStat package: - Allow up to 24 hours (and sometimes 48 hours) for your latest push to git@git.bioconductor.org:packages/BioNetStat.git to reflect on this report. See Troubleshooting Build Report for more information. - Use the following Renviron settings to reproduce errors and warnings. - If 'R CMD check' started to fail recently on the Linux builder(s) over a missing dependency, add the missing dependency to 'Suggests:' in your DESCRIPTION file. See Renviron.bioc for more information. |
| Package: BioNetStat |
| Version: 1.20.0 |
| Command: /home/biocbuild/bbs-3.17-bioc/R/bin/R CMD check --install=check:BioNetStat.install-out.txt --library=/home/biocbuild/bbs-3.17-bioc/R/site-library --timings BioNetStat_1.20.0.tar.gz |
| StartedAt: 2023-10-15 19:37:48 -0400 (Sun, 15 Oct 2023) |
| EndedAt: 2023-10-15 19:40:33 -0400 (Sun, 15 Oct 2023) |
| EllapsedTime: 165.2 seconds |
| RetCode: 0 |
| Status: OK |
| CheckDir: BioNetStat.Rcheck |
| Warnings: 0 |
##############################################################################
##############################################################################
###
### Running command:
###
### /home/biocbuild/bbs-3.17-bioc/R/bin/R CMD check --install=check:BioNetStat.install-out.txt --library=/home/biocbuild/bbs-3.17-bioc/R/site-library --timings BioNetStat_1.20.0.tar.gz
###
##############################################################################
##############################################################################
* using log directory ‘/home/biocbuild/bbs-3.17-bioc/meat/BioNetStat.Rcheck’
* using R version 4.3.1 (2023-06-16)
* using platform: x86_64-pc-linux-gnu (64-bit)
* R was compiled by
gcc (Ubuntu 11.3.0-1ubuntu1~22.04.1) 11.3.0
GNU Fortran (Ubuntu 11.3.0-1ubuntu1~22.04.1) 11.3.0
* running under: Ubuntu 22.04.3 LTS
* using session charset: UTF-8
* checking for file ‘BioNetStat/DESCRIPTION’ ... OK
* checking extension type ... Package
* this is package ‘BioNetStat’ version ‘1.20.0’
* package encoding: UTF-8
* checking package namespace information ... OK
* checking package dependencies ... OK
* checking if this is a source package ... OK
* checking if there is a namespace ... OK
* checking for hidden files and directories ... OK
* checking for portable file names ... OK
* checking for sufficient/correct file permissions ... OK
* checking whether package ‘BioNetStat’ can be installed ... OK
* checking installed package size ... OK
* checking package directory ... OK
* checking ‘build’ directory ... OK
* checking DESCRIPTION meta-information ... OK
* checking top-level files ... OK
* checking for left-over files ... OK
* checking index information ... OK
* checking package subdirectories ... NOTE
Found the following CITATION file in a non-standard place:
CITATION
Most likely ‘inst/CITATION’ should be used instead.
* checking R files for non-ASCII characters ... OK
* checking R files for syntax errors ... OK
* checking whether the package can be loaded ... OK
* checking whether the package can be loaded with stated dependencies ... OK
* checking whether the package can be unloaded cleanly ... OK
* checking whether the namespace can be loaded with stated dependencies ... OK
* checking whether the namespace can be unloaded cleanly ... OK
* checking loading without being on the library search path ... OK
* checking dependencies in R code ... NOTE
Namespaces in Imports field not imported from:
‘BiocParallel’ ‘RColorBrewer’ ‘RJSONIO’ ‘ggplot2’ ‘knitr’ ‘markdown’
‘pheatmap’ ‘plyr’ ‘rmarkdown’ ‘stats’ ‘utils’ ‘whisker’ ‘yaml’
All declared Imports should be used.
Packages in Depends field not imported from:
‘DT’ ‘shiny’ ‘shinyBS’
These packages need to be imported from (in the NAMESPACE file)
for when this namespace is loaded but not attached.
* checking S3 generic/method consistency ... OK
* checking replacement functions ... OK
* checking foreign function calls ... OK
* checking R code for possible problems ... NOTE
adjacencyMatrix : <anonymous>: no visible global function definition
for ‘cor’
adjacencyMatrix : <anonymous>: no visible global function definition
for ‘p.adjust’
betweennessCentralityTest: no visible global function definition for
‘bplapply’
betweennessCentralityVertexTest: no visible global function definition
for ‘bplapply’
closenessCentralityTest: no visible global function definition for
‘bplapply’
closenessCentralityVertexTest: no visible global function definition
for ‘bplapply’
clusteringCoefficientTest : <anonymous>: no visible global function
definition for ‘dist’
clusteringCoefficientTest : <anonymous> : <anonymous>: no visible
global function definition for ‘dist’
clusteringCoefficientTest: no visible global function definition for
‘bplapply’
clusteringCoefficientVertexTest: no visible global function definition
for ‘bplapply’
degreeCentralityTest: no visible global function definition for
‘bplapply’
degreeCentralityVertexTest: no visible global function definition for
‘bplapply’
degreeDistributionTest: no visible global function definition for
‘bplapply’
diffNetAnalysis: no visible binding for global variable ‘expr’
diffNetAnalysis: no visible global function definition for ‘p.adjust’
doLabels: no visible global function definition for ‘read.csv’
edgeBetweennessEdgeTest: no visible global function definition for
‘bplapply’
edgeBetweennessTest: no visible global function definition for
‘bplapply’
edgesResInt : <anonymous>: no visible global function definition for
‘dist’
eigenvectorCentralityTest: no visible global function definition for
‘bplapply’
eigenvectorCentralityVertexTest: no visible global function definition
for ‘bplapply’
gaussianDensity: no visible global function definition for ‘bw.nrd0’
gaussianDensity: no visible global function definition for ‘density’
pathPlot: no visible binding for global variable ‘median’
readVarFile: no visible global function definition for ‘read.table’
resInt : <anonymous>: no visible global function definition for ‘dist’
retEdgesTable: no visible global function definition for ‘p.adjust’
retTable: no visible global function definition for ‘p.adjust’
spectralDistributionTest: no visible global function definition for
‘bplapply’
spectralEntropyTest: no visible global function definition for
‘bplapply’
var.list: no visible global function definition for ‘aggregate’
Undefined global functions or variables:
aggregate bplapply bw.nrd0 cor density dist expr median p.adjust
read.csv read.table
Consider adding
importFrom("stats", "aggregate", "bw.nrd0", "cor", "density", "dist",
"median", "p.adjust")
importFrom("utils", "read.csv", "read.table")
to your NAMESPACE file.
* checking Rd files ... NOTE
checkRd: (-1) centralityPathPlot.Rd:47: Escaped LaTeX specials: \#
* checking Rd metadata ... OK
* checking Rd cross-references ... OK
* checking for missing documentation entries ... OK
* checking for code/documentation mismatches ... OK
* checking Rd \usage sections ... OK
* checking Rd contents ... OK
* checking for unstated dependencies in examples ... OK
* checking contents of ‘data’ directory ... OK
* checking data for non-ASCII characters ... OK
* checking data for ASCII and uncompressed saves ... OK
* checking files in ‘vignettes’ ... OK
* checking examples ... OK
Examples with CPU (user + system) or elapsed time > 5s
user system elapsed
networkTest 13.014 0.288 13.301
centralityPathPlot 7.450 1.195 13.960
pathPlot 5.874 0.912 6.785
* checking for unstated dependencies in vignettes ... OK
* checking package vignettes in ‘inst/doc’ ... OK
* checking running R code from vignettes ...
‘BNS_tutorial_by_command_line_pt.Rmd’ using ‘UTF-8’... OK
‘BNS_tutorial_by_command_line_us.Rmd’ using ‘UTF-8’... OK
‘vignette.Rmd’ using ‘UTF-8’... OK
NONE
* checking re-building of vignette outputs ... OK
* checking PDF version of manual ... OK
* DONE
Status: 4 NOTEs
See
‘/home/biocbuild/bbs-3.17-bioc/meat/BioNetStat.Rcheck/00check.log’
for details.
BioNetStat.Rcheck/00install.out
############################################################################## ############################################################################## ### ### Running command: ### ### /home/biocbuild/bbs-3.17-bioc/R/bin/R CMD INSTALL BioNetStat ### ############################################################################## ############################################################################## * installing to library ‘/home/biocbuild/bbs-3.17-bioc/R/site-library’ * installing *source* package ‘BioNetStat’ ... ** using staged installation ** R ** data ** inst ** byte-compile and prepare package for lazy loading ** help *** installing help indices ** building package indices ** installing vignettes ** testing if installed package can be loaded from temporary location ** testing if installed package can be loaded from final location ** testing if installed package keeps a record of temporary installation path * DONE (BioNetStat)
BioNetStat.Rcheck/BioNetStat-Ex.timings
| name | user | system | elapsed | |
| KLdegree | 0.014 | 0.000 | 0.013 | |
| KLspectrum | 1.312 | 0.108 | 1.420 | |
| adjacencyMatrix | 0.001 | 0.000 | 0.001 | |
| centralityPathPlot | 7.450 | 1.195 | 13.960 | |
| diffNetAnalysis | 1.999 | 0.091 | 2.092 | |
| doLabels | 0.088 | 0.000 | 0.088 | |
| edgeTest | 0.061 | 0.004 | 0.065 | |
| labels | 0.001 | 0.000 | 0.002 | |
| nDegreeDensities | 0.057 | 0.004 | 0.061 | |
| nSpectralDensities | 0.101 | 0.004 | 0.104 | |
| networkFeature | 0.070 | 0.000 | 0.069 | |
| networkTest | 13.014 | 0.288 | 13.301 | |
| nodeScores | 0.057 | 0.012 | 0.068 | |
| nodeTest | 0.091 | 0.004 | 0.095 | |
| pathPlot | 5.874 | 0.912 | 6.785 | |
| readSetFile | 0.059 | 0.000 | 0.061 | |
| readVarFile | 0.078 | 0.007 | 0.085 | |
| runBioNetStat | 0.001 | 0.000 | 0.000 | |
| varFile | 0.007 | 0.000 | 0.007 | |