| Back to Multiple platform build/check report for BioC 3.17: simplified long |
|
This page was generated on 2023-03-16 11:06:47 -0400 (Thu, 16 Mar 2023).
| Hostname | OS | Arch (*) | R version | Installed pkgs |
|---|---|---|---|---|
| nebbiolo1 | Linux (Ubuntu 22.04.1 LTS) | x86_64 | R Under development (unstable) (2023-01-10 r83596) -- "Unsuffered Consequences" | 4540 |
| palomino3 | Windows Server 2022 Datacenter | x64 | R Under development (unstable) (2023-01-10 r83596 ucrt) -- "Unsuffered Consequences" | 4302 |
| merida1 | macOS 10.14.6 Mojave | x86_64 | R Under development (unstable) (2023-01-10 r83596) -- "Unsuffered Consequences" | 4330 |
| Click on any hostname to see more info about the system (e.g. compilers) (*) as reported by 'uname -p', except on Windows and Mac OS X | ||||
|
To the developers/maintainers of the ASEB package: - Please allow up to 24 hours (and sometimes 48 hours) for your latest push to git@git.bioconductor.org:packages/ASEB.git to reflect on this report. See How and When does the builder pull? When will my changes propagate? for more information. - Make sure to use the following settings in order to reproduce any error or warning you see on this page. |
| Package 95/2189 | Hostname | OS / Arch | INSTALL | BUILD | CHECK | BUILD BIN | ||||||||
| ASEB 1.43.0 (landing page) Likun Wang
| nebbiolo1 | Linux (Ubuntu 22.04.1 LTS) / x86_64 | OK | OK | WARNINGS | |||||||||
| palomino3 | Windows Server 2022 Datacenter / x64 | OK | OK | OK | OK | |||||||||
| merida1 | macOS 10.14.6 Mojave / x86_64 | OK | OK | WARNINGS | OK | |||||||||
| Package: ASEB |
| Version: 1.43.0 |
| Command: rm -rf ASEB.buildbin-libdir && mkdir ASEB.buildbin-libdir && /Users/biocbuild/BBS/utils/build-universal.sh ASEB_1.43.0.tar.gz /Library/Frameworks/R.framework/Resources/bin/R ASEB.buildbin-libdir |
| StartedAt: 2023-03-16 08:45:35 -0400 (Thu, 16 Mar 2023) |
| EndedAt: 2023-03-16 08:45:56 -0400 (Thu, 16 Mar 2023) |
| EllapsedTime: 21.0 seconds |
| RetCode: 0 |
| Status: OK |
| PackageFile: ASEB_1.43.0.tgz |
| PackageFileSize: 770.2 KiB |
##############################################################################
##############################################################################
###
### Running command:
###
### rm -rf ASEB.buildbin-libdir && mkdir ASEB.buildbin-libdir && /Users/biocbuild/BBS/utils/build-universal.sh ASEB_1.43.0.tar.gz /Library/Frameworks/R.framework/Resources/bin/R ASEB.buildbin-libdir
###
##############################################################################
##############################################################################
>>>>>>>
>>>>>>> INSTALLATION WITH 'R CMD INSTALL --preclean --no-multiarch --library=ASEB.buildbin-libdir ASEB_1.43.0.tar.gz'
>>>>>>>
* installing *source* package ‘ASEB’ ...
** using staged installation
** libs
using C++ compiler: ‘Apple clang version 11.0.0 (clang-1100.0.33.17)’
using SDK: ‘’
clang++ -mmacosx-version-min=10.13 -std=gnu++14 -I"/Library/Frameworks/R.framework/Resources/include" -DNDEBUG -I/usr/local/include -fPIC -Wall -g -O2 -c asebC.cpp -o asebC.o
asebC.cpp:422:4: warning: 'random_shuffle<std::__1::__wrap_iter<int *> >' is deprecated [-Wdeprecated-declarations]
random_shuffle(indexes.begin(), indexes.end()); // 2022/01/27
^
/Library/Developer/CommandLineTools/usr/bin/../include/c++/v1/algorithm:2982:1: note: 'random_shuffle<std::__1::__wrap_iter<int *> >' has been explicitly marked deprecated here
_LIBCPP_DEPRECATED_IN_CXX14 void
^
/Library/Developer/CommandLineTools/usr/bin/../include/c++/v1/__config:1107:39: note: expanded from macro '_LIBCPP_DEPRECATED_IN_CXX14'
# define _LIBCPP_DEPRECATED_IN_CXX14 _LIBCPP_DEPRECATED
^
/Library/Developer/CommandLineTools/usr/bin/../include/c++/v1/__config:1090:48: note: expanded from macro '_LIBCPP_DEPRECATED'
# define _LIBCPP_DEPRECATED __attribute__ ((deprecated))
^
1 warning generated.
clang++ -mmacosx-version-min=10.13 -std=gnu++14 -dynamiclib -Wl,-headerpad_max_install_names -undefined dynamic_lookup -single_module -multiply_defined suppress -L/Library/Frameworks/R.framework/Resources/lib -L/usr/local/lib -o ASEB.so asebC.o -F/Library/Frameworks/R.framework/.. -framework R -Wl,-framework -Wl,CoreFoundation
installing to /Users/biocbuild/bbs-3.17-bioc/meat/ASEB.buildbin-libdir/00LOCK-ASEB/00new/ASEB/libs
** R
** inst
** byte-compile and prepare package for lazy loading
** help
*** installing help indices
** building package indices
** installing vignettes
** testing if installed package can be loaded from temporary location
** checking absolute paths in shared objects and dynamic libraries
** testing if installed package can be loaded from final location
** testing if installed package keeps a record of temporary installation path
* DONE (ASEB)
>>>>>>>
>>>>>>> FIXING LINKS FOR ASEB.buildbin-libdir/ASEB/libs/ASEB.so
>>>>>>>
install_name_tool -change "/usr/local/lib/libgcc_s.1.dylib" "/Library/Frameworks/R.framework/Versions/4.3/Resources/lib/libgcc_s.1.dylib" "ASEB.buildbin-libdir/ASEB/libs/ASEB.so"
install_name_tool -change "/usr/local/lib/libgfortran.5.dylib" "/Library/Frameworks/R.framework/Versions/4.3/Resources/lib/libgfortran.5.dylib" "ASEB.buildbin-libdir/ASEB/libs/ASEB.so"
install_name_tool -change "/usr/local/lib/libquadmath.0.dylib" "/Library/Frameworks/R.framework/Versions/4.3/Resources/lib/libquadmath.0.dylib" "ASEB.buildbin-libdir/ASEB/libs/ASEB.so"